Back to Multiple platform build/check report for BioC 3.13 experimental data
ABCDEFG[H]IJKLMNOPQRSTUVWXYZ

BUILD report for HiCDataHumanIMR90 on riesling1

This page was generated on 2021-01-18 15:58:48 -0500 (Mon, 18 Jan 2021).

TO THE DEVELOPERS/MAINTAINERS OF THE HiCDataHumanIMR90 PACKAGE: Please make sure to use the following settings in order to reproduce any error or warning you see on this page.
Package 172/385HostnameOS / ArchINSTALLBUILDCHECK
HiCDataHumanIMR90 1.11.0
Nicolas Servant
Snapshot Date: 2021-01-18 09:00:15 -0500 (Mon, 18 Jan 2021)
URL: https://git.bioconductor.org/packages/HiCDataHumanIMR90
Branch: master
Last Commit: fb856ba
Last Changed Date: 2020-10-27 10:09:47 -0500 (Tue, 27 Oct 2020)
malbec2 Linux (Ubuntu 20.04.1 LTS) / x86_64  OK  OK  OK UNNEEDED, same version exists in internal repository
riesling1 Windows Server 2019 Standard / x64  OK [ OK ] OK 

Summary

Package: HiCDataHumanIMR90
Version: 1.11.0
Command: chmod a+r HiCDataHumanIMR90 -R && D:\biocbuild\bbs-3.13-bioc\R\bin\R.exe CMD build --keep-empty-dirs --no-resave-data HiCDataHumanIMR90
StartedAt: 2021-01-18 10:44:15 -0500 (Mon, 18 Jan 2021)
EndedAt: 2021-01-18 10:45:18 -0500 (Mon, 18 Jan 2021)
EllapsedTime: 63.0 seconds
RetCode: 0
Status:  OK  
PackageFile: HiCDataHumanIMR90_1.11.0.tar.gz
PackageFileSize: 65.73 MiB

Command output

##############################################################################
##############################################################################
###
### Running command:
###
###   chmod a+r HiCDataHumanIMR90 -R && D:\biocbuild\bbs-3.13-bioc\R\bin\R.exe CMD build --keep-empty-dirs --no-resave-data HiCDataHumanIMR90
###
##############################################################################
##############################################################################


* checking for file 'HiCDataHumanIMR90/DESCRIPTION' ... OK
* preparing 'HiCDataHumanIMR90':
* checking DESCRIPTION meta-information ... OK
* installing the package to build vignettes
* creating vignettes ... OK
* checking for LF line-endings in source and make files and shell scripts
* checking for empty or unneeded directories
* looking to see if a 'data/datalist' file should be added
* building 'HiCDataHumanIMR90_1.11.0.tar.gz'