Back to Multiple platform build/check report for BioC 3.13 experimental data
ABCDEFG[H]IJKLMNOPQRSTUVWXYZ

CHECK report for HelloRangesData on riesling1

This page was generated on 2021-01-21 16:01:30 -0500 (Thu, 21 Jan 2021).

TO THE DEVELOPERS/MAINTAINERS OF THE HelloRangesData PACKAGE: Please make sure to use the following settings in order to reproduce any error or warning you see on this page.
Package 167/386HostnameOS / ArchINSTALLBUILDCHECK
HelloRangesData 1.17.0
Michael Lawrence
Snapshot Date: 2021-01-21 09:00:14 -0500 (Thu, 21 Jan 2021)
URL: https://git.bioconductor.org/packages/HelloRangesData
Branch: master
Last Commit: 1c60d59
Last Changed Date: 2020-10-27 10:21:52 -0500 (Tue, 27 Oct 2020)
malbec2 Linux (Ubuntu 20.04.1 LTS) / x86_64  OK  OK  OK UNNEEDED, same version exists in internal repository
riesling1 Windows Server 2019 Standard / x64  OK  OK [ OK ]

Summary

Package: HelloRangesData
Version: 1.17.0
Command: D:\biocbuild\bbs-3.13-bioc\R\bin\R.exe CMD check --force-multiarch --install=check:HelloRangesData.install-out.txt --library=D:\biocbuild\bbs-3.13-bioc\R\library --no-vignettes --timings HelloRangesData_1.17.0.tar.gz
StartedAt: 2021-01-21 11:27:04 -0500 (Thu, 21 Jan 2021)
EndedAt: 2021-01-21 11:27:20 -0500 (Thu, 21 Jan 2021)
EllapsedTime: 15.2 seconds
RetCode: 0
Status:  OK  
CheckDir: HelloRangesData.Rcheck
Warnings: 0

Command output

##############################################################################
##############################################################################
###
### Running command:
###
###   D:\biocbuild\bbs-3.13-bioc\R\bin\R.exe CMD check --force-multiarch --install=check:HelloRangesData.install-out.txt --library=D:\biocbuild\bbs-3.13-bioc\R\library --no-vignettes --timings HelloRangesData_1.17.0.tar.gz
###
##############################################################################
##############################################################################


* using log directory 'D:/biocbuild/bbs-3.13-data-experiment/meat/HelloRangesData.Rcheck'
* using R Under development (unstable) (2020-12-30 r79736)
* using platform: x86_64-w64-mingw32 (64-bit)
* using session charset: ISO8859-1
* using option '--no-vignettes'
* checking for file 'HelloRangesData/DESCRIPTION' ... OK
* checking extension type ... Package
* this is package 'HelloRangesData' version '1.17.0'
* checking package namespace information ... OK
* checking package dependencies ... OK
* checking if this is a source package ... OK
* checking if there is a namespace ... OK
* checking for hidden files and directories ... OK
* checking for portable file names ... OK
* checking whether package 'HelloRangesData' can be installed ... OK
* checking installed package size ... NOTE
  installed size is 163.9Mb
  sub-directories of 1Mb or more:
    extdata  163.8Mb
* checking package directory ... OK
* checking 'build' directory ... OK
* checking DESCRIPTION meta-information ... OK
* checking top-level files ... OK
* checking for left-over files ... OK
* checking index information ... OK
* checking package subdirectories ... OK
* loading checks for arch 'i386'
** checking whether the package can be loaded ... OK
** checking whether the package can be loaded with stated dependencies ... OK
** checking whether the package can be unloaded cleanly ... OK
** checking whether the namespace can be loaded with stated dependencies ... OK
** checking whether the namespace can be unloaded cleanly ... OK
* loading checks for arch 'x64'
** checking whether the package can be loaded ... OK
** checking whether the package can be loaded with stated dependencies ... OK
** checking whether the package can be unloaded cleanly ... OK
** checking whether the namespace can be loaded with stated dependencies ... OK
** checking whether the namespace can be unloaded cleanly ... OK
* checking files in 'vignettes' ... OK
* checking examples ... NONE
* checking for unstated dependencies in vignettes ... OK
* checking package vignettes in 'inst/doc' ... OK
* checking running R code from vignettes ... SKIPPED
* checking re-building of vignette outputs ... SKIPPED
* checking PDF version of manual ... OK
* DONE

Status: 1 NOTE
See
  'D:/biocbuild/bbs-3.13-data-experiment/meat/HelloRangesData.Rcheck/00check.log'
for details.



Installation output

HelloRangesData.Rcheck/00install.out

##############################################################################
##############################################################################
###
### Running command:
###
###   C:\cygwin\bin\curl.exe -O http://172.29.0.4/BBS/3.13/data-experiment/src/contrib/HelloRangesData_1.17.0.tar.gz && rm -rf HelloRangesData.buildbin-libdir && mkdir HelloRangesData.buildbin-libdir && D:\biocbuild\bbs-3.13-bioc\R\bin\R.exe CMD INSTALL --merge-multiarch --build --library=HelloRangesData.buildbin-libdir HelloRangesData_1.17.0.tar.gz && D:\biocbuild\bbs-3.13-bioc\R\bin\R.exe CMD INSTALL HelloRangesData_1.17.0.zip && rm HelloRangesData_1.17.0.tar.gz HelloRangesData_1.17.0.zip
###
##############################################################################
##############################################################################


  % Total    % Received % Xferd  Average Speed   Time    Time     Time  Current
                                 Dload  Upload   Total   Spent    Left  Speed

  0     0    0     0    0     0      0      0 --:--:-- --:--:-- --:--:--     0
  0 45.8M    0  463k    0     0   673k      0  0:01:09 --:--:--  0:01:09  673k
  6 45.8M    6 3025k    0     0  1953k      0  0:00:24  0:00:01  0:00:23 1951k
 15 45.8M   15 7442k    0     0  2911k      0  0:00:16  0:00:02  0:00:14 2911k
 47 45.8M   47 21.8M    0     0  6112k      0  0:00:07  0:00:03  0:00:04 6111k
 54 45.8M   54 24.7M    0     0  5573k      0  0:00:08  0:00:04  0:00:04 5572k
 65 45.8M   65 30.2M    0     0  5403k      0  0:00:08  0:00:05  0:00:03 6048k
 85 45.8M   85 39.2M    0     0  5975k      0  0:00:07  0:00:06  0:00:01 7179k
 91 45.8M   91 42.1M    0     0  5679k      0  0:00:08  0:00:07  0:00:01 7084k
100 45.8M  100 45.8M    0     0  6117k      0  0:00:07  0:00:07 --:--:-- 6123k

install for i386

* installing *source* package 'HelloRangesData' ...
** using staged installation
** inst
** help
No man pages found in package  'HelloRangesData' 
*** installing help indices
** building package indices
** installing vignettes
** testing if installed package can be loaded from temporary location
** testing if installed package can be loaded from final location
** testing if installed package keeps a record of temporary installation path

install for x64

* installing *source* package 'HelloRangesData' ...
** testing if installed package can be loaded
* MD5 sums
packaged installation of 'HelloRangesData' as HelloRangesData_1.17.0.zip
* DONE (HelloRangesData)
* installing to library 'D:/biocbuild/bbs-3.13-bioc/R/library'
package 'HelloRangesData' successfully unpacked and MD5 sums checked

Tests output


Example timings