Back to Multiple platform build/check report for BioC 3.13 experimental data
ABCDEFG[H]IJKLMNOPQRSTUVWXYZ

INSTALL report for HarmanData on riesling1

This page was generated on 2021-01-21 16:01:29 -0500 (Thu, 21 Jan 2021).

TO THE DEVELOPERS/MAINTAINERS OF THE HarmanData PACKAGE: Please make sure to use the following settings in order to reproduce any error or warning you see on this page.
Package 160/386HostnameOS / ArchINSTALLBUILDCHECK
HarmanData 1.19.0
Jason Ross
Snapshot Date: 2021-01-21 09:00:14 -0500 (Thu, 21 Jan 2021)
URL: https://git.bioconductor.org/packages/HarmanData
Branch: master
Last Commit: c1f1c69
Last Changed Date: 2020-10-27 10:19:05 -0500 (Tue, 27 Oct 2020)
malbec2 Linux (Ubuntu 20.04.1 LTS) / x86_64  OK  OK  OK UNNEEDED, same version exists in internal repository
riesling1 Windows Server 2019 Standard / x64 [ OK ] OK  OK 

Summary

Package: HarmanData
Version: 1.19.0
Command: C:\cygwin\bin\curl.exe -O http://172.29.0.4/BBS/3.13/data-experiment/src/contrib/HarmanData_1.19.0.tar.gz && rm -rf HarmanData.buildbin-libdir && mkdir HarmanData.buildbin-libdir && D:\biocbuild\bbs-3.13-bioc\R\bin\R.exe CMD INSTALL --merge-multiarch --build --library=HarmanData.buildbin-libdir HarmanData_1.19.0.tar.gz && D:\biocbuild\bbs-3.13-bioc\R\bin\R.exe CMD INSTALL HarmanData_1.19.0.zip && rm HarmanData_1.19.0.tar.gz HarmanData_1.19.0.zip
StartedAt: 2021-01-21 09:51:46 -0500 (Thu, 21 Jan 2021)
EndedAt: 2021-01-21 09:51:53 -0500 (Thu, 21 Jan 2021)
EllapsedTime: 7.6 seconds
RetCode: 0
Status:  OK  

Command output

##############################################################################
##############################################################################
###
### Running command:
###
###   C:\cygwin\bin\curl.exe -O http://172.29.0.4/BBS/3.13/data-experiment/src/contrib/HarmanData_1.19.0.tar.gz && rm -rf HarmanData.buildbin-libdir && mkdir HarmanData.buildbin-libdir && D:\biocbuild\bbs-3.13-bioc\R\bin\R.exe CMD INSTALL --merge-multiarch --build --library=HarmanData.buildbin-libdir HarmanData_1.19.0.tar.gz && D:\biocbuild\bbs-3.13-bioc\R\bin\R.exe CMD INSTALL HarmanData_1.19.0.zip && rm HarmanData_1.19.0.tar.gz HarmanData_1.19.0.zip
###
##############################################################################
##############################################################################


  % Total    % Received % Xferd  Average Speed   Time    Time     Time  Current
                                 Dload  Upload   Total   Spent    Left  Speed

  0     0    0     0    0     0      0      0 --:--:-- --:--:-- --:--:--     0
 24 8571k   24 2082k    0     0  2192k      0  0:00:03 --:--:--  0:00:03 2190k
 55 8571k   55 4786k    0     0  2530k      0  0:00:03  0:00:01  0:00:02 2529k
100 8571k  100 8571k    0     0  4070k      0  0:00:02  0:00:02 --:--:-- 4070k

install for i386

* installing *source* package 'HarmanData' ...
** using staged installation
** R
** data
*** moving datasets to lazyload DB
** inst
** byte-compile and prepare package for lazy loading
** help
*** installing help indices
  converting help for package 'HarmanData'
    finding HTML links ... done
    IMR90                                   html  
REDIRECT:topic	 IMR90 -> IMR90.html [ SUCCESS ]
REDIRECT:topic	 imr90.data -> IMR90.html [ SUCCESS ]
REDIRECT:topic	 imr90.info -> IMR90.html [ SUCCESS ]
    NPM                                     html  
REDIRECT:topic	 NPM -> NPM.html [ SUCCESS ]
REDIRECT:topic	 npm.data -> NPM.html [ SUCCESS ]
REDIRECT:topic	 npm.info -> NPM.html [ SUCCESS ]
    OLF                                     html  
REDIRECT:topic	 OLF -> OLF.html [ SUCCESS ]
REDIRECT:topic	 olf.data -> OLF.html [ SUCCESS ]
REDIRECT:topic	 olf.info -> OLF.html [ SUCCESS ]
** building package indices
** installing vignettes
** testing if installed package can be loaded from temporary location
** testing if installed package can be loaded from final location
** testing if installed package keeps a record of temporary installation path

install for x64

* installing *source* package 'HarmanData' ...
** testing if installed package can be loaded
* MD5 sums
packaged installation of 'HarmanData' as HarmanData_1.19.0.zip
* DONE (HarmanData)
* installing to library 'D:/biocbuild/bbs-3.13-bioc/R/library'
package 'HarmanData' successfully unpacked and MD5 sums checked