Back to Multiple platform build/check report for BioC 3.13 experimental data
ABCDEFG[H]IJKLMNOPQRSTUVWXYZ

BUILD report for HarmanData on riesling1

This page was generated on 2021-01-21 16:01:29 -0500 (Thu, 21 Jan 2021).

TO THE DEVELOPERS/MAINTAINERS OF THE HarmanData PACKAGE: Please make sure to use the following settings in order to reproduce any error or warning you see on this page.
Package 160/386HostnameOS / ArchINSTALLBUILDCHECK
HarmanData 1.19.0
Jason Ross
Snapshot Date: 2021-01-21 09:00:14 -0500 (Thu, 21 Jan 2021)
URL: https://git.bioconductor.org/packages/HarmanData
Branch: master
Last Commit: c1f1c69
Last Changed Date: 2020-10-27 10:19:05 -0500 (Tue, 27 Oct 2020)
malbec2 Linux (Ubuntu 20.04.1 LTS) / x86_64  OK  OK  OK UNNEEDED, same version exists in internal repository
riesling1 Windows Server 2019 Standard / x64  OK [ OK ] OK 

Summary

Package: HarmanData
Version: 1.19.0
Command: chmod a+r HarmanData -R && D:\biocbuild\bbs-3.13-bioc\R\bin\R.exe CMD build --keep-empty-dirs --no-resave-data HarmanData
StartedAt: 2021-01-21 10:43:08 -0500 (Thu, 21 Jan 2021)
EndedAt: 2021-01-21 10:43:14 -0500 (Thu, 21 Jan 2021)
EllapsedTime: 6.1 seconds
RetCode: 0
Status:  OK  
PackageFile: HarmanData_1.19.0.tar.gz
PackageFileSize: 8.583 MiB

Command output

##############################################################################
##############################################################################
###
### Running command:
###
###   chmod a+r HarmanData -R && D:\biocbuild\bbs-3.13-bioc\R\bin\R.exe CMD build --keep-empty-dirs --no-resave-data HarmanData
###
##############################################################################
##############################################################################


* checking for file 'HarmanData/DESCRIPTION' ... OK
* preparing 'HarmanData':
* checking DESCRIPTION meta-information ... OK
* installing the package to build vignettes
* creating vignettes ... OK
* checking for LF line-endings in source and make files and shell scripts
* checking for empty or unneeded directories
* building 'HarmanData_1.19.0.tar.gz'