Back to Multiple platform build/check report for BioC 3.13 experimental data
ABCDEFG[H]IJKLMNOPQRSTUVWXYZ

INSTALL report for HSMMSingleCell on riesling1

This page was generated on 2021-01-14 15:59:08 -0500 (Thu, 14 Jan 2021).

TO THE DEVELOPERS/MAINTAINERS OF THE HSMMSingleCell PACKAGE: Please make sure to use the following settings in order to reproduce any error or warning you see on this page.
Package 180/385HostnameOS / ArchINSTALLBUILDCHECK
HSMMSingleCell 1.11.0
Cole Trapnell
Snapshot Date: 2021-01-14 09:00:13 -0500 (Thu, 14 Jan 2021)
URL: https://git.bioconductor.org/packages/HSMMSingleCell
Branch: master
Last Commit: 58c28c0
Last Changed Date: 2020-10-27 10:09:00 -0500 (Tue, 27 Oct 2020)
malbec2 Linux (Ubuntu 20.04.1 LTS) / x86_64  OK  OK  WARNINGS UNNEEDED, same version exists in internal repository
riesling1 Windows Server 2019 Standard / x64 [ OK ] OK  WARNINGS 

Summary

Package: HSMMSingleCell
Version: 1.11.0
Command: C:\cygwin\bin\curl.exe -O http://172.29.0.4/BBS/3.13/data-experiment/src/contrib/HSMMSingleCell_1.11.0.tar.gz && rm -rf HSMMSingleCell.buildbin-libdir && mkdir HSMMSingleCell.buildbin-libdir && D:\biocbuild\bbs-3.13-bioc\R\bin\R.exe CMD INSTALL --merge-multiarch --build --library=HSMMSingleCell.buildbin-libdir HSMMSingleCell_1.11.0.tar.gz && D:\biocbuild\bbs-3.13-bioc\R\bin\R.exe CMD INSTALL HSMMSingleCell_1.11.0.zip && rm HSMMSingleCell_1.11.0.tar.gz HSMMSingleCell_1.11.0.zip
StartedAt: 2021-01-14 09:57:18 -0500 (Thu, 14 Jan 2021)
EndedAt: 2021-01-14 09:57:37 -0500 (Thu, 14 Jan 2021)
EllapsedTime: 18.6 seconds
RetCode: 0
Status:  OK  

Command output

##############################################################################
##############################################################################
###
### Running command:
###
###   C:\cygwin\bin\curl.exe -O http://172.29.0.4/BBS/3.13/data-experiment/src/contrib/HSMMSingleCell_1.11.0.tar.gz && rm -rf HSMMSingleCell.buildbin-libdir && mkdir HSMMSingleCell.buildbin-libdir && D:\biocbuild\bbs-3.13-bioc\R\bin\R.exe CMD INSTALL --merge-multiarch --build --library=HSMMSingleCell.buildbin-libdir HSMMSingleCell_1.11.0.tar.gz && D:\biocbuild\bbs-3.13-bioc\R\bin\R.exe CMD INSTALL HSMMSingleCell_1.11.0.zip && rm HSMMSingleCell_1.11.0.tar.gz HSMMSingleCell_1.11.0.zip
###
##############################################################################
##############################################################################


  % Total    % Received % Xferd  Average Speed   Time    Time     Time  Current
                                 Dload  Upload   Total   Spent    Left  Speed

  0     0    0     0    0     0      0      0 --:--:-- --:--:-- --:--:--     0
100 16.0M  100 16.0M    0     0  38.5M      0 --:--:-- --:--:-- --:--:-- 38.5M

install for i386

* installing *source* package 'HSMMSingleCell' ...
** using staged installation
** R
** data
** byte-compile and prepare package for lazy loading
** help
*** installing help indices
  converting help for package 'HSMMSingleCell'
    finding HTML links ... done
    HSMM                                    html  
REDIRECT:topic	 HSMM -> HSMM.html [ SUCCESS ]
    HSMMSingleCell-package                  html  
REDIRECT:topic	 HSMMSingleCell-package -> HSMMSingleCell-package.html [ SUCCESS ]
REDIRECT:topic	 HSMMSingleCell -> HSMMSingleCell-package.html [ SUCCESS ]
** building package indices
** installing vignettes
** testing if installed package can be loaded from temporary location
** testing if installed package can be loaded from final location
** testing if installed package keeps a record of temporary installation path

install for x64

* installing *source* package 'HSMMSingleCell' ...
** testing if installed package can be loaded
* MD5 sums
packaged installation of 'HSMMSingleCell' as HSMMSingleCell_1.11.0.zip
* DONE (HSMMSingleCell)
* installing to library 'D:/biocbuild/bbs-3.13-bioc/R/library'
package 'HSMMSingleCell' successfully unpacked and MD5 sums checked