Back to Multiple platform build/check report for BioC 3.13 experimental data
ABCDEFG[H]IJKLMNOPQRSTUVWXYZ

BUILD report for HMP16SData on riesling1

This page was generated on 2021-01-14 15:59:08 -0500 (Thu, 14 Jan 2021).

TO THE DEVELOPERS/MAINTAINERS OF THE HMP16SData PACKAGE: Please make sure to use the following settings in order to reproduce any error or warning you see on this page.
Package 177/385HostnameOS / ArchINSTALLBUILDCHECK
HMP16SData 1.11.0
Lucas Schiffer
Snapshot Date: 2021-01-14 09:00:13 -0500 (Thu, 14 Jan 2021)
URL: https://git.bioconductor.org/packages/HMP16SData
Branch: master
Last Commit: 092364b
Last Changed Date: 2020-10-27 10:24:33 -0500 (Tue, 27 Oct 2020)
malbec2 Linux (Ubuntu 20.04.1 LTS) / x86_64  OK  OK  OK UNNEEDED, same version exists in internal repository
riesling1 Windows Server 2019 Standard / x64  OK [ OK ] WARNINGS 

Summary

Package: HMP16SData
Version: 1.11.0
Command: chmod a+r HMP16SData -R && D:\biocbuild\bbs-3.13-bioc\R\bin\R.exe CMD build --keep-empty-dirs --no-resave-data HMP16SData
StartedAt: 2021-01-14 10:41:27 -0500 (Thu, 14 Jan 2021)
EndedAt: 2021-01-14 10:43:22 -0500 (Thu, 14 Jan 2021)
EllapsedTime: 115.0 seconds
RetCode: 0
Status:  OK  
PackageFile: HMP16SData_1.11.0.tar.gz
PackageFileSize: 15.86 MiB

Command output

##############################################################################
##############################################################################
###
### Running command:
###
###   chmod a+r HMP16SData -R && D:\biocbuild\bbs-3.13-bioc\R\bin\R.exe CMD build --keep-empty-dirs --no-resave-data HMP16SData
###
##############################################################################
##############################################################################


* checking for file 'HMP16SData/DESCRIPTION' ... OK
* preparing 'HMP16SData':
* checking DESCRIPTION meta-information ... OK
* installing the package to build vignettes
* creating vignettes ... OK
* checking for LF line-endings in source and make files and shell scripts
* checking for empty or unneeded directories
* building 'HMP16SData_1.11.0.tar.gz'