Back to Multiple platform build/check report for BioC 3.13 experimental data
ABCDEFG[H]IJKLMNOPQRSTUVWXYZ

INSTALL report for HIVcDNAvantWout03 on riesling1

This page was generated on 2021-01-21 16:01:30 -0500 (Thu, 21 Jan 2021).

TO THE DEVELOPERS/MAINTAINERS OF THE HIVcDNAvantWout03 PACKAGE: Please make sure to use the following settings in order to reproduce any error or warning you see on this page.
Package 176/386HostnameOS / ArchINSTALLBUILDCHECK
HIVcDNAvantWout03 1.31.0
Chris Fraley
Snapshot Date: 2021-01-21 09:00:14 -0500 (Thu, 21 Jan 2021)
URL: https://git.bioconductor.org/packages/HIVcDNAvantWout03
Branch: master
Last Commit: 3a4e1d5
Last Changed Date: 2020-10-27 09:46:34 -0500 (Tue, 27 Oct 2020)
malbec2 Linux (Ubuntu 20.04.1 LTS) / x86_64  OK  OK  WARNINGS UNNEEDED, same version exists in internal repository
riesling1 Windows Server 2019 Standard / x64 [ OK ] OK  WARNINGS 

Summary

Package: HIVcDNAvantWout03
Version: 1.31.0
Command: C:\cygwin\bin\curl.exe -O http://172.29.0.4/BBS/3.13/data-experiment/src/contrib/HIVcDNAvantWout03_1.31.0.tar.gz && rm -rf HIVcDNAvantWout03.buildbin-libdir && mkdir HIVcDNAvantWout03.buildbin-libdir && D:\biocbuild\bbs-3.13-bioc\R\bin\R.exe CMD INSTALL --merge-multiarch --build --library=HIVcDNAvantWout03.buildbin-libdir HIVcDNAvantWout03_1.31.0.tar.gz && D:\biocbuild\bbs-3.13-bioc\R\bin\R.exe CMD INSTALL HIVcDNAvantWout03_1.31.0.zip && rm HIVcDNAvantWout03_1.31.0.tar.gz HIVcDNAvantWout03_1.31.0.zip
StartedAt: 2021-01-21 09:48:26 -0500 (Thu, 21 Jan 2021)
EndedAt: 2021-01-21 09:48:35 -0500 (Thu, 21 Jan 2021)
EllapsedTime: 8.6 seconds
RetCode: 0
Status:  OK  

Command output

##############################################################################
##############################################################################
###
### Running command:
###
###   C:\cygwin\bin\curl.exe -O http://172.29.0.4/BBS/3.13/data-experiment/src/contrib/HIVcDNAvantWout03_1.31.0.tar.gz && rm -rf HIVcDNAvantWout03.buildbin-libdir && mkdir HIVcDNAvantWout03.buildbin-libdir && D:\biocbuild\bbs-3.13-bioc\R\bin\R.exe CMD INSTALL --merge-multiarch --build --library=HIVcDNAvantWout03.buildbin-libdir HIVcDNAvantWout03_1.31.0.tar.gz && D:\biocbuild\bbs-3.13-bioc\R\bin\R.exe CMD INSTALL HIVcDNAvantWout03_1.31.0.zip && rm HIVcDNAvantWout03_1.31.0.tar.gz HIVcDNAvantWout03_1.31.0.zip
###
##############################################################################
##############################################################################


  % Total    % Received % Xferd  Average Speed   Time    Time     Time  Current
                                 Dload  Upload   Total   Spent    Left  Speed

  0     0    0     0    0     0      0      0 --:--:-- --:--:-- --:--:--     0
  0     0    0     0    0     0      0      0 --:--:-- --:--:-- --:--:--     0
100 1813k  100 1813k    0     0  1973k      0 --:--:-- --:--:-- --:--:-- 1970k

install for i386

* installing *source* package 'HIVcDNAvantWout03' ...
** using staged installation
** data
** help
*** installing help indices
  converting help for package 'HIVcDNAvantWout03'
    finding HTML links ... done
    hiv1raw                                 html  
REDIRECT:topic	 hiv1raw -> hiv1raw.html [ SUCCESS ]
    hiv2raw                                 html  
REDIRECT:topic	 hiv2raw -> hiv2raw.html [ SUCCESS ]
** building package indices
Read 450000 items
Read 450000 items
** installing vignettes
** testing if installed package can be loaded from temporary location
** testing if installed package can be loaded from final location
** testing if installed package keeps a record of temporary installation path

install for x64

* installing *source* package 'HIVcDNAvantWout03' ...
** testing if installed package can be loaded
* MD5 sums
packaged installation of 'HIVcDNAvantWout03' as HIVcDNAvantWout03_1.31.0.zip
* DONE (HIVcDNAvantWout03)
* installing to library 'D:/biocbuild/bbs-3.13-bioc/R/library'
package 'HIVcDNAvantWout03' successfully unpacked and MD5 sums checked