Back to Multiple platform build/check report for BioC 3.13 experimental data
ABCDEFG[H]IJKLMNOPQRSTUVWXYZ

INSTALL report for HDCytoData on riesling1

This page was generated on 2021-01-14 15:59:08 -0500 (Thu, 14 Jan 2021).

TO THE DEVELOPERS/MAINTAINERS OF THE HDCytoData PACKAGE: Please make sure to use the following settings in order to reproduce any error or warning you see on this page.
Package 164/385HostnameOS / ArchINSTALLBUILDCHECK
HDCytoData 1.11.0
Lukas M. Weber
Snapshot Date: 2021-01-14 09:00:13 -0500 (Thu, 14 Jan 2021)
URL: https://git.bioconductor.org/packages/HDCytoData
Branch: master
Last Commit: 58d130f
Last Changed Date: 2020-10-27 10:26:33 -0500 (Tue, 27 Oct 2020)
malbec2 Linux (Ubuntu 20.04.1 LTS) / x86_64  OK  ERROR  skipped 
riesling1 Windows Server 2019 Standard / x64 [ OK ] ERROR  skipped 

Summary

Package: HDCytoData
Version: 1.11.0
Command: C:\cygwin\bin\curl.exe -O http://172.29.0.4/BBS/3.13/data-experiment/src/contrib/HDCytoData_1.11.0.tar.gz && rm -rf HDCytoData.buildbin-libdir && mkdir HDCytoData.buildbin-libdir && D:\biocbuild\bbs-3.13-bioc\R\bin\R.exe CMD INSTALL --merge-multiarch --build --library=HDCytoData.buildbin-libdir HDCytoData_1.11.0.tar.gz && D:\biocbuild\bbs-3.13-bioc\R\bin\R.exe CMD INSTALL HDCytoData_1.11.0.zip && rm HDCytoData_1.11.0.tar.gz HDCytoData_1.11.0.zip
StartedAt: 2021-01-14 10:10:48 -0500 (Thu, 14 Jan 2021)
EndedAt: 2021-01-14 10:12:12 -0500 (Thu, 14 Jan 2021)
EllapsedTime: 84.6 seconds
RetCode: 0
Status:  OK  

Command output

##############################################################################
##############################################################################
###
### Running command:
###
###   C:\cygwin\bin\curl.exe -O http://172.29.0.4/BBS/3.13/data-experiment/src/contrib/HDCytoData_1.11.0.tar.gz && rm -rf HDCytoData.buildbin-libdir && mkdir HDCytoData.buildbin-libdir && D:\biocbuild\bbs-3.13-bioc\R\bin\R.exe CMD INSTALL --merge-multiarch --build --library=HDCytoData.buildbin-libdir HDCytoData_1.11.0.tar.gz && D:\biocbuild\bbs-3.13-bioc\R\bin\R.exe CMD INSTALL HDCytoData_1.11.0.zip && rm HDCytoData_1.11.0.tar.gz HDCytoData_1.11.0.zip
###
##############################################################################
##############################################################################


  % Total    % Received % Xferd  Average Speed   Time    Time     Time  Current
                                 Dload  Upload   Total   Spent    Left  Speed

  0     0    0     0    0     0      0      0 --:--:-- --:--:-- --:--:--     0
100 66340  100 66340    0     0  7198k      0 --:--:-- --:--:-- --:--:-- 7198k

install for i386

* installing *source* package 'HDCytoData' ...
** using staged installation
** R
** inst
** byte-compile and prepare package for lazy loading
** help
*** installing help indices
  converting help for package 'HDCytoData'
    finding HTML links ... done
    Bodenmiller_BCR_XL_SE                   html  
REDIRECT:topic	 Bodenmiller_BCR_XL -> Bodenmiller_BCR_XL_SE.html [ SUCCESS ]
REDIRECT:topic	 Bodenmiller_BCR_XL_SE -> Bodenmiller_BCR_XL_SE.html [ SUCCESS ]
REDIRECT:topic	 Bodenmiller_BCR_XL_flowSet -> Bodenmiller_BCR_XL_SE.html [ SUCCESS ]
    finding level-2 HTML links ... done

    HDCytoData-package                      html  
REDIRECT:topic	 HDCytoData -> HDCytoData-package.html [ SUCCESS ]
REDIRECT:topic	 HDCytoData-package -> HDCytoData-package.html [ SUCCESS ]
    Krieg_Anti_PD_1_SE                      html  
REDIRECT:topic	 Krieg_Anti_PD_1 -> Krieg_Anti_PD_1_SE.html [ SUCCESS ]
REDIRECT:topic	 Krieg_Anti_PD_1_SE -> Krieg_Anti_PD_1_SE.html [ SUCCESS ]
REDIRECT:topic	 Krieg_Anti_PD_1_flowSet -> Krieg_Anti_PD_1_SE.html [ SUCCESS ]
    Levine_13dim_SE                         html  
REDIRECT:topic	 Levine_13dim -> Levine_13dim_SE.html [ SUCCESS ]
REDIRECT:topic	 Levine_13dim_SE -> Levine_13dim_SE.html [ SUCCESS ]
REDIRECT:topic	 Levine_13dim_flowSet -> Levine_13dim_SE.html [ SUCCESS ]
    Levine_32dim_SE                         html  
REDIRECT:topic	 Levine_32dim -> Levine_32dim_SE.html [ SUCCESS ]
REDIRECT:topic	 Levine_32dim_SE -> Levine_32dim_SE.html [ SUCCESS ]
REDIRECT:topic	 Levine_32dim_flowSet -> Levine_32dim_SE.html [ SUCCESS ]
    Mosmann_rare_SE                         html  
REDIRECT:topic	 Mosmann_rare -> Mosmann_rare_SE.html [ SUCCESS ]
REDIRECT:topic	 Mosmann_rare_SE -> Mosmann_rare_SE.html [ SUCCESS ]
REDIRECT:topic	 Mosmann_rare_flowSet -> Mosmann_rare_SE.html [ SUCCESS ]
    Nilsson_rare_SE                         html  
REDIRECT:topic	 Nilsson_rare -> Nilsson_rare_SE.html [ SUCCESS ]
REDIRECT:topic	 Nilsson_rare_SE -> Nilsson_rare_SE.html [ SUCCESS ]
REDIRECT:topic	 Nilsson_rare_flowSet -> Nilsson_rare_SE.html [ SUCCESS ]
    Samusik_01_SE                           html  
REDIRECT:topic	 Samusik_01 -> Samusik_01_SE.html [ SUCCESS ]
REDIRECT:topic	 Samusik_01_SE -> Samusik_01_SE.html [ SUCCESS ]
REDIRECT:topic	 Samusik_01_flowSet -> Samusik_01_SE.html [ SUCCESS ]
    Samusik_all_SE                          html  
REDIRECT:topic	 Samusik_all -> Samusik_all_SE.html [ SUCCESS ]
REDIRECT:topic	 Samusik_all_SE -> Samusik_all_SE.html [ SUCCESS ]
REDIRECT:topic	 Samusik_all_flowSet -> Samusik_all_SE.html [ SUCCESS ]
    Weber_AML_sim_main_5pc_SE               html  
REDIRECT:topic	 Weber_AML_sim -> Weber_AML_sim_main_5pc_SE.html [ SUCCESS ]
REDIRECT:topic	 Weber_AML_sim_main -> Weber_AML_sim_main_5pc_SE.html [ SUCCESS ]
REDIRECT:topic	 Weber_AML_sim_main_5pc -> Weber_AML_sim_main_5pc_SE.html [ SUCCESS ]
REDIRECT:topic	 Weber_AML_sim_main_5pc_SE -> Weber_AML_sim_main_5pc_SE.html [ SUCCESS ]
REDIRECT:topic	 Weber_AML_sim_main_5pc_flowSet -> Weber_AML_sim_main_5pc_SE.html [ SUCCESS ]
REDIRECT:topic	 Weber_AML_sim_main_1pc -> Weber_AML_sim_main_5pc_SE.html [ SUCCESS ]
REDIRECT:topic	 Weber_AML_sim_main_1pc_SE -> Weber_AML_sim_main_5pc_SE.html [ SUCCESS ]
REDIRECT:topic	 Weber_AML_sim_main_1pc_flowSet -> Weber_AML_sim_main_5pc_SE.html [ SUCCESS ]
REDIRECT:topic	 Weber_AML_sim_main_0.1pc -> Weber_AML_sim_main_5pc_SE.html [ SUCCESS ]
REDIRECT:topic	 Weber_AML_sim_main_0.1pc_SE -> Weber_AML_sim_main_5pc_SE.html [ SUCCESS ]
REDIRECT:topic	 Weber_AML_sim_main_0.1pc_flowSet -> Weber_AML_sim_main_5pc_SE.html [ SUCCESS ]
REDIRECT:topic	 Weber_AML_sim_main_blasts_all -> Weber_AML_sim_main_5pc_SE.html [ SUCCESS ]
REDIRECT:topic	 Weber_AML_sim_main_blasts_all_SE -> Weber_AML_sim_main_5pc_SE.html [ SUCCESS ]
REDIRECT:topic	 Weber_AML_sim_main_blasts_all_flowSet -> Weber_AML_sim_main_5pc_SE.html [ SUCCESS ]
REDIRECT:topic	 Weber_AML_sim_null -> Weber_AML_sim_main_5pc_SE.html [ SUCCESS ]
REDIRECT:topic	 Weber_AML_sim_null_SE -> Weber_AML_sim_main_5pc_SE.html [ SUCCESS ]
REDIRECT:topic	 Weber_AML_sim_null_flowSet -> Weber_AML_sim_main_5pc_SE.html [ SUCCESS ]
REDIRECT:topic	 Weber_AML_sim_random_seeds -> Weber_AML_sim_main_5pc_SE.html [ SUCCESS ]
REDIRECT:topic	 Weber_AML_sim_random_seeds_5pc -> Weber_AML_sim_main_5pc_SE.html [ SUCCESS ]
REDIRECT:topic	 Weber_AML_sim_random_seeds_5pc_SE -> Weber_AML_sim_main_5pc_SE.html [ SUCCESS ]
REDIRECT:topic	 Weber_AML_sim_random_seeds_5pc_flowSet -> Weber_AML_sim_main_5pc_SE.html [ SUCCESS ]
REDIRECT:topic	 Weber_AML_sim_random_seeds_1pc -> Weber_AML_sim_main_5pc_SE.html [ SUCCESS ]
REDIRECT:topic	 Weber_AML_sim_random_seeds_1pc_SE -> Weber_AML_sim_main_5pc_SE.html [ SUCCESS ]
REDIRECT:topic	 Weber_AML_sim_random_seeds_1pc_flowSet -> Weber_AML_sim_main_5pc_SE.html [ SUCCESS ]
REDIRECT:topic	 Weber_AML_sim_random_seeds_0.1pc -> Weber_AML_sim_main_5pc_SE.html [ SUCCESS ]
REDIRECT:topic	 Weber_AML_sim_random_seeds_0.1pc_SE -> Weber_AML_sim_main_5pc_SE.html [ SUCCESS ]
REDIRECT:topic	 Weber_AML_sim_random_seeds_0.1pc_flowSet -> Weber_AML_sim_main_5pc_SE.html [ SUCCESS ]
REDIRECT:topic	 Weber_AML_sim_less_distinct -> Weber_AML_sim_main_5pc_SE.html [ SUCCESS ]
REDIRECT:topic	 Weber_AML_sim_less_distinct_5pc -> Weber_AML_sim_main_5pc_SE.html [ SUCCESS ]
REDIRECT:topic	 Weber_AML_sim_less_distinct_5pc_SE -> Weber_AML_sim_main_5pc_SE.html [ SUCCESS ]
REDIRECT:topic	 Weber_AML_sim_less_distinct_5pc_flowSet -> Weber_AML_sim_main_5pc_SE.html [ SUCCESS ]
REDIRECT:topic	 Weber_AML_sim_less_distinct_1pc -> Weber_AML_sim_main_5pc_SE.html [ SUCCESS ]
REDIRECT:topic	 Weber_AML_sim_less_distinct_1pc_SE -> Weber_AML_sim_main_5pc_SE.html [ SUCCESS ]
REDIRECT:topic	 Weber_AML_sim_less_distinct_1pc_flowSet -> Weber_AML_sim_main_5pc_SE.html [ SUCCESS ]
REDIRECT:topic	 Weber_AML_sim_less_distinct_0.1pc -> Weber_AML_sim_main_5pc_SE.html [ SUCCESS ]
REDIRECT:topic	 Weber_AML_sim_less_distinct_0.1pc_SE -> Weber_AML_sim_main_5pc_SE.html [ SUCCESS ]
REDIRECT:topic	 Weber_AML_sim_less_distinct_0.1pc_flowSet -> Weber_AML_sim_main_5pc_SE.html [ SUCCESS ]
    Weber_BCR_XL_sim_main_SE                html  
REDIRECT:topic	 Weber_BCR_XL_sim -> Weber_BCR_XL_sim_main_SE.html [ SUCCESS ]
REDIRECT:topic	 Weber_BCR_XL_sim_main -> Weber_BCR_XL_sim_main_SE.html [ SUCCESS ]
REDIRECT:topic	 Weber_BCR_XL_sim_main_SE -> Weber_BCR_XL_sim_main_SE.html [ SUCCESS ]
REDIRECT:topic	 Weber_BCR_XL_sim_main_flowSet -> Weber_BCR_XL_sim_main_SE.html [ SUCCESS ]
REDIRECT:topic	 Weber_BCR_XL_sim_null -> Weber_BCR_XL_sim_main_SE.html [ SUCCESS ]
REDIRECT:topic	 Weber_BCR_XL_sim_null_rep1 -> Weber_BCR_XL_sim_main_SE.html [ SUCCESS ]
REDIRECT:topic	 Weber_BCR_XL_sim_null_rep1_SE -> Weber_BCR_XL_sim_main_SE.html [ SUCCESS ]
REDIRECT:topic	 Weber_BCR_XL_sim_null_rep1_flowSet -> Weber_BCR_XL_sim_main_SE.html [ SUCCESS ]
REDIRECT:topic	 Weber_BCR_XL_sim_null_rep2 -> Weber_BCR_XL_sim_main_SE.html [ SUCCESS ]
REDIRECT:topic	 Weber_BCR_XL_sim_null_rep2_SE -> Weber_BCR_XL_sim_main_SE.html [ SUCCESS ]
REDIRECT:topic	 Weber_BCR_XL_sim_null_rep2_flowSet -> Weber_BCR_XL_sim_main_SE.html [ SUCCESS ]
REDIRECT:topic	 Weber_BCR_XL_sim_null_rep3 -> Weber_BCR_XL_sim_main_SE.html [ SUCCESS ]
REDIRECT:topic	 Weber_BCR_XL_sim_null_rep3_SE -> Weber_BCR_XL_sim_main_SE.html [ SUCCESS ]
REDIRECT:topic	 Weber_BCR_XL_sim_null_rep3_flowSet -> Weber_BCR_XL_sim_main_SE.html [ SUCCESS ]
REDIRECT:topic	 Weber_BCR_XL_sim_random_seeds -> Weber_BCR_XL_sim_main_SE.html [ SUCCESS ]
REDIRECT:topic	 Weber_BCR_XL_sim_random_seeds_rep1 -> Weber_BCR_XL_sim_main_SE.html [ SUCCESS ]
REDIRECT:topic	 Weber_BCR_XL_sim_random_seeds_rep1_SE -> Weber_BCR_XL_sim_main_SE.html [ SUCCESS ]
REDIRECT:topic	 Weber_BCR_XL_sim_random_seeds_rep1_flowSet -> Weber_BCR_XL_sim_main_SE.html [ SUCCESS ]
REDIRECT:topic	 Weber_BCR_XL_sim_random_seeds_rep2 -> Weber_BCR_XL_sim_main_SE.html [ SUCCESS ]
REDIRECT:topic	 Weber_BCR_XL_sim_random_seeds_rep2_SE -> Weber_BCR_XL_sim_main_SE.html [ SUCCESS ]
REDIRECT:topic	 Weber_BCR_XL_sim_random_seeds_rep2_flowSet -> Weber_BCR_XL_sim_main_SE.html [ SUCCESS ]
REDIRECT:topic	 Weber_BCR_XL_sim_random_seeds_rep3 -> Weber_BCR_XL_sim_main_SE.html [ SUCCESS ]
REDIRECT:topic	 Weber_BCR_XL_sim_random_seeds_rep3_SE -> Weber_BCR_XL_sim_main_SE.html [ SUCCESS ]
REDIRECT:topic	 Weber_BCR_XL_sim_random_seeds_rep3_flowSet -> Weber_BCR_XL_sim_main_SE.html [ SUCCESS ]
REDIRECT:topic	 Weber_BCR_XL_sim_less_distinct -> Weber_BCR_XL_sim_main_SE.html [ SUCCESS ]
REDIRECT:topic	 Weber_BCR_XL_sim_less_distinct_less_50pc -> Weber_BCR_XL_sim_main_SE.html [ SUCCESS ]
REDIRECT:topic	 Weber_BCR_XL_sim_less_distinct_less_50pc_SE -> Weber_BCR_XL_sim_main_SE.html [ SUCCESS ]
REDIRECT:topic	 Weber_BCR_XL_sim_less_distinct_less_50pc_flowSet -> Weber_BCR_XL_sim_main_SE.html [ SUCCESS ]
REDIRECT:topic	 Weber_BCR_XL_sim_less_distinct_less_75pc -> Weber_BCR_XL_sim_main_SE.html [ SUCCESS ]
REDIRECT:topic	 Weber_BCR_XL_sim_less_distinct_less_75pc_SE -> Weber_BCR_XL_sim_main_SE.html [ SUCCESS ]
REDIRECT:topic	 Weber_BCR_XL_sim_less_distinct_less_75pc_flowSet -> Weber_BCR_XL_sim_main_SE.html [ SUCCESS ]
** building package indices
** installing vignettes
** testing if installed package can be loaded from temporary location
snapshotDate(): 2021-01-14
** testing if installed package can be loaded from final location
snapshotDate(): 2021-01-14
** testing if installed package keeps a record of temporary installation path

install for x64

* installing *source* package 'HDCytoData' ...
** testing if installed package can be loaded
snapshotDate(): 2021-01-14
* MD5 sums
packaged installation of 'HDCytoData' as HDCytoData_1.11.0.zip
* DONE (HDCytoData)
* installing to library 'D:/biocbuild/bbs-3.13-bioc/R/library'
package 'HDCytoData' successfully unpacked and MD5 sums checked