Back to Multiple platform build/check report for BioC 3.13 experimental data
ABCDEFG[H]IJKLMNOPQRSTUVWXYZ

INSTALL report for HD2013SGI on riesling1

This page was generated on 2021-01-14 15:59:08 -0500 (Thu, 14 Jan 2021).

TO THE DEVELOPERS/MAINTAINERS OF THE HD2013SGI PACKAGE: Please make sure to use the following settings in order to reproduce any error or warning you see on this page.
Package 163/385HostnameOS / ArchINSTALLBUILDCHECK
HD2013SGI 1.31.0
Bernd Fischer
Snapshot Date: 2021-01-14 09:00:13 -0500 (Thu, 14 Jan 2021)
URL: https://git.bioconductor.org/packages/HD2013SGI
Branch: master
Last Commit: 8971f18
Last Changed Date: 2020-10-27 10:01:22 -0500 (Tue, 27 Oct 2020)
malbec2 Linux (Ubuntu 20.04.1 LTS) / x86_64  OK  OK  OK UNNEEDED, same version exists in internal repository
riesling1 Windows Server 2019 Standard / x64 [ OK ] OK  OK 

Summary

Package: HD2013SGI
Version: 1.31.0
Command: C:\cygwin\bin\curl.exe -O http://172.29.0.4/BBS/3.13/data-experiment/src/contrib/HD2013SGI_1.31.0.tar.gz && rm -rf HD2013SGI.buildbin-libdir && mkdir HD2013SGI.buildbin-libdir && D:\biocbuild\bbs-3.13-bioc\R\bin\R.exe CMD INSTALL --merge-multiarch --build --library=HD2013SGI.buildbin-libdir HD2013SGI_1.31.0.tar.gz && D:\biocbuild\bbs-3.13-bioc\R\bin\R.exe CMD INSTALL HD2013SGI_1.31.0.zip && rm HD2013SGI_1.31.0.tar.gz HD2013SGI_1.31.0.zip
StartedAt: 2021-01-14 10:07:28 -0500 (Thu, 14 Jan 2021)
EndedAt: 2021-01-14 10:08:56 -0500 (Thu, 14 Jan 2021)
EllapsedTime: 87.4 seconds
RetCode: 0
Status:  OK  

Command output

##############################################################################
##############################################################################
###
### Running command:
###
###   C:\cygwin\bin\curl.exe -O http://172.29.0.4/BBS/3.13/data-experiment/src/contrib/HD2013SGI_1.31.0.tar.gz && rm -rf HD2013SGI.buildbin-libdir && mkdir HD2013SGI.buildbin-libdir && D:\biocbuild\bbs-3.13-bioc\R\bin\R.exe CMD INSTALL --merge-multiarch --build --library=HD2013SGI.buildbin-libdir HD2013SGI_1.31.0.tar.gz && D:\biocbuild\bbs-3.13-bioc\R\bin\R.exe CMD INSTALL HD2013SGI_1.31.0.zip && rm HD2013SGI_1.31.0.tar.gz HD2013SGI_1.31.0.zip
###
##############################################################################
##############################################################################


  % Total    % Received % Xferd  Average Speed   Time    Time     Time  Current
                                 Dload  Upload   Total   Spent    Left  Speed

  0     0    0     0    0     0      0      0 --:--:-- --:--:-- --:--:--     0
 10  524M   10 54.2M    0     0  61.6M      0  0:00:08 --:--:--  0:00:08 61.6M
 30  524M   30  157M    0     0  85.1M      0  0:00:06  0:00:01  0:00:05 85.1M
 48  524M   48  255M    0     0  78.8M      0  0:00:06  0:00:03  0:00:03 78.8M
 62  524M   62  327M    0     0  84.8M      0  0:00:06  0:00:03  0:00:03 84.8M
 83  524M   83  438M    0     0  90.3M      0  0:00:05  0:00:04  0:00:01 90.3M
100  524M  100  524M    0     0  92.9M      0  0:00:05  0:00:05 --:--:-- 98.7M

install for i386

* installing *source* package 'HD2013SGI' ...
** using staged installation
** R
** data
** inst
** byte-compile and prepare package for lazy loading
** help
*** installing help indices
  converting help for package 'HD2013SGI'
    finding HTML links ... done
    HD2013SGI-package                       html  
REDIRECT:topic	 HD2013SGI-package -> HD2013SGI-package.html [ SUCCESS ]
REDIRECT:topic	 HD2013SGI -> HD2013SGI-package.html [ SUCCESS ]
    HD2013SGIHeatmapHuman                   html  
REDIRECT:topic	 HD2013SGIHeatmapHuman -> HD2013SGIHeatmapHuman.html [ SUCCESS ]
    HD2013SGImaineffects                    html  
REDIRECT:topic	 HD2013SGImaineffects -> HD2013SGImaineffects.html [ SUCCESS ]
    HD2013SGIorderDim                       html  
REDIRECT:topic	 HD2013SGIorderDim -> HD2013SGIorderDim.html [ SUCCESS ]
    HD2013SGIselectByStability              html  
REDIRECT:topic	 HD2013SGIselectByStability -> HD2013SGIselectByStability.html [ SUCCESS ]
    Interactions                            html  
REDIRECT:topic	 Interactions -> Interactions.html [ SUCCESS ]
    QueryAnnotation                         html  
REDIRECT:topic	 QueryAnnotation -> QueryAnnotation.html [ SUCCESS ]
    TargetAnnotation                        html  
REDIRECT:topic	 TargetAnnotation -> TargetAnnotation.html [ SUCCESS ]
    datamatrix                              html  
REDIRECT:topic	 datamatrix -> datamatrix.html [ SUCCESS ]
    datamatrixfull                          html  
REDIRECT:topic	 datamatrixfull -> datamatrixfull.html [ SUCCESS ]
    featuresPerWell                         html  
REDIRECT:topic	 featuresPerWell -> featuresPerWell.html [ SUCCESS ]
    mainEffects                             html  
REDIRECT:topic	 mainEffects -> mainEffects.html [ SUCCESS ]
    nrOfInteractionsPerTarget               html  
REDIRECT:topic	 nrOfInteractionsPerTarget -> nrOfInteractionsPerTarget.html [ SUCCESS ]
    stabilitySelection                      html  
REDIRECT:topic	 stabilitySelection -> stabilitySelection.html [ SUCCESS ]
** building package indices
** installing vignettes
** testing if installed package can be loaded from temporary location
** testing if installed package can be loaded from final location
** testing if installed package keeps a record of temporary installation path

install for x64

* installing *source* package 'HD2013SGI' ...
** testing if installed package can be loaded
* MD5 sums
packaged installation of 'HD2013SGI' as HD2013SGI_1.31.0.zip
* DONE (HD2013SGI)
* installing to library 'D:/biocbuild/bbs-3.13-bioc/R/library'
package 'HD2013SGI' successfully unpacked and MD5 sums checked