Back to Multiple platform build/check report for BioC 3.13 experimental data
ABCDEFG[H]IJKLMNOPQRSTUVWXYZ

BUILD report for HD2013SGI on riesling1

This page was generated on 2021-01-14 15:59:08 -0500 (Thu, 14 Jan 2021).

TO THE DEVELOPERS/MAINTAINERS OF THE HD2013SGI PACKAGE: Please make sure to use the following settings in order to reproduce any error or warning you see on this page.
Package 163/385HostnameOS / ArchINSTALLBUILDCHECK
HD2013SGI 1.31.0
Bernd Fischer
Snapshot Date: 2021-01-14 09:00:13 -0500 (Thu, 14 Jan 2021)
URL: https://git.bioconductor.org/packages/HD2013SGI
Branch: master
Last Commit: 8971f18
Last Changed Date: 2020-10-27 10:01:22 -0500 (Tue, 27 Oct 2020)
malbec2 Linux (Ubuntu 20.04.1 LTS) / x86_64  OK  OK  OK UNNEEDED, same version exists in internal repository
riesling1 Windows Server 2019 Standard / x64  OK [ OK ] OK 

Summary

Package: HD2013SGI
Version: 1.31.0
Command: chmod a+r HD2013SGI -R && D:\biocbuild\bbs-3.13-bioc\R\bin\R.exe CMD build --keep-empty-dirs --no-resave-data HD2013SGI
StartedAt: 2021-01-14 10:39:40 -0500 (Thu, 14 Jan 2021)
EndedAt: 2021-01-14 10:44:48 -0500 (Thu, 14 Jan 2021)
EllapsedTime: 308.2 seconds
RetCode: 0
Status:  OK  
PackageFile: HD2013SGI_1.31.0.tar.gz
PackageFileSize: 526.4 MiB

Command output

##############################################################################
##############################################################################
###
### Running command:
###
###   chmod a+r HD2013SGI -R && D:\biocbuild\bbs-3.13-bioc\R\bin\R.exe CMD build --keep-empty-dirs --no-resave-data HD2013SGI
###
##############################################################################
##############################################################################


* checking for file 'HD2013SGI/DESCRIPTION' ... OK
* preparing 'HD2013SGI':
* checking DESCRIPTION meta-information ... OK
* installing the package to build vignettes
* creating vignettes ... OK
* checking for LF line-endings in source and make files and shell scripts
* checking for empty or unneeded directories
* looking to see if a 'data/datalist' file should be added
* building 'HD2013SGI_1.31.0.tar.gz'