Back to Multiple platform build/check report for BioC 3.13 experimental data
ABCDEF[G]HIJKLMNOPQRSTUVWXYZ

INSTALL report for GeuvadisTranscriptExpr on riesling1

This page was generated on 2021-01-18 15:58:47 -0500 (Mon, 18 Jan 2021).

TO THE DEVELOPERS/MAINTAINERS OF THE GeuvadisTranscriptExpr PACKAGE: Please make sure to use the following settings in order to reproduce any error or warning you see on this page.
Package 142/385HostnameOS / ArchINSTALLBUILDCHECK
GeuvadisTranscriptExpr 1.19.0
Malgorzata Nowicka
Snapshot Date: 2021-01-18 09:00:15 -0500 (Mon, 18 Jan 2021)
URL: https://git.bioconductor.org/packages/GeuvadisTranscriptExpr
Branch: master
Last Commit: 5f21f4e
Last Changed Date: 2020-10-27 10:18:49 -0500 (Tue, 27 Oct 2020)
malbec2 Linux (Ubuntu 20.04.1 LTS) / x86_64  OK  OK  OK UNNEEDED, same version exists in internal repository
riesling1 Windows Server 2019 Standard / x64 [ OK ] OK  OK 

Summary

Package: GeuvadisTranscriptExpr
Version: 1.19.0
Command: C:\cygwin\bin\curl.exe -O http://172.29.0.4/BBS/3.13/data-experiment/src/contrib/GeuvadisTranscriptExpr_1.19.0.tar.gz && rm -rf GeuvadisTranscriptExpr.buildbin-libdir && mkdir GeuvadisTranscriptExpr.buildbin-libdir && D:\biocbuild\bbs-3.13-bioc\R\bin\R.exe CMD INSTALL --merge-multiarch --build --library=GeuvadisTranscriptExpr.buildbin-libdir GeuvadisTranscriptExpr_1.19.0.tar.gz && D:\biocbuild\bbs-3.13-bioc\R\bin\R.exe CMD INSTALL GeuvadisTranscriptExpr_1.19.0.zip && rm GeuvadisTranscriptExpr_1.19.0.tar.gz GeuvadisTranscriptExpr_1.19.0.zip
StartedAt: 2021-01-18 09:49:45 -0500 (Mon, 18 Jan 2021)
EndedAt: 2021-01-18 09:50:18 -0500 (Mon, 18 Jan 2021)
EllapsedTime: 32.8 seconds
RetCode: 0
Status:  OK  

Command output

##############################################################################
##############################################################################
###
### Running command:
###
###   C:\cygwin\bin\curl.exe -O http://172.29.0.4/BBS/3.13/data-experiment/src/contrib/GeuvadisTranscriptExpr_1.19.0.tar.gz && rm -rf GeuvadisTranscriptExpr.buildbin-libdir && mkdir GeuvadisTranscriptExpr.buildbin-libdir && D:\biocbuild\bbs-3.13-bioc\R\bin\R.exe CMD INSTALL --merge-multiarch --build --library=GeuvadisTranscriptExpr.buildbin-libdir GeuvadisTranscriptExpr_1.19.0.tar.gz && D:\biocbuild\bbs-3.13-bioc\R\bin\R.exe CMD INSTALL GeuvadisTranscriptExpr_1.19.0.zip && rm GeuvadisTranscriptExpr_1.19.0.tar.gz GeuvadisTranscriptExpr_1.19.0.zip
###
##############################################################################
##############################################################################


  % Total    % Received % Xferd  Average Speed   Time    Time     Time  Current
                                 Dload  Upload   Total   Spent    Left  Speed

  0     0    0     0    0     0      0      0 --:--:-- --:--:-- --:--:--     0
  0 7884k    0 15815    0     0  18782      0  0:07:09 --:--:--  0:07:09 18760
  6 7884k    6  480k    0     0   297k      0  0:00:26  0:00:01  0:00:25  297k
100 7884k  100 7884k    0     0  3708k      0  0:00:02  0:00:02 --:--:-- 3708k

install for i386

* installing *source* package 'GeuvadisTranscriptExpr' ...
** using staged installation
** R
** data
*** moving datasets to lazyload DB
** inst
** byte-compile and prepare package for lazy loading
** help
*** installing help indices
  converting help for package 'GeuvadisTranscriptExpr'
    finding HTML links ... done
    counts                                  html  
REDIRECT:topic	 counts -> counts.html [ SUCCESS ]
REDIRECT:topic	 gene_ranges -> counts.html [ SUCCESS ]
REDIRECT:topic	 genotypes -> counts.html [ SUCCESS ]
REDIRECT:topic	 snp_ranges -> counts.html [ SUCCESS ]
** building package indices
** installing vignettes
** testing if installed package can be loaded from temporary location
** testing if installed package can be loaded from final location
** testing if installed package keeps a record of temporary installation path

install for x64

* installing *source* package 'GeuvadisTranscriptExpr' ...
** testing if installed package can be loaded
* MD5 sums
packaged installation of 'GeuvadisTranscriptExpr' as GeuvadisTranscriptExpr_1.19.0.zip
* DONE (GeuvadisTranscriptExpr)
* installing to library 'D:/biocbuild/bbs-3.13-bioc/R/library'
package 'GeuvadisTranscriptExpr' successfully unpacked and MD5 sums checked