Back to Multiple platform build/check report for BioC 3.13 experimental data
ABCDEF[G]HIJKLMNOPQRSTUVWXYZ

BUILD report for GeuvadisTranscriptExpr on riesling1

This page was generated on 2021-01-21 16:01:28 -0500 (Thu, 21 Jan 2021).

TO THE DEVELOPERS/MAINTAINERS OF THE GeuvadisTranscriptExpr PACKAGE: Please make sure to use the following settings in order to reproduce any error or warning you see on this page.
Package 142/386HostnameOS / ArchINSTALLBUILDCHECK
GeuvadisTranscriptExpr 1.19.0
Malgorzata Nowicka
Snapshot Date: 2021-01-21 09:00:14 -0500 (Thu, 21 Jan 2021)
URL: https://git.bioconductor.org/packages/GeuvadisTranscriptExpr
Branch: master
Last Commit: 5f21f4e
Last Changed Date: 2020-10-27 10:18:49 -0500 (Tue, 27 Oct 2020)
malbec2 Linux (Ubuntu 20.04.1 LTS) / x86_64  OK  OK  OK UNNEEDED, same version exists in internal repository
riesling1 Windows Server 2019 Standard / x64  OK [ OK ] OK 

Summary

Package: GeuvadisTranscriptExpr
Version: 1.19.0
Command: chmod a+r GeuvadisTranscriptExpr -R && D:\biocbuild\bbs-3.13-bioc\R\bin\R.exe CMD build --keep-empty-dirs --no-resave-data GeuvadisTranscriptExpr
StartedAt: 2021-01-21 10:41:06 -0500 (Thu, 21 Jan 2021)
EndedAt: 2021-01-21 10:41:41 -0500 (Thu, 21 Jan 2021)
EllapsedTime: 35.2 seconds
RetCode: 0
Status:  OK  
PackageFile: GeuvadisTranscriptExpr_1.19.0.tar.gz
PackageFileSize: 7.196 MiB

Command output

##############################################################################
##############################################################################
###
### Running command:
###
###   chmod a+r GeuvadisTranscriptExpr -R && D:\biocbuild\bbs-3.13-bioc\R\bin\R.exe CMD build --keep-empty-dirs --no-resave-data GeuvadisTranscriptExpr
###
##############################################################################
##############################################################################


* checking for file 'GeuvadisTranscriptExpr/DESCRIPTION' ... OK
* preparing 'GeuvadisTranscriptExpr':
* checking DESCRIPTION meta-information ... OK
* installing the package to build vignettes
* creating vignettes ... OK
* checking for LF line-endings in source and make files and shell scripts
* checking for empty or unneeded directories
* building 'GeuvadisTranscriptExpr_1.19.0.tar.gz'