Back to Multiple platform build/check report for BioC 3.13 experimental data |
|
This page was generated on 2021-01-14 15:59:07 -0500 (Thu, 14 Jan 2021).
TO THE DEVELOPERS/MAINTAINERS OF THE GWASdata PACKAGE: Please make sure to use the following settings in order to reproduce any error or warning you see on this page. |
Package 151/385 | Hostname | OS / Arch | INSTALL | BUILD | CHECK | ||||||
GWASdata 1.29.0 Stephanie Gogarten
| malbec2 | Linux (Ubuntu 20.04.1 LTS) / x86_64 | OK | OK | OK | ![]() | |||||
riesling1 | Windows Server 2019 Standard / x64 | [ OK ] | OK | OK |
Package: GWASdata |
Version: 1.29.0 |
Command: C:\cygwin\bin\curl.exe -O http://172.29.0.4/BBS/3.13/data-experiment/src/contrib/GWASdata_1.29.0.tar.gz && rm -rf GWASdata.buildbin-libdir && mkdir GWASdata.buildbin-libdir && D:\biocbuild\bbs-3.13-bioc\R\bin\R.exe CMD INSTALL --merge-multiarch --build --library=GWASdata.buildbin-libdir GWASdata_1.29.0.tar.gz && D:\biocbuild\bbs-3.13-bioc\R\bin\R.exe CMD INSTALL GWASdata_1.29.0.zip && rm GWASdata_1.29.0.tar.gz GWASdata_1.29.0.zip |
StartedAt: 2021-01-14 10:08:58 -0500 (Thu, 14 Jan 2021) |
EndedAt: 2021-01-14 10:09:21 -0500 (Thu, 14 Jan 2021) |
EllapsedTime: 23.5 seconds |
RetCode: 0 |
Status: OK |
############################################################################## ############################################################################## ### ### Running command: ### ### C:\cygwin\bin\curl.exe -O http://172.29.0.4/BBS/3.13/data-experiment/src/contrib/GWASdata_1.29.0.tar.gz && rm -rf GWASdata.buildbin-libdir && mkdir GWASdata.buildbin-libdir && D:\biocbuild\bbs-3.13-bioc\R\bin\R.exe CMD INSTALL --merge-multiarch --build --library=GWASdata.buildbin-libdir GWASdata_1.29.0.tar.gz && D:\biocbuild\bbs-3.13-bioc\R\bin\R.exe CMD INSTALL GWASdata_1.29.0.zip && rm GWASdata_1.29.0.tar.gz GWASdata_1.29.0.zip ### ############################################################################## ############################################################################## % Total % Received % Xferd Average Speed Time Time Time Current Dload Upload Total Spent Left Speed 0 0 0 0 0 0 0 0 --:--:-- --:--:-- --:--:-- 0 100 8516k 100 8516k 0 0 69.8M 0 --:--:-- --:--:-- --:--:-- 70.4M install for i386 * installing *source* package 'GWASdata' ... ** using staged installation ** data ** inst ** help *** installing help indices converting help for package 'GWASdata' finding HTML links ... done GWASdata-package html REDIRECT:topic GWASdata -> GWASdata-package.html [ SUCCESS ] REDIRECT:topic GWASdata-package -> GWASdata-package.html [ SUCCESS ] REDIRECT:topic affy_scan_annot -> GWASdata-package.html [ SUCCESS ] REDIRECT:topic affy_snp_annot -> GWASdata-package.html [ SUCCESS ] REDIRECT:topic illumina_scan_annot -> GWASdata-package.html [ SUCCESS ] REDIRECT:topic illumina_snp_annot -> GWASdata-package.html [ SUCCESS ] REDIRECT:topic affyScanADF -> GWASdata-package.html [ SUCCESS ] REDIRECT:topic affySnpADF -> GWASdata-package.html [ SUCCESS ] REDIRECT:topic illuminaScanADF -> GWASdata-package.html [ SUCCESS ] REDIRECT:topic illuminaSnpADF -> GWASdata-package.html [ SUCCESS ] finding level-2 HTML links ... done ** building package indices ** testing if installed package can be loaded from temporary location ** testing if installed package can be loaded from final location ** testing if installed package keeps a record of temporary installation path install for x64 * installing *source* package 'GWASdata' ... ** testing if installed package can be loaded * MD5 sums packaged installation of 'GWASdata' as GWASdata_1.29.0.zip * DONE (GWASdata) * installing to library 'D:/biocbuild/bbs-3.13-bioc/R/library' package 'GWASdata' successfully unpacked and MD5 sums checked