Back to Multiple platform build/check report for BioC 3.13 experimental data
ABCDEF[G]HIJKLMNOPQRSTUVWXYZ

INSTALL report for GSVAdata on riesling1

This page was generated on 2021-01-11 15:59:31 -0500 (Mon, 11 Jan 2021).

TO THE DEVELOPERS/MAINTAINERS OF THE GSVAdata PACKAGE: Please make sure to use the following settings in order to reproduce any error or warning you see on this page.
Package 150/385HostnameOS / ArchINSTALLBUILDCHECK
GSVAdata 1.27.0
Robert Castelo
Snapshot Date: 2021-01-11 09:00:09 -0500 (Mon, 11 Jan 2021)
URL: https://git.bioconductor.org/packages/GSVAdata
Branch: master
Last Commit: 68ac4aa
Last Changed Date: 2020-10-27 09:53:04 -0500 (Tue, 27 Oct 2020)
malbec2 Linux (Ubuntu 20.04.1 LTS) / x86_64  OK  OK  OK UNNEEDED, same version exists in internal repository
riesling1 Windows Server 2019 Standard / x64 [ OK ] OK  OK 

Summary

Package: GSVAdata
Version: 1.27.0
Command: C:\cygwin\bin\curl.exe -O http://172.29.0.4/BBS/3.13/data-experiment/src/contrib/GSVAdata_1.27.0.tar.gz && rm -rf GSVAdata.buildbin-libdir && mkdir GSVAdata.buildbin-libdir && D:\biocbuild\bbs-3.13-bioc\R\bin\R.exe CMD INSTALL --merge-multiarch --build --library=GSVAdata.buildbin-libdir GSVAdata_1.27.0.tar.gz && D:\biocbuild\bbs-3.13-bioc\R\bin\R.exe CMD INSTALL GSVAdata_1.27.0.zip && rm GSVAdata_1.27.0.tar.gz GSVAdata_1.27.0.zip
StartedAt: 2021-01-11 10:15:55 -0500 (Mon, 11 Jan 2021)
EndedAt: 2021-01-11 10:16:09 -0500 (Mon, 11 Jan 2021)
EllapsedTime: 13.9 seconds
RetCode: 0
Status:  OK  

Command output

##############################################################################
##############################################################################
###
### Running command:
###
###   C:\cygwin\bin\curl.exe -O http://172.29.0.4/BBS/3.13/data-experiment/src/contrib/GSVAdata_1.27.0.tar.gz && rm -rf GSVAdata.buildbin-libdir && mkdir GSVAdata.buildbin-libdir && D:\biocbuild\bbs-3.13-bioc\R\bin\R.exe CMD INSTALL --merge-multiarch --build --library=GSVAdata.buildbin-libdir GSVAdata_1.27.0.tar.gz && D:\biocbuild\bbs-3.13-bioc\R\bin\R.exe CMD INSTALL GSVAdata_1.27.0.zip && rm GSVAdata_1.27.0.tar.gz GSVAdata_1.27.0.zip
###
##############################################################################
##############################################################################


  % Total    % Received % Xferd  Average Speed   Time    Time     Time  Current
                                 Dload  Upload   Total   Spent    Left  Speed

  0     0    0     0    0     0      0      0 --:--:-- --:--:-- --:--:--     0
100 12.7M  100 12.7M    0     0  19.8M      0 --:--:-- --:--:-- --:--:-- 19.8M

install for i386

* installing *source* package 'GSVAdata' ...
** using staged installation
** data
** help
*** installing help indices
  converting help for package 'GSVAdata'
    finding HTML links ... done
    GSVAdata-package                        html  
REDIRECT:topic	 GSVAdata-package -> GSVAdata-package.html [ SUCCESS ]
REDIRECT:topic	 GSVAdata -> GSVAdata-package.html [ SUCCESS ]
    annotEntrez220212                       html  
REDIRECT:topic	 annotEntrez220212 -> annotEntrez220212.html [ SUCCESS ]
    brainTxDbSets                           html  
REDIRECT:topic	 brainTxDbSets -> brainTxDbSets.html [ SUCCESS ]
    c2BroadSets                             html  
REDIRECT:topic	 c2BroadSets -> c2BroadSets.html [ SUCCESS ]
    commonPickrellHuang                     html  
REDIRECT:topic	 commonPickrellHuang -> commonPickrellHuang.html [ SUCCESS ]
REDIRECT:topic	 huangArrayRMAnoBatchCommon_eset -> commonPickrellHuang.html [ SUCCESS ]
REDIRECT:topic	 pickrellCountsArgonneCQNcommon_eset -> commonPickrellHuang.html [ SUCCESS ]
REDIRECT:topic	 pickrellCountsYaleCQNcommon_eset -> commonPickrellHuang.html [ SUCCESS ]
    gbm_VerhaakEtAl                         html  
REDIRECT:topic	 gbm_VerhaakEtAl -> gbm_VerhaakEtAl.html [ SUCCESS ]
REDIRECT:topic	 gbm_eset -> gbm_VerhaakEtAl.html [ SUCCESS ]
    genderGenesEntrez                       html  
REDIRECT:topic	 genderGenesEntrez -> genderGenesEntrez.html [ SUCCESS ]
REDIRECT:topic	 msYgenesEntrez -> genderGenesEntrez.html [ SUCCESS ]
REDIRECT:topic	 XiEgenesEntrez -> genderGenesEntrez.html [ SUCCESS ]
    leukemia                                html  
REDIRECT:topic	 leukemia -> leukemia.html [ SUCCESS ]
REDIRECT:topic	 leukemia_eset -> leukemia.html [ SUCCESS ]
** building package indices
** testing if installed package can be loaded from temporary location
** testing if installed package can be loaded from final location
** testing if installed package keeps a record of temporary installation path

install for x64

* installing *source* package 'GSVAdata' ...
** testing if installed package can be loaded
* MD5 sums
packaged installation of 'GSVAdata' as GSVAdata_1.27.0.zip
* DONE (GSVAdata)
* installing to library 'D:/biocbuild/bbs-3.13-bioc/R/library'
package 'GSVAdata' successfully unpacked and MD5 sums checked