Back to Multiple platform build/check report for BioC 3.13 experimental data |
|
This page was generated on 2021-01-14 15:59:07 -0500 (Thu, 14 Jan 2021).
TO THE DEVELOPERS/MAINTAINERS OF THE GSE62944 PACKAGE: Please make sure to use the following settings in order to reproduce any error or warning you see on this page. |
Package 148/385 | Hostname | OS / Arch | INSTALL | BUILD | CHECK | ||||||
GSE62944 1.19.0 Bioconductor Package Maintainer
| malbec2 | Linux (Ubuntu 20.04.1 LTS) / x86_64 | OK | OK | OK | ![]() | |||||
riesling1 | Windows Server 2019 Standard / x64 | OK | OK | [ OK ] |
Package: GSE62944 |
Version: 1.19.0 |
Command: D:\biocbuild\bbs-3.13-bioc\R\bin\R.exe CMD check --force-multiarch --install=check:GSE62944.install-out.txt --library=D:\biocbuild\bbs-3.13-bioc\R\library --no-vignettes --timings GSE62944_1.19.0.tar.gz |
StartedAt: 2021-01-14 11:20:51 -0500 (Thu, 14 Jan 2021) |
EndedAt: 2021-01-14 11:22:08 -0500 (Thu, 14 Jan 2021) |
EllapsedTime: 77.1 seconds |
RetCode: 0 |
Status: OK |
CheckDir: GSE62944.Rcheck |
Warnings: 0 |
############################################################################## ############################################################################## ### ### Running command: ### ### D:\biocbuild\bbs-3.13-bioc\R\bin\R.exe CMD check --force-multiarch --install=check:GSE62944.install-out.txt --library=D:\biocbuild\bbs-3.13-bioc\R\library --no-vignettes --timings GSE62944_1.19.0.tar.gz ### ############################################################################## ############################################################################## * using log directory 'D:/biocbuild/bbs-3.13-data-experiment/meat/GSE62944.Rcheck' * using R Under development (unstable) (2020-12-30 r79736) * using platform: x86_64-w64-mingw32 (64-bit) * using session charset: ISO8859-1 * using option '--no-vignettes' * checking for file 'GSE62944/DESCRIPTION' ... OK * this is package 'GSE62944' version '1.19.0' * checking package namespace information ... OK * checking package dependencies ... OK * checking if this is a source package ... OK * checking if there is a namespace ... OK * checking for hidden files and directories ... OK * checking for portable file names ... OK * checking whether package 'GSE62944' can be installed ... OK * checking installed package size ... OK * checking package directory ... OK * checking 'build' directory ... OK * checking DESCRIPTION meta-information ... OK * checking top-level files ... OK * checking for left-over files ... OK * checking index information ... OK * checking package subdirectories ... OK * loading checks for arch 'i386' ** checking whether the package can be loaded ... OK ** checking whether the package can be loaded with stated dependencies ... OK ** checking whether the package can be unloaded cleanly ... OK ** checking whether the namespace can be loaded with stated dependencies ... OK ** checking whether the namespace can be unloaded cleanly ... OK * loading checks for arch 'x64' ** checking whether the package can be loaded ... OK ** checking whether the package can be loaded with stated dependencies ... OK ** checking whether the package can be unloaded cleanly ... OK ** checking whether the namespace can be loaded with stated dependencies ... OK ** checking whether the namespace can be unloaded cleanly ... OK * checking Rd files ... OK * checking Rd metadata ... OK * checking Rd cross-references ... OK * checking for code/documentation mismatches ... OK * checking Rd \usage sections ... OK * checking Rd contents ... OK * checking for unstated dependencies in examples ... OK * checking files in 'vignettes' ... OK * checking examples ... ** running examples for arch 'i386' ... OK ** running examples for arch 'x64' ... OK * checking for unstated dependencies in vignettes ... OK * checking package vignettes in 'inst/doc' ... OK * checking running R code from vignettes ... SKIPPED * checking re-building of vignette outputs ... SKIPPED * checking PDF version of manual ... OK * DONE Status: OK
GSE62944.Rcheck/00install.out
############################################################################## ############################################################################## ### ### Running command: ### ### C:\cygwin\bin\curl.exe -O http://172.29.0.4/BBS/3.13/data-experiment/src/contrib/GSE62944_1.19.0.tar.gz && rm -rf GSE62944.buildbin-libdir && mkdir GSE62944.buildbin-libdir && D:\biocbuild\bbs-3.13-bioc\R\bin\R.exe CMD INSTALL --merge-multiarch --build --library=GSE62944.buildbin-libdir GSE62944_1.19.0.tar.gz && D:\biocbuild\bbs-3.13-bioc\R\bin\R.exe CMD INSTALL GSE62944_1.19.0.zip && rm GSE62944_1.19.0.tar.gz GSE62944_1.19.0.zip ### ############################################################################## ############################################################################## % Total % Received % Xferd Average Speed Time Time Time Current Dload Upload Total Spent Left Speed 0 0 0 0 0 0 0 0 --:--:-- --:--:-- --:--:-- 0 100 4977 100 4977 0 0 44044 0 --:--:-- --:--:-- --:--:-- 44437 install for i386 * installing *source* package 'GSE62944' ... ** using staged installation ** inst ** help *** installing help indices converting help for package 'GSE62944' finding HTML links ... done GSE62944-package html REDIRECT:topic GSE62944-package -> GSE62944-package.html [ SUCCESS ] REDIRECT:topic GSE62944 -> GSE62944-package.html [ SUCCESS ] ** building package indices ** installing vignettes ** testing if installed package can be loaded from temporary location ** testing if installed package can be loaded from final location ** testing if installed package keeps a record of temporary installation path install for x64 * installing *source* package 'GSE62944' ... ** testing if installed package can be loaded * MD5 sums packaged installation of 'GSE62944' as GSE62944_1.19.0.zip * DONE (GSE62944) * installing to library 'D:/biocbuild/bbs-3.13-bioc/R/library' package 'GSE62944' successfully unpacked and MD5 sums checked
GSE62944.Rcheck/examples_i386/GSE62944-Ex.timings
|
GSE62944.Rcheck/examples_x64/GSE62944-Ex.timings
|