Back to Multiple platform build/check report for BioC 3.13 experimental data |
|
This page was generated on 2021-01-14 15:59:07 -0500 (Thu, 14 Jan 2021).
TO THE DEVELOPERS/MAINTAINERS OF THE GSE62944 PACKAGE: Please make sure to use the following settings in order to reproduce any error or warning you see on this page. |
Package 148/385 | Hostname | OS / Arch | INSTALL | BUILD | CHECK | ||||||
GSE62944 1.19.0 Bioconductor Package Maintainer
| malbec2 | Linux (Ubuntu 20.04.1 LTS) / x86_64 | OK | OK | OK | ![]() | |||||
riesling1 | Windows Server 2019 Standard / x64 | OK | [ OK ] | OK |
Package: GSE62944 |
Version: 1.19.0 |
Command: chmod a+r GSE62944 -R && D:\biocbuild\bbs-3.13-bioc\R\bin\R.exe CMD build --keep-empty-dirs --no-resave-data GSE62944 |
StartedAt: 2021-01-14 10:38:02 -0500 (Thu, 14 Jan 2021) |
EndedAt: 2021-01-14 10:39:01 -0500 (Thu, 14 Jan 2021) |
EllapsedTime: 59.6 seconds |
RetCode: 0 |
Status: OK |
PackageFile: GSE62944_1.19.0.tar.gz |
PackageFileSize: 223.2 KiB |
############################################################################## ############################################################################## ### ### Running command: ### ### chmod a+r GSE62944 -R && D:\biocbuild\bbs-3.13-bioc\R\bin\R.exe CMD build --keep-empty-dirs --no-resave-data GSE62944 ### ############################################################################## ############################################################################## * checking for file 'GSE62944/DESCRIPTION' ... OK * preparing 'GSE62944': * checking DESCRIPTION meta-information ... OK * installing the package to build vignettes * creating vignettes ... OK * checking for LF line-endings in source and make files and shell scripts * checking for empty or unneeded directories * building 'GSE62944_1.19.0.tar.gz'