Name | Last modified | Size | Description | |
---|---|---|---|---|
Parent Directory | - | |||
buildsrc-out.txt | 17-Oct-2021 04:58 | 810 | ||
buildsrc-summary.dcf | 17-Oct-2021 04:58 | 419 | ||
checksrc-out.txt | 17-Oct-2021 04:58 | 2.9K | ||
checksrc-summary.dcf | 17-Oct-2021 04:58 | 427 | ||
install-out.txt | 17-Oct-2021 04:58 | 892 | ||
install-summary.dcf | 17-Oct-2021 04:58 | 260 | ||