Back to Multiple platform build/check report for BioC 3.13 experimental data
ABCDEF[G]HIJKLMNOPQRSTUVWXYZ

INSTALL report for GSBenchMark on riesling1

This page was generated on 2021-01-14 15:59:07 -0500 (Thu, 14 Jan 2021).

TO THE DEVELOPERS/MAINTAINERS OF THE GSBenchMark PACKAGE: Please make sure to use the following settings in order to reproduce any error or warning you see on this page.
Package 147/385HostnameOS / ArchINSTALLBUILDCHECK
GSBenchMark 1.11.0
Bahman Afsari
Snapshot Date: 2021-01-14 09:00:13 -0500 (Thu, 14 Jan 2021)
URL: https://git.bioconductor.org/packages/GSBenchMark
Branch: master
Last Commit: 4a8ef38
Last Changed Date: 2020-10-27 10:09:32 -0500 (Tue, 27 Oct 2020)
malbec2 Linux (Ubuntu 20.04.1 LTS) / x86_64  OK  OK  OK UNNEEDED, same version exists in internal repository
riesling1 Windows Server 2019 Standard / x64 [ OK ] OK  OK 

Summary

Package: GSBenchMark
Version: 1.11.0
Command: C:\cygwin\bin\curl.exe -O http://172.29.0.4/BBS/3.13/data-experiment/src/contrib/GSBenchMark_1.11.0.tar.gz && rm -rf GSBenchMark.buildbin-libdir && mkdir GSBenchMark.buildbin-libdir && D:\biocbuild\bbs-3.13-bioc\R\bin\R.exe CMD INSTALL --merge-multiarch --build --library=GSBenchMark.buildbin-libdir GSBenchMark_1.11.0.tar.gz && D:\biocbuild\bbs-3.13-bioc\R\bin\R.exe CMD INSTALL GSBenchMark_1.11.0.zip && rm GSBenchMark_1.11.0.tar.gz GSBenchMark_1.11.0.zip
StartedAt: 2021-01-14 09:57:20 -0500 (Thu, 14 Jan 2021)
EndedAt: 2021-01-14 09:57:39 -0500 (Thu, 14 Jan 2021)
EllapsedTime: 18.6 seconds
RetCode: 0
Status:  OK  

Command output

##############################################################################
##############################################################################
###
### Running command:
###
###   C:\cygwin\bin\curl.exe -O http://172.29.0.4/BBS/3.13/data-experiment/src/contrib/GSBenchMark_1.11.0.tar.gz && rm -rf GSBenchMark.buildbin-libdir && mkdir GSBenchMark.buildbin-libdir && D:\biocbuild\bbs-3.13-bioc\R\bin\R.exe CMD INSTALL --merge-multiarch --build --library=GSBenchMark.buildbin-libdir GSBenchMark_1.11.0.tar.gz && D:\biocbuild\bbs-3.13-bioc\R\bin\R.exe CMD INSTALL GSBenchMark_1.11.0.zip && rm GSBenchMark_1.11.0.tar.gz GSBenchMark_1.11.0.zip
###
##############################################################################
##############################################################################


  % Total    % Received % Xferd  Average Speed   Time    Time     Time  Current
                                 Dload  Upload   Total   Spent    Left  Speed

  0     0    0     0    0     0      0      0 --:--:-- --:--:-- --:--:--     0
100 41.7M  100 41.7M    0     0  73.8M      0 --:--:-- --:--:-- --:--:-- 73.8M

install for i386

* installing *source* package 'GSBenchMark' ...
** using staged installation
** data
** help
*** installing help indices
  converting help for package 'GSBenchMark'
    finding HTML links ... done
    GSBenchMark-package                     html  
REDIRECT:topic	 GSBenchMark-package -> GSBenchMark-package.html [ SUCCESS ]
REDIRECT:topic	 GSBenchMark -> GSBenchMark-package.html [ SUCCESS ]
    GSBenchMarkDatasets                     html  
REDIRECT:topic	 GSBenchMarkDatasets -> GSBenchMarkDatasets.html [ SUCCESS ]
REDIRECT:topic	 GSBenchMark.Dataset.names -> GSBenchMarkDatasets.html [ SUCCESS ]
    bipolar_GDS2190                         html  
REDIRECT:topic	 bipolar_GDS2190 -> bipolar_GDS2190.html [ SUCCESS ]
    breast_GDS807                           html  
REDIRECT:topic	 breast_GDS807 -> breast_GDS807.html [ SUCCESS ]
    diracpathways                           html  
REDIRECT:topic	 diracpathways -> diracpathways.html [ SUCCESS ]
    exprsdata                               html  
REDIRECT:topic	 exprsdata -> exprsdata.html [ SUCCESS ]
    leukemia_GSEA                           html  
REDIRECT:topic	 leukemia_GSEA -> leukemia_GSEA.html [ SUCCESS ]
    logexprsdata                            html  
REDIRECT:topic	 logexprsdata -> logexprsdata.html [ SUCCESS ]
    marfan_GDS2960                          html  
REDIRECT:topic	 marfan_GDS2960 -> marfan_GDS2960.html [ SUCCESS ]
    melanoma_GDS2735                        html  
REDIRECT:topic	 melanoma_GDS2735 -> melanoma_GDS2735.html [ SUCCESS ]
    parkinsons_GDS2519                      html  
REDIRECT:topic	 parkinsons_GDS2519 -> parkinsons_GDS2519.html [ SUCCESS ]
    phenotypes                              html  
REDIRECT:topic	 phenotypes -> phenotypes.html [ SUCCESS ]
REDIRECT:topic	 phenotypesLevels -> phenotypes.html [ SUCCESS ]
    prostate_GDS2545_m_nf                   html  
REDIRECT:topic	 prostate_GDS2545_m_nf -> prostate_GDS2545_m_nf.html [ SUCCESS ]
    prostate_GDS2545_m_p                    html  
REDIRECT:topic	 prostate_GDS2545_m_p -> prostate_GDS2545_m_p.html [ SUCCESS ]
    prostate_GDS2545_p_nf                   html  
REDIRECT:topic	 prostate_GDS2545_p_nf -> prostate_GDS2545_p_nf.html [ SUCCESS ]
    sarcoma_data                            html  
REDIRECT:topic	 sarcoma_data -> sarcoma_data.html [ SUCCESS ]
    squamous_GDS2520                        html  
REDIRECT:topic	 squamous_GDS2520 -> squamous_GDS2520.html [ SUCCESS ]
** building package indices
** installing vignettes
** testing if installed package can be loaded from temporary location
** testing if installed package can be loaded from final location
** testing if installed package keeps a record of temporary installation path

install for x64

* installing *source* package 'GSBenchMark' ...
** testing if installed package can be loaded
* MD5 sums
packaged installation of 'GSBenchMark' as GSBenchMark_1.11.0.zip
* DONE (GSBenchMark)
* installing to library 'D:/biocbuild/bbs-3.13-bioc/R/library'
package 'GSBenchMark' successfully unpacked and MD5 sums checked