Back to Multiple platform build/check report for BioC 3.13 experimental data
ABCDE[F]GHIJKLMNOPQRSTUVWXYZ

INSTALL report for FlowSorted.CordBloodNorway.450k on riesling1

This page was generated on 2021-01-18 15:58:47 -0500 (Mon, 18 Jan 2021).

TO THE DEVELOPERS/MAINTAINERS OF THE FlowSorted.CordBloodNorway.450k PACKAGE: Please make sure to use the following settings in order to reproduce any error or warning you see on this page.
Package 130/385HostnameOS / ArchINSTALLBUILDCHECK
FlowSorted.CordBloodNorway.450k 1.17.0
kristina gervin
Snapshot Date: 2021-01-18 09:00:15 -0500 (Mon, 18 Jan 2021)
URL: https://git.bioconductor.org/packages/FlowSorted.CordBloodNorway.450k
Branch: master
Last Commit: fbf8a47
Last Changed Date: 2020-10-27 10:22:16 -0500 (Tue, 27 Oct 2020)
malbec2 Linux (Ubuntu 20.04.1 LTS) / x86_64  OK  OK  OK UNNEEDED, same version exists in internal repository
riesling1 Windows Server 2019 Standard / x64 [ OK ] OK  OK 

Summary

Package: FlowSorted.CordBloodNorway.450k
Version: 1.17.0
Command: C:\cygwin\bin\curl.exe -O http://172.29.0.4/BBS/3.13/data-experiment/src/contrib/FlowSorted.CordBloodNorway.450k_1.17.0.tar.gz && rm -rf FlowSorted.CordBloodNorway.450k.buildbin-libdir && mkdir FlowSorted.CordBloodNorway.450k.buildbin-libdir && D:\biocbuild\bbs-3.13-bioc\R\bin\R.exe CMD INSTALL --merge-multiarch --build --library=FlowSorted.CordBloodNorway.450k.buildbin-libdir FlowSorted.CordBloodNorway.450k_1.17.0.tar.gz && D:\biocbuild\bbs-3.13-bioc\R\bin\R.exe CMD INSTALL FlowSorted.CordBloodNorway.450k_1.17.0.zip && rm FlowSorted.CordBloodNorway.450k_1.17.0.tar.gz FlowSorted.CordBloodNorway.450k_1.17.0.zip
StartedAt: 2021-01-18 10:15:31 -0500 (Mon, 18 Jan 2021)
EndedAt: 2021-01-18 10:19:48 -0500 (Mon, 18 Jan 2021)
EllapsedTime: 257.3 seconds
RetCode: 0
Status:  OK  

Command output

##############################################################################
##############################################################################
###
### Running command:
###
###   C:\cygwin\bin\curl.exe -O http://172.29.0.4/BBS/3.13/data-experiment/src/contrib/FlowSorted.CordBloodNorway.450k_1.17.0.tar.gz && rm -rf FlowSorted.CordBloodNorway.450k.buildbin-libdir && mkdir FlowSorted.CordBloodNorway.450k.buildbin-libdir && D:\biocbuild\bbs-3.13-bioc\R\bin\R.exe CMD INSTALL --merge-multiarch --build --library=FlowSorted.CordBloodNorway.450k.buildbin-libdir FlowSorted.CordBloodNorway.450k_1.17.0.tar.gz && D:\biocbuild\bbs-3.13-bioc\R\bin\R.exe CMD INSTALL FlowSorted.CordBloodNorway.450k_1.17.0.zip && rm FlowSorted.CordBloodNorway.450k_1.17.0.tar.gz FlowSorted.CordBloodNorway.450k_1.17.0.zip
###
##############################################################################
##############################################################################


  % Total    % Received % Xferd  Average Speed   Time    Time     Time  Current
                                 Dload  Upload   Total   Spent    Left  Speed

  0     0    0     0    0     0      0      0 --:--:-- --:--:-- --:--:--     0
 38  163M   38 62.2M    0     0   105M      0  0:00:01 --:--:--  0:00:01  105M
 96  163M   96  157M    0     0  98.7M      0  0:00:01  0:00:01 --:--:-- 98.7M
100  163M  100  163M    0     0  94.6M      0  0:00:01  0:00:01 --:--:-- 94.5M

install for i386

* installing *source* package 'FlowSorted.CordBloodNorway.450k' ...
** using staged installation
** data
*** moving datasets to lazyload DB
** help
*** installing help indices
  converting help for package 'FlowSorted.CordBloodNorway.450k'
    finding HTML links ... done
    FlowSorted.CordBloodNorway.450k         html  
REDIRECT:topic	 FlowSorted.CordBloodNorway.450k -> FlowSorted.CordBloodNorway.450k.html [ SUCCESS ]
** building package indices
** testing if installed package can be loaded from temporary location
** testing if installed package can be loaded from final location
** testing if installed package keeps a record of temporary installation path

install for x64

* installing *source* package 'FlowSorted.CordBloodNorway.450k' ...
** testing if installed package can be loaded
* MD5 sums
packaged installation of 'FlowSorted.CordBloodNorway.450k' as FlowSorted.CordBloodNorway.450k_1.17.0.zip
* DONE (FlowSorted.CordBloodNorway.450k)
* installing to library 'D:/biocbuild/bbs-3.13-bioc/R/library'
package 'FlowSorted.CordBloodNorway.450k' successfully unpacked and MD5 sums checked