Back to Multiple platform build/check report for BioC 3.13 experimental data
ABCDE[F]GHIJKLMNOPQRSTUVWXYZ

CHECK report for FlowSorted.CordBloodNorway.450k on riesling1

This page was generated on 2021-01-11 15:59:30 -0500 (Mon, 11 Jan 2021).

TO THE DEVELOPERS/MAINTAINERS OF THE FlowSorted.CordBloodNorway.450k PACKAGE: Please make sure to use the following settings in order to reproduce any error or warning you see on this page.
Package 130/385HostnameOS / ArchINSTALLBUILDCHECK
FlowSorted.CordBloodNorway.450k 1.17.0
kristina gervin
Snapshot Date: 2021-01-11 09:00:09 -0500 (Mon, 11 Jan 2021)
URL: https://git.bioconductor.org/packages/FlowSorted.CordBloodNorway.450k
Branch: master
Last Commit: fbf8a47
Last Changed Date: 2020-10-27 10:22:16 -0500 (Tue, 27 Oct 2020)
malbec2 Linux (Ubuntu 20.04.1 LTS) / x86_64  OK  OK  OK UNNEEDED, same version exists in internal repository
riesling1 Windows Server 2019 Standard / x64  OK  OK [ OK ]

Summary

Package: FlowSorted.CordBloodNorway.450k
Version: 1.17.0
Command: D:\biocbuild\bbs-3.13-bioc\R\bin\R.exe CMD check --force-multiarch --install=check:FlowSorted.CordBloodNorway.450k.install-out.txt --library=D:\biocbuild\bbs-3.13-bioc\R\library --no-vignettes --timings FlowSorted.CordBloodNorway.450k_1.17.0.tar.gz
StartedAt: 2021-01-11 11:24:14 -0500 (Mon, 11 Jan 2021)
EndedAt: 2021-01-11 11:27:40 -0500 (Mon, 11 Jan 2021)
EllapsedTime: 206.0 seconds
RetCode: 0
Status:  OK  
CheckDir: FlowSorted.CordBloodNorway.450k.Rcheck
Warnings: 0

Command output

##############################################################################
##############################################################################
###
### Running command:
###
###   D:\biocbuild\bbs-3.13-bioc\R\bin\R.exe CMD check --force-multiarch --install=check:FlowSorted.CordBloodNorway.450k.install-out.txt --library=D:\biocbuild\bbs-3.13-bioc\R\library --no-vignettes --timings FlowSorted.CordBloodNorway.450k_1.17.0.tar.gz
###
##############################################################################
##############################################################################


* using log directory 'D:/biocbuild/bbs-3.13-data-experiment/meat/FlowSorted.CordBloodNorway.450k.Rcheck'
* using R Under development (unstable) (2020-12-30 r79736)
* using platform: x86_64-w64-mingw32 (64-bit)
* using session charset: ISO8859-1
* using option '--no-vignettes'
* checking for file 'FlowSorted.CordBloodNorway.450k/DESCRIPTION' ... OK
* this is package 'FlowSorted.CordBloodNorway.450k' version '1.17.0'
* checking package namespace information ... OK
* checking package dependencies ... OK
* checking if this is a source package ... OK
* checking if there is a namespace ... OK
* checking for hidden files and directories ... OK
* checking for portable file names ... OK
* checking whether package 'FlowSorted.CordBloodNorway.450k' can be installed ... OK
* checking installed package size ... NOTE
  installed size is 432.5Mb
  sub-directories of 1Mb or more:
    data  432.5Mb
* checking package directory ... OK
* checking DESCRIPTION meta-information ... OK
* checking top-level files ... OK
* checking for left-over files ... OK
* checking index information ... OK
* checking package subdirectories ... OK
* loading checks for arch 'i386'
** checking whether the package can be loaded ... OK
** checking whether the package can be loaded with stated dependencies ... OK
** checking whether the package can be unloaded cleanly ... OK
** checking whether the namespace can be loaded with stated dependencies ... OK
** checking whether the namespace can be unloaded cleanly ... OK
* loading checks for arch 'x64'
** checking whether the package can be loaded ... OK
** checking whether the package can be loaded with stated dependencies ... OK
** checking whether the package can be unloaded cleanly ... OK
** checking whether the namespace can be loaded with stated dependencies ... OK
** checking whether the namespace can be unloaded cleanly ... OK
* checking Rd files ... OK
* checking Rd metadata ... OK
* checking Rd cross-references ... OK
* checking for missing documentation entries ... OK
* checking for code/documentation mismatches ... OK
* checking Rd \usage sections ... OK
* checking Rd contents ... OK
* checking for unstated dependencies in examples ... OK
* checking contents of 'data' directory ... OK
* checking data for non-ASCII characters ... OK
* checking data for ASCII and uncompressed saves ... OK
* checking examples ...
** running examples for arch 'i386' ... OK
** running examples for arch 'x64' ... OK
* checking PDF version of manual ... OK
* DONE

Status: 1 NOTE
See
  'D:/biocbuild/bbs-3.13-data-experiment/meat/FlowSorted.CordBloodNorway.450k.Rcheck/00check.log'
for details.



Installation output

FlowSorted.CordBloodNorway.450k.Rcheck/00install.out

##############################################################################
##############################################################################
###
### Running command:
###
###   C:\cygwin\bin\curl.exe -O http://172.29.0.4/BBS/3.13/data-experiment/src/contrib/FlowSorted.CordBloodNorway.450k_1.17.0.tar.gz && rm -rf FlowSorted.CordBloodNorway.450k.buildbin-libdir && mkdir FlowSorted.CordBloodNorway.450k.buildbin-libdir && D:\biocbuild\bbs-3.13-bioc\R\bin\R.exe CMD INSTALL --merge-multiarch --build --library=FlowSorted.CordBloodNorway.450k.buildbin-libdir FlowSorted.CordBloodNorway.450k_1.17.0.tar.gz && D:\biocbuild\bbs-3.13-bioc\R\bin\R.exe CMD INSTALL FlowSorted.CordBloodNorway.450k_1.17.0.zip && rm FlowSorted.CordBloodNorway.450k_1.17.0.tar.gz FlowSorted.CordBloodNorway.450k_1.17.0.zip
###
##############################################################################
##############################################################################


  % Total    % Received % Xferd  Average Speed   Time    Time     Time  Current
                                 Dload  Upload   Total   Spent    Left  Speed

  0     0    0     0    0     0      0      0 --:--:-- --:--:-- --:--:--     0
  1  163M    1 1759k    0     0  3043k      0  0:00:55 --:--:--  0:00:55 3043k
 15  163M   15 24.5M    0     0  16.1M      0  0:00:10  0:00:01  0:00:09 16.0M
 64  163M   64  106M    0     0  42.0M      0  0:00:03  0:00:02  0:00:01 42.0M
100  163M  100  163M    0     0  52.5M      0  0:00:03  0:00:03 --:--:-- 52.5M

install for i386

* installing *source* package 'FlowSorted.CordBloodNorway.450k' ...
** using staged installation
** data
*** moving datasets to lazyload DB
** help
*** installing help indices
  converting help for package 'FlowSorted.CordBloodNorway.450k'
    finding HTML links ... done
    FlowSorted.CordBloodNorway.450k         html  
REDIRECT:topic	 FlowSorted.CordBloodNorway.450k -> FlowSorted.CordBloodNorway.450k.html [ SUCCESS ]
** building package indices
** testing if installed package can be loaded from temporary location
** testing if installed package can be loaded from final location
** testing if installed package keeps a record of temporary installation path

install for x64

* installing *source* package 'FlowSorted.CordBloodNorway.450k' ...
** testing if installed package can be loaded
* MD5 sums
packaged installation of 'FlowSorted.CordBloodNorway.450k' as FlowSorted.CordBloodNorway.450k_1.17.0.zip
* DONE (FlowSorted.CordBloodNorway.450k)
* installing to library 'D:/biocbuild/bbs-3.13-bioc/R/library'
package 'FlowSorted.CordBloodNorway.450k' successfully unpacked and MD5 sums checked

Tests output


Example timings

FlowSorted.CordBloodNorway.450k.Rcheck/examples_i386/FlowSorted.CordBloodNorway.450k-Ex.timings

nameusersystemelapsed
FlowSorted.CordBloodNorway.450k0.000.020.02

FlowSorted.CordBloodNorway.450k.Rcheck/examples_x64/FlowSorted.CordBloodNorway.450k-Ex.timings

nameusersystemelapsed
FlowSorted.CordBloodNorway.450k000