Back to Multiple platform build/check report for BioC 3.13 experimental data
ABCDE[F]GHIJKLMNOPQRSTUVWXYZ

BUILD report for FlowSorted.CordBloodNorway.450k on riesling1

This page was generated on 2021-01-21 16:01:28 -0500 (Thu, 21 Jan 2021).

TO THE DEVELOPERS/MAINTAINERS OF THE FlowSorted.CordBloodNorway.450k PACKAGE: Please make sure to use the following settings in order to reproduce any error or warning you see on this page.
Package 130/386HostnameOS / ArchINSTALLBUILDCHECK
FlowSorted.CordBloodNorway.450k 1.17.0
kristina gervin
Snapshot Date: 2021-01-21 09:00:14 -0500 (Thu, 21 Jan 2021)
URL: https://git.bioconductor.org/packages/FlowSorted.CordBloodNorway.450k
Branch: master
Last Commit: fbf8a47
Last Changed Date: 2020-10-27 10:22:16 -0500 (Tue, 27 Oct 2020)
malbec2 Linux (Ubuntu 20.04.1 LTS) / x86_64  OK  OK  OK UNNEEDED, same version exists in internal repository
riesling1 Windows Server 2019 Standard / x64  OK [ OK ] OK 

Summary

Package: FlowSorted.CordBloodNorway.450k
Version: 1.17.0
Command: chmod a+r FlowSorted.CordBloodNorway.450k -R && D:\biocbuild\bbs-3.13-bioc\R\bin\R.exe CMD build --keep-empty-dirs --no-resave-data FlowSorted.CordBloodNorway.450k
StartedAt: 2021-01-21 10:38:58 -0500 (Thu, 21 Jan 2021)
EndedAt: 2021-01-21 10:39:10 -0500 (Thu, 21 Jan 2021)
EllapsedTime: 12.1 seconds
RetCode: 0
Status:  OK  
PackageFile: FlowSorted.CordBloodNorway.450k_1.17.0.tar.gz
PackageFileSize: 163.5 MiB

Command output

##############################################################################
##############################################################################
###
### Running command:
###
###   chmod a+r FlowSorted.CordBloodNorway.450k -R && D:\biocbuild\bbs-3.13-bioc\R\bin\R.exe CMD build --keep-empty-dirs --no-resave-data FlowSorted.CordBloodNorway.450k
###
##############################################################################
##############################################################################


* checking for file 'FlowSorted.CordBloodNorway.450k/DESCRIPTION' ... OK
* preparing 'FlowSorted.CordBloodNorway.450k':
* checking DESCRIPTION meta-information ... OK
* checking for LF line-endings in source and make files and shell scripts
* checking for empty or unneeded directories
* building 'FlowSorted.CordBloodNorway.450k_1.17.0.tar.gz'