Back to Multiple platform build/check report for BioC 3.13 experimental data
ABCDE[F]GHIJKLMNOPQRSTUVWXYZ

INSTALL report for FlowSorted.CordBloodCombined.450k on riesling1

This page was generated on 2021-01-21 16:01:28 -0500 (Thu, 21 Jan 2021).

TO THE DEVELOPERS/MAINTAINERS OF THE FlowSorted.CordBloodCombined.450k PACKAGE: Please make sure to use the following settings in order to reproduce any error or warning you see on this page.
Package 129/386HostnameOS / ArchINSTALLBUILDCHECK
FlowSorted.CordBloodCombined.450k 1.7.0
Lucas A. Salas
Snapshot Date: 2021-01-21 09:00:14 -0500 (Thu, 21 Jan 2021)
URL: https://git.bioconductor.org/packages/FlowSorted.CordBloodCombined.450k
Branch: master
Last Commit: e4540b1
Last Changed Date: 2020-10-27 10:29:27 -0500 (Tue, 27 Oct 2020)
malbec2 Linux (Ubuntu 20.04.1 LTS) / x86_64  OK  OK  OK UNNEEDED, same version exists in internal repository
riesling1 Windows Server 2019 Standard / x64 [ OK ] OK  OK 

Summary

Package: FlowSorted.CordBloodCombined.450k
Version: 1.7.0
Command: C:\cygwin\bin\curl.exe -O http://172.29.0.4/BBS/3.13/data-experiment/src/contrib/FlowSorted.CordBloodCombined.450k_1.7.0.tar.gz && rm -rf FlowSorted.CordBloodCombined.450k.buildbin-libdir && mkdir FlowSorted.CordBloodCombined.450k.buildbin-libdir && D:\biocbuild\bbs-3.13-bioc\R\bin\R.exe CMD INSTALL --merge-multiarch --build --library=FlowSorted.CordBloodCombined.450k.buildbin-libdir FlowSorted.CordBloodCombined.450k_1.7.0.tar.gz && D:\biocbuild\bbs-3.13-bioc\R\bin\R.exe CMD INSTALL FlowSorted.CordBloodCombined.450k_1.7.0.zip && rm FlowSorted.CordBloodCombined.450k_1.7.0.tar.gz FlowSorted.CordBloodCombined.450k_1.7.0.zip
StartedAt: 2021-01-21 10:15:03 -0500 (Thu, 21 Jan 2021)
EndedAt: 2021-01-21 10:18:31 -0500 (Thu, 21 Jan 2021)
EllapsedTime: 208.1 seconds
RetCode: 0
Status:  OK  

Command output

##############################################################################
##############################################################################
###
### Running command:
###
###   C:\cygwin\bin\curl.exe -O http://172.29.0.4/BBS/3.13/data-experiment/src/contrib/FlowSorted.CordBloodCombined.450k_1.7.0.tar.gz && rm -rf FlowSorted.CordBloodCombined.450k.buildbin-libdir && mkdir FlowSorted.CordBloodCombined.450k.buildbin-libdir && D:\biocbuild\bbs-3.13-bioc\R\bin\R.exe CMD INSTALL --merge-multiarch --build --library=FlowSorted.CordBloodCombined.450k.buildbin-libdir FlowSorted.CordBloodCombined.450k_1.7.0.tar.gz && D:\biocbuild\bbs-3.13-bioc\R\bin\R.exe CMD INSTALL FlowSorted.CordBloodCombined.450k_1.7.0.zip && rm FlowSorted.CordBloodCombined.450k_1.7.0.tar.gz FlowSorted.CordBloodCombined.450k_1.7.0.zip
###
##############################################################################
##############################################################################


  % Total    % Received % Xferd  Average Speed   Time    Time     Time  Current
                                 Dload  Upload   Total   Spent    Left  Speed

  0     0    0     0    0     0      0      0 --:--:-- --:--:-- --:--:--     0
100 50838  100 50838    0     0   545k      0 --:--:-- --:--:-- --:--:--  545k

install for i386

* installing *source* package 'FlowSorted.CordBloodCombined.450k' ...
** using staged installation
** R
** data
** inst
** byte-compile and prepare package for lazy loading
** help
*** installing help indices
  converting help for package 'FlowSorted.CordBloodCombined.450k'
    finding HTML links ... done
    FlowSorted.CordBloodCombined.450K       html  
REDIRECT:topic	 FlowSorted.CordBloodCombined.450k -> FlowSorted.CordBloodCombined.450K.html [ SUCCESS ]
    FlowSorted.CordBloodCombined.450k.compTable
                                            html  
REDIRECT:topic	 FlowSorted.CordBloodCombined.450k.compTable -> FlowSorted.CordBloodCombined.450k.compTable.html [ SUCCESS ]
    IDOLOptimizedCpGsCordBlood              html  
REDIRECT:topic	 IDOLOptimizedCpGsCordBlood -> IDOLOptimizedCpGsCordBlood.html [ SUCCESS ]
** building package indices
** installing vignettes
** testing if installed package can be loaded from temporary location
snapshotDate(): 2021-01-20
** testing if installed package can be loaded from final location
snapshotDate(): 2021-01-20
** testing if installed package keeps a record of temporary installation path

install for x64

* installing *source* package 'FlowSorted.CordBloodCombined.450k' ...
** testing if installed package can be loaded
snapshotDate(): 2021-01-20
* MD5 sums
packaged installation of 'FlowSorted.CordBloodCombined.450k' as FlowSorted.CordBloodCombined.450k_1.7.0.zip
* DONE (FlowSorted.CordBloodCombined.450k)
* installing to library 'D:/biocbuild/bbs-3.13-bioc/R/library'
package 'FlowSorted.CordBloodCombined.450k' successfully unpacked and MD5 sums checked