Back to Multiple platform build/check report for BioC 3.13 experimental data
ABCDE[F]GHIJKLMNOPQRSTUVWXYZ

BUILD report for FlowSorted.CordBloodCombined.450k on riesling1

This page was generated on 2021-01-21 16:01:28 -0500 (Thu, 21 Jan 2021).

TO THE DEVELOPERS/MAINTAINERS OF THE FlowSorted.CordBloodCombined.450k PACKAGE: Please make sure to use the following settings in order to reproduce any error or warning you see on this page.
Package 129/386HostnameOS / ArchINSTALLBUILDCHECK
FlowSorted.CordBloodCombined.450k 1.7.0
Lucas A. Salas
Snapshot Date: 2021-01-21 09:00:14 -0500 (Thu, 21 Jan 2021)
URL: https://git.bioconductor.org/packages/FlowSorted.CordBloodCombined.450k
Branch: master
Last Commit: e4540b1
Last Changed Date: 2020-10-27 10:29:27 -0500 (Tue, 27 Oct 2020)
malbec2 Linux (Ubuntu 20.04.1 LTS) / x86_64  OK  OK  OK UNNEEDED, same version exists in internal repository
riesling1 Windows Server 2019 Standard / x64  OK [ OK ] OK 

Summary

Package: FlowSorted.CordBloodCombined.450k
Version: 1.7.0
Command: chmod a+r FlowSorted.CordBloodCombined.450k -R && D:\biocbuild\bbs-3.13-bioc\R\bin\R.exe CMD build --keep-empty-dirs --no-resave-data FlowSorted.CordBloodCombined.450k
StartedAt: 2021-01-21 10:38:48 -0500 (Thu, 21 Jan 2021)
EndedAt: 2021-01-21 10:41:38 -0500 (Thu, 21 Jan 2021)
EllapsedTime: 170.5 seconds
RetCode: 0
Status:  OK  
PackageFile: FlowSorted.CordBloodCombined.450k_1.7.0.tar.gz
PackageFileSize: 56.9 KiB

Command output

##############################################################################
##############################################################################
###
### Running command:
###
###   chmod a+r FlowSorted.CordBloodCombined.450k -R && D:\biocbuild\bbs-3.13-bioc\R\bin\R.exe CMD build --keep-empty-dirs --no-resave-data FlowSorted.CordBloodCombined.450k
###
##############################################################################
##############################################################################


* checking for file 'FlowSorted.CordBloodCombined.450k/DESCRIPTION' ... OK
* preparing 'FlowSorted.CordBloodCombined.450k':
* checking DESCRIPTION meta-information ... OK
* installing the package to build vignettes
* creating vignettes ... OK
* checking for LF line-endings in source and make files and shell scripts
* checking for empty or unneeded directories
WARNING: directory 'FlowSorted.CordBloodCombined.450k/FlowSorted.CordBloodCombined.450k' is empty
* looking to see if a 'data/datalist' file should be added
* building 'FlowSorted.CordBloodCombined.450k_1.7.0.tar.gz'