Back to Multiple platform build/check report for BioC 3.13 experimental data
ABCDE[F]GHIJKLMNOPQRSTUVWXYZ

INSTALL report for FlowSorted.CordBlood.450k on riesling1

This page was generated on 2021-01-21 16:01:28 -0500 (Thu, 21 Jan 2021).

TO THE DEVELOPERS/MAINTAINERS OF THE FlowSorted.CordBlood.450k PACKAGE: Please make sure to use the following settings in order to reproduce any error or warning you see on this page.
Package 128/386HostnameOS / ArchINSTALLBUILDCHECK
FlowSorted.CordBlood.450k 1.19.0
Shan V. Andrews
Snapshot Date: 2021-01-21 09:00:14 -0500 (Thu, 21 Jan 2021)
URL: https://git.bioconductor.org/packages/FlowSorted.CordBlood.450k
Branch: master
Last Commit: b7e7f56
Last Changed Date: 2020-10-27 10:17:56 -0500 (Tue, 27 Oct 2020)
malbec2 Linux (Ubuntu 20.04.1 LTS) / x86_64  OK  OK  OK UNNEEDED, same version exists in internal repository
riesling1 Windows Server 2019 Standard / x64 [ ERROR ] OK  ERROR 

Summary

Package: FlowSorted.CordBlood.450k
Version: 1.19.0
Command: C:\cygwin\bin\curl.exe -O http://172.29.0.4/BBS/3.13/data-experiment/src/contrib/FlowSorted.CordBlood.450k_1.19.0.tar.gz && rm -rf FlowSorted.CordBlood.450k.buildbin-libdir && mkdir FlowSorted.CordBlood.450k.buildbin-libdir && D:\biocbuild\bbs-3.13-bioc\R\bin\R.exe CMD INSTALL --merge-multiarch --build --library=FlowSorted.CordBlood.450k.buildbin-libdir FlowSorted.CordBlood.450k_1.19.0.tar.gz && D:\biocbuild\bbs-3.13-bioc\R\bin\R.exe CMD INSTALL FlowSorted.CordBlood.450k_1.19.0.zip && rm FlowSorted.CordBlood.450k_1.19.0.tar.gz FlowSorted.CordBlood.450k_1.19.0.zip
StartedAt: 2021-01-21 10:14:20 -0500 (Thu, 21 Jan 2021)
EndedAt: 2021-01-21 10:15:36 -0500 (Thu, 21 Jan 2021)
EllapsedTime: 76.3 seconds
RetCode: 1
Status:  ERROR  

Command output

##############################################################################
##############################################################################
###
### Running command:
###
###   C:\cygwin\bin\curl.exe -O http://172.29.0.4/BBS/3.13/data-experiment/src/contrib/FlowSorted.CordBlood.450k_1.19.0.tar.gz && rm -rf FlowSorted.CordBlood.450k.buildbin-libdir && mkdir FlowSorted.CordBlood.450k.buildbin-libdir && D:\biocbuild\bbs-3.13-bioc\R\bin\R.exe CMD INSTALL --merge-multiarch --build --library=FlowSorted.CordBlood.450k.buildbin-libdir FlowSorted.CordBlood.450k_1.19.0.tar.gz && D:\biocbuild\bbs-3.13-bioc\R\bin\R.exe CMD INSTALL FlowSorted.CordBlood.450k_1.19.0.zip && rm FlowSorted.CordBlood.450k_1.19.0.tar.gz FlowSorted.CordBlood.450k_1.19.0.zip
###
##############################################################################
##############################################################################


  % Total    % Received % Xferd  Average Speed   Time    Time     Time  Current
                                 Dload  Upload   Total   Spent    Left  Speed

  0     0    0     0    0     0      0      0 --:--:-- --:--:-- --:--:--     0
  3  259M    3 8172k    0     0  11.9M      0  0:00:21 --:--:--  0:00:21 11.8M
 17  259M   17 45.9M    0     0  23.8M      0  0:00:10  0:00:01  0:00:09 23.8M
 37  259M   37 97.9M    0     0  36.5M      0  0:00:07  0:00:02  0:00:05 36.5M
 57  259M   57  148M    0     0  40.9M      0  0:00:06  0:00:03  0:00:03 40.9M
 73  259M   73  191M    0     0  41.2M      0  0:00:06  0:00:04  0:00:02 41.2M
 98  259M   98  254M    0     0  45.1M      0  0:00:05  0:00:05 --:--:-- 49.6M
100  259M  100  259M    0     0  45.5M      0  0:00:05  0:00:05 --:--:-- 56.7M

install for i386

* installing *source* package 'FlowSorted.CordBlood.450k' ...
** using staged installation
** data
*** moving datasets to lazyload DB
Error in lazyLoadDBinsertValue(data, datafile, ascii, compress, envhook) : 
  cannot allocate buffer
ERROR: lazydata failed for package 'FlowSorted.CordBlood.450k'
* removing 'D:/biocbuild/bbs-3.13-data-experiment/meat/FlowSorted.CordBlood.450k.buildbin-libdir/FlowSorted.CordBlood.450k'