Back to Multiple platform build/check report for BioC 3.13 experimental data
ABCDE[F]GHIJKLMNOPQRSTUVWXYZ

BUILD report for FlowSorted.CordBlood.450k on riesling1

This page was generated on 2021-01-18 15:58:47 -0500 (Mon, 18 Jan 2021).

TO THE DEVELOPERS/MAINTAINERS OF THE FlowSorted.CordBlood.450k PACKAGE: Please make sure to use the following settings in order to reproduce any error or warning you see on this page.
Package 128/385HostnameOS / ArchINSTALLBUILDCHECK
FlowSorted.CordBlood.450k 1.19.0
Shan V. Andrews
Snapshot Date: 2021-01-18 09:00:15 -0500 (Mon, 18 Jan 2021)
URL: https://git.bioconductor.org/packages/FlowSorted.CordBlood.450k
Branch: master
Last Commit: b7e7f56
Last Changed Date: 2020-10-27 10:17:56 -0500 (Tue, 27 Oct 2020)
malbec2 Linux (Ubuntu 20.04.1 LTS) / x86_64  OK  OK  OK UNNEEDED, same version exists in internal repository
riesling1 Windows Server 2019 Standard / x64  ERROR [ OK ] ERROR 

Summary

Package: FlowSorted.CordBlood.450k
Version: 1.19.0
Command: chmod a+r FlowSorted.CordBlood.450k -R && D:\biocbuild\bbs-3.13-bioc\R\bin\R.exe CMD build --keep-empty-dirs --no-resave-data FlowSorted.CordBlood.450k
StartedAt: 2021-01-18 10:38:35 -0500 (Mon, 18 Jan 2021)
EndedAt: 2021-01-18 10:43:12 -0500 (Mon, 18 Jan 2021)
EllapsedTime: 277.5 seconds
RetCode: 0
Status:  OK  
PackageFile: FlowSorted.CordBlood.450k_1.19.0.tar.gz
PackageFileSize: 259.3 MiB

Command output

##############################################################################
##############################################################################
###
### Running command:
###
###   chmod a+r FlowSorted.CordBlood.450k -R && D:\biocbuild\bbs-3.13-bioc\R\bin\R.exe CMD build --keep-empty-dirs --no-resave-data FlowSorted.CordBlood.450k
###
##############################################################################
##############################################################################


* checking for file 'FlowSorted.CordBlood.450k/DESCRIPTION' ... OK
* preparing 'FlowSorted.CordBlood.450k':
* checking DESCRIPTION meta-information ... OK
* installing the package to process help pages
* saving partial Rd database
* creating vignettes ... OK
* checking for LF line-endings in source and make files and shell scripts
* checking for empty or unneeded directories
* building 'FlowSorted.CordBlood.450k_1.19.0.tar.gz'