Back to Multiple platform build/check report for BioC 3.13 experimental data
ABCDE[F]GHIJKLMNOPQRSTUVWXYZ

INSTALL report for FlowSorted.Blood.EPIC on riesling1

This page was generated on 2021-01-21 16:01:28 -0500 (Thu, 21 Jan 2021).

TO THE DEVELOPERS/MAINTAINERS OF THE FlowSorted.Blood.EPIC PACKAGE: Please make sure to use the following settings in order to reproduce any error or warning you see on this page.
Package 127/386HostnameOS / ArchINSTALLBUILDCHECK
FlowSorted.Blood.EPIC 1.9.0
Lucas A. Salas
Snapshot Date: 2021-01-21 09:00:14 -0500 (Thu, 21 Jan 2021)
URL: https://git.bioconductor.org/packages/FlowSorted.Blood.EPIC
Branch: master
Last Commit: ca58771
Last Changed Date: 2020-10-27 10:26:55 -0500 (Tue, 27 Oct 2020)
malbec2 Linux (Ubuntu 20.04.1 LTS) / x86_64  OK  OK  OK UNNEEDED, same version exists in internal repository
riesling1 Windows Server 2019 Standard / x64 [ OK ] OK  ERROR 

Summary

Package: FlowSorted.Blood.EPIC
Version: 1.9.0
Command: C:\cygwin\bin\curl.exe -O http://172.29.0.4/BBS/3.13/data-experiment/src/contrib/FlowSorted.Blood.EPIC_1.9.0.tar.gz && rm -rf FlowSorted.Blood.EPIC.buildbin-libdir && mkdir FlowSorted.Blood.EPIC.buildbin-libdir && D:\biocbuild\bbs-3.13-bioc\R\bin\R.exe CMD INSTALL --merge-multiarch --build --library=FlowSorted.Blood.EPIC.buildbin-libdir FlowSorted.Blood.EPIC_1.9.0.tar.gz && D:\biocbuild\bbs-3.13-bioc\R\bin\R.exe CMD INSTALL FlowSorted.Blood.EPIC_1.9.0.zip && rm FlowSorted.Blood.EPIC_1.9.0.tar.gz FlowSorted.Blood.EPIC_1.9.0.zip
StartedAt: 2021-01-21 10:14:10 -0500 (Thu, 21 Jan 2021)
EndedAt: 2021-01-21 10:14:54 -0500 (Thu, 21 Jan 2021)
EllapsedTime: 44.4 seconds
RetCode: 0
Status:  OK  

Command output

##############################################################################
##############################################################################
###
### Running command:
###
###   C:\cygwin\bin\curl.exe -O http://172.29.0.4/BBS/3.13/data-experiment/src/contrib/FlowSorted.Blood.EPIC_1.9.0.tar.gz && rm -rf FlowSorted.Blood.EPIC.buildbin-libdir && mkdir FlowSorted.Blood.EPIC.buildbin-libdir && D:\biocbuild\bbs-3.13-bioc\R\bin\R.exe CMD INSTALL --merge-multiarch --build --library=FlowSorted.Blood.EPIC.buildbin-libdir FlowSorted.Blood.EPIC_1.9.0.tar.gz && D:\biocbuild\bbs-3.13-bioc\R\bin\R.exe CMD INSTALL FlowSorted.Blood.EPIC_1.9.0.zip && rm FlowSorted.Blood.EPIC_1.9.0.tar.gz FlowSorted.Blood.EPIC_1.9.0.zip
###
##############################################################################
##############################################################################


  % Total    % Received % Xferd  Average Speed   Time    Time     Time  Current
                                 Dload  Upload   Total   Spent    Left  Speed

  0     0    0     0    0     0      0      0 --:--:-- --:--:-- --:--:--     0
100 77119  100 77119    0     0  1981k      0 --:--:-- --:--:-- --:--:-- 1981k

install for i386

* installing *source* package 'FlowSorted.Blood.EPIC' ...
** using staged installation
** R
** data
*** moving datasets to lazyload DB
** inst
** byte-compile and prepare package for lazy loading
** help
*** installing help indices
  converting help for package 'FlowSorted.Blood.EPIC'
    finding HTML links ... done
    FlowSorted.Blood.EPIC                   html  
REDIRECT:topic	 FlowSorted.Blood.EPIC -> FlowSorted.Blood.EPIC.html [ SUCCESS ]
    IDOLOptimizedCpGs                       html  
REDIRECT:topic	 IDOLOptimizedCpGs -> IDOLOptimizedCpGs.html [ SUCCESS ]
    IDOLOptimizedCpGs.compTable             html  
REDIRECT:topic	 IDOLOptimizedCpGs.compTable -> IDOLOptimizedCpGs.compTable.html [ SUCCESS ]
    IDOLOptimizedCpGs450klegacy             html  
REDIRECT:topic	 IDOLOptimizedCpGs450klegacy -> IDOLOptimizedCpGs450klegacy.html [ SUCCESS ]
    IDOLOptimizedCpGs450klegacy.compTable   html  
REDIRECT:topic	 IDOLOptimizedCpGs450klegacy.compTable -> IDOLOptimizedCpGs450klegacy.compTable.html [ SUCCESS ]
    estimateCellCounts2                     html  
REDIRECT:topic	 estimateCellCounts2 -> estimateCellCounts2.html [ SUCCESS ]
    projectCellType_CP                      html  
REDIRECT:topic	 projectCellType_CP -> projectCellType_CP.html [ SUCCESS ]
** building package indices
** installing vignettes
** testing if installed package can be loaded from temporary location
** testing if installed package can be loaded from final location
** testing if installed package keeps a record of temporary installation path

install for x64

* installing *source* package 'FlowSorted.Blood.EPIC' ...
** testing if installed package can be loaded
* MD5 sums
packaged installation of 'FlowSorted.Blood.EPIC' as FlowSorted.Blood.EPIC_1.9.0.zip
* DONE (FlowSorted.Blood.EPIC)
* installing to library 'D:/biocbuild/bbs-3.13-bioc/R/library'
package 'FlowSorted.Blood.EPIC' successfully unpacked and MD5 sums checked