Back to Multiple platform build/check report for BioC 3.13 experimental data |
|
This page was generated on 2021-01-14 15:59:07 -0500 (Thu, 14 Jan 2021).
TO THE DEVELOPERS/MAINTAINERS OF THE FlowSorted.Blood.EPIC PACKAGE: Please make sure to use the following settings in order to reproduce any error or warning you see on this page. |
Package 127/385 | Hostname | OS / Arch | INSTALL | BUILD | CHECK | ||||||
FlowSorted.Blood.EPIC 1.9.0 Lucas A. Salas
| malbec2 | Linux (Ubuntu 20.04.1 LTS) / x86_64 | OK | OK | OK | ![]() | |||||
riesling1 | Windows Server 2019 Standard / x64 | OK | [ OK ] | ERROR |
Package: FlowSorted.Blood.EPIC |
Version: 1.9.0 |
Command: chmod a+r FlowSorted.Blood.EPIC -R && D:\biocbuild\bbs-3.13-bioc\R\bin\R.exe CMD build --keep-empty-dirs --no-resave-data FlowSorted.Blood.EPIC |
StartedAt: 2021-01-14 10:34:48 -0500 (Thu, 14 Jan 2021) |
EndedAt: 2021-01-14 10:42:18 -0500 (Thu, 14 Jan 2021) |
EllapsedTime: 449.9 seconds |
RetCode: 0 |
Status: OK |
PackageFile: FlowSorted.Blood.EPIC_1.9.0.tar.gz |
PackageFileSize: 85.36 KiB |
############################################################################## ############################################################################## ### ### Running command: ### ### chmod a+r FlowSorted.Blood.EPIC -R && D:\biocbuild\bbs-3.13-bioc\R\bin\R.exe CMD build --keep-empty-dirs --no-resave-data FlowSorted.Blood.EPIC ### ############################################################################## ############################################################################## * checking for file 'FlowSorted.Blood.EPIC/DESCRIPTION' ... OK * preparing 'FlowSorted.Blood.EPIC': * checking DESCRIPTION meta-information ... OK * installing the package to build vignettes * creating vignettes ... OK * checking for LF line-endings in source and make files and shell scripts * checking for empty or unneeded directories * building 'FlowSorted.Blood.EPIC_1.9.0.tar.gz'