Back to Multiple platform build/check report for BioC 3.13 experimental data |
|
This page was generated on 2021-01-18 15:58:47 -0500 (Mon, 18 Jan 2021).
TO THE DEVELOPERS/MAINTAINERS OF THE FlowSorted.Blood.450k PACKAGE: Please make sure to use the following settings in order to reproduce any error or warning you see on this page. |
Package 126/385 | Hostname | OS / Arch | INSTALL | BUILD | CHECK | ||||||
FlowSorted.Blood.450k 1.29.0 Andrew E Jaffe
| malbec2 | Linux (Ubuntu 20.04.1 LTS) / x86_64 | OK | OK | OK | ![]() | |||||
riesling1 | Windows Server 2019 Standard / x64 | OK | OK | [ OK ] |
Package: FlowSorted.Blood.450k |
Version: 1.29.0 |
Command: D:\biocbuild\bbs-3.13-bioc\R\bin\R.exe CMD check --force-multiarch --install=check:FlowSorted.Blood.450k.install-out.txt --library=D:\biocbuild\bbs-3.13-bioc\R\library --no-vignettes --timings FlowSorted.Blood.450k_1.29.0.tar.gz |
StartedAt: 2021-01-18 11:22:24 -0500 (Mon, 18 Jan 2021) |
EndedAt: 2021-01-18 11:25:34 -0500 (Mon, 18 Jan 2021) |
EllapsedTime: 190.4 seconds |
RetCode: 0 |
Status: OK |
CheckDir: FlowSorted.Blood.450k.Rcheck |
Warnings: 0 |
############################################################################## ############################################################################## ### ### Running command: ### ### D:\biocbuild\bbs-3.13-bioc\R\bin\R.exe CMD check --force-multiarch --install=check:FlowSorted.Blood.450k.install-out.txt --library=D:\biocbuild\bbs-3.13-bioc\R\library --no-vignettes --timings FlowSorted.Blood.450k_1.29.0.tar.gz ### ############################################################################## ############################################################################## * using log directory 'D:/biocbuild/bbs-3.13-data-experiment/meat/FlowSorted.Blood.450k.Rcheck' * using R Under development (unstable) (2020-12-30 r79736) * using platform: x86_64-w64-mingw32 (64-bit) * using session charset: ISO8859-1 * using option '--no-vignettes' * checking for file 'FlowSorted.Blood.450k/DESCRIPTION' ... OK * this is package 'FlowSorted.Blood.450k' version '1.29.0' * checking package namespace information ... OK * checking package dependencies ... OK * checking if this is a source package ... OK * checking if there is a namespace ... OK * checking for hidden files and directories ... OK * checking for portable file names ... OK * checking whether package 'FlowSorted.Blood.450k' can be installed ... OK * checking installed package size ... NOTE installed size is 384.9Mb sub-directories of 1Mb or more: data 384.8Mb * checking package directory ... OK * checking 'build' directory ... OK * checking DESCRIPTION meta-information ... OK * checking top-level files ... OK * checking for left-over files ... OK * checking index information ... OK * checking package subdirectories ... OK * loading checks for arch 'i386' ** checking whether the package can be loaded ... OK ** checking whether the package can be loaded with stated dependencies ... OK ** checking whether the package can be unloaded cleanly ... OK ** checking whether the namespace can be loaded with stated dependencies ... OK ** checking whether the namespace can be unloaded cleanly ... OK * loading checks for arch 'x64' ** checking whether the package can be loaded ... OK ** checking whether the package can be loaded with stated dependencies ... OK ** checking whether the package can be unloaded cleanly ... OK ** checking whether the namespace can be loaded with stated dependencies ... OK ** checking whether the namespace can be unloaded cleanly ... OK * checking Rd files ... OK * checking Rd metadata ... OK * checking Rd cross-references ... OK * checking for missing documentation entries ... OK * checking for code/documentation mismatches ... OK * checking Rd \usage sections ... OK * checking Rd contents ... OK * checking for unstated dependencies in examples ... OK * checking contents of 'data' directory ... OK * checking data for non-ASCII characters ... OK * checking data for ASCII and uncompressed saves ... OK * checking files in 'vignettes' ... OK * checking examples ... ** running examples for arch 'i386' ... OK ** running examples for arch 'x64' ... OK * checking for unstated dependencies in vignettes ... OK * checking package vignettes in 'inst/doc' ... OK * checking running R code from vignettes ... SKIPPED * checking re-building of vignette outputs ... SKIPPED * checking PDF version of manual ... OK * DONE Status: 1 NOTE See 'D:/biocbuild/bbs-3.13-data-experiment/meat/FlowSorted.Blood.450k.Rcheck/00check.log' for details.
FlowSorted.Blood.450k.Rcheck/00install.out
############################################################################## ############################################################################## ### ### Running command: ### ### C:\cygwin\bin\curl.exe -O http://172.29.0.4/BBS/3.13/data-experiment/src/contrib/FlowSorted.Blood.450k_1.29.0.tar.gz && rm -rf FlowSorted.Blood.450k.buildbin-libdir && mkdir FlowSorted.Blood.450k.buildbin-libdir && D:\biocbuild\bbs-3.13-bioc\R\bin\R.exe CMD INSTALL --merge-multiarch --build --library=FlowSorted.Blood.450k.buildbin-libdir FlowSorted.Blood.450k_1.29.0.tar.gz && D:\biocbuild\bbs-3.13-bioc\R\bin\R.exe CMD INSTALL FlowSorted.Blood.450k_1.29.0.zip && rm FlowSorted.Blood.450k_1.29.0.tar.gz FlowSorted.Blood.450k_1.29.0.zip ### ############################################################################## ############################################################################## % Total % Received % Xferd Average Speed Time Time Time Current Dload Upload Total Spent Left Speed 0 0 0 0 0 0 0 0 --:--:-- --:--:-- --:--:-- 0 0 169M 0 14352 0 0 209k 0 0:13:48 --:--:-- 0:13:48 206k 33 169M 33 57.1M 0 0 55.9M 0 0:00:03 0:00:01 0:00:02 55.8M 94 169M 94 159M 0 0 78.8M 0 0:00:02 0:00:02 --:--:-- 78.7M 100 169M 100 169M 0 0 78.7M 0 0:00:02 0:00:02 --:--:-- 78.7M install for i386 * installing *source* package 'FlowSorted.Blood.450k' ... ** using staged installation ** data *** moving datasets to lazyload DB ** inst ** help *** installing help indices converting help for package 'FlowSorted.Blood.450k' finding HTML links ... done FlowSorted.Blood.450k.JaffeModelPars html REDIRECT:topic FlowSorted.Blood.450k.JaffeModelPars -> FlowSorted.Blood.450k.JaffeModelPars.html [ SUCCESS ] finding level-2 HTML links ... done FlowSorted.Blood.450k html REDIRECT:topic FlowSorted.Blood.450k -> FlowSorted.Blood.450k.html [ SUCCESS ] FlowSorted.Blood.450k.compTable html REDIRECT:topic FlowSorted.Blood.450k.compTable -> FlowSorted.Blood.450k.compTable.html [ SUCCESS ] ** building package indices ** installing vignettes ** testing if installed package can be loaded from temporary location ** testing if installed package can be loaded from final location ** testing if installed package keeps a record of temporary installation path install for x64 * installing *source* package 'FlowSorted.Blood.450k' ... ** testing if installed package can be loaded * MD5 sums packaged installation of 'FlowSorted.Blood.450k' as FlowSorted.Blood.450k_1.29.0.zip * DONE (FlowSorted.Blood.450k) * installing to library 'D:/biocbuild/bbs-3.13-bioc/R/library' package 'FlowSorted.Blood.450k' successfully unpacked and MD5 sums checked
FlowSorted.Blood.450k.Rcheck/examples_i386/FlowSorted.Blood.450k-Ex.timings
|
FlowSorted.Blood.450k.Rcheck/examples_x64/FlowSorted.Blood.450k-Ex.timings
|