Back to Multiple platform build/check report for BioC 3.13 experimental data |
|
This page was generated on 2021-01-11 15:59:30 -0500 (Mon, 11 Jan 2021).
TO THE DEVELOPERS/MAINTAINERS OF THE FlowSorted.Blood.450k PACKAGE: Please make sure to use the following settings in order to reproduce any error or warning you see on this page. |
Package 126/385 | Hostname | OS / Arch | INSTALL | BUILD | CHECK | ||||||
FlowSorted.Blood.450k 1.29.0 Andrew E Jaffe
| malbec2 | Linux (Ubuntu 20.04.1 LTS) / x86_64 | OK | OK | OK | ![]() | |||||
riesling1 | Windows Server 2019 Standard / x64 | OK | [ OK ] | OK |
Package: FlowSorted.Blood.450k |
Version: 1.29.0 |
Command: chmod a+r FlowSorted.Blood.450k -R && D:\biocbuild\bbs-3.13-bioc\R\bin\R.exe CMD build --keep-empty-dirs --no-resave-data FlowSorted.Blood.450k |
StartedAt: 2021-01-11 10:40:05 -0500 (Mon, 11 Jan 2021) |
EndedAt: 2021-01-11 10:43:05 -0500 (Mon, 11 Jan 2021) |
EllapsedTime: 180.9 seconds |
RetCode: 0 |
Status: OK |
PackageFile: FlowSorted.Blood.450k_1.29.0.tar.gz |
PackageFileSize: 169.2 MiB |
############################################################################## ############################################################################## ### ### Running command: ### ### chmod a+r FlowSorted.Blood.450k -R && D:\biocbuild\bbs-3.13-bioc\R\bin\R.exe CMD build --keep-empty-dirs --no-resave-data FlowSorted.Blood.450k ### ############################################################################## ############################################################################## * checking for file 'FlowSorted.Blood.450k/DESCRIPTION' ... OK * preparing 'FlowSorted.Blood.450k': * checking DESCRIPTION meta-information ... OK * installing the package to process help pages * saving partial Rd database * creating vignettes ... OK * checking for LF line-endings in source and make files and shell scripts * checking for empty or unneeded directories * building 'FlowSorted.Blood.450k_1.29.0.tar.gz'