Back to Multiple platform build/check report for BioC 3.13 experimental data
ABCDE[F]GHIJKLMNOPQRSTUVWXYZ

INSTALL report for Fletcher2013b on riesling1

This page was generated on 2021-01-18 15:58:47 -0500 (Mon, 18 Jan 2021).

TO THE DEVELOPERS/MAINTAINERS OF THE Fletcher2013b PACKAGE: Please make sure to use the following settings in order to reproduce any error or warning you see on this page.
Package 124/385HostnameOS / ArchINSTALLBUILDCHECK
Fletcher2013b 1.27.0
Mauro Castro
Snapshot Date: 2021-01-18 09:00:15 -0500 (Mon, 18 Jan 2021)
URL: https://git.bioconductor.org/packages/Fletcher2013b
Branch: master
Last Commit: bf139f6
Last Changed Date: 2020-10-27 10:05:02 -0500 (Tue, 27 Oct 2020)
malbec2 Linux (Ubuntu 20.04.1 LTS) / x86_64  OK  OK  OK UNNEEDED, same version exists in internal repository
riesling1 Windows Server 2019 Standard / x64 [ OK ] OK  OK 

Summary

Package: Fletcher2013b
Version: 1.27.0
Command: C:\cygwin\bin\curl.exe -O http://172.29.0.4/BBS/3.13/data-experiment/src/contrib/Fletcher2013b_1.27.0.tar.gz && rm -rf Fletcher2013b.buildbin-libdir && mkdir Fletcher2013b.buildbin-libdir && D:\biocbuild\bbs-3.13-bioc\R\bin\R.exe CMD INSTALL --merge-multiarch --build --library=Fletcher2013b.buildbin-libdir Fletcher2013b_1.27.0.tar.gz && D:\biocbuild\bbs-3.13-bioc\R\bin\R.exe CMD INSTALL Fletcher2013b_1.27.0.zip && rm Fletcher2013b_1.27.0.tar.gz Fletcher2013b_1.27.0.zip
StartedAt: 2021-01-18 10:17:46 -0500 (Mon, 18 Jan 2021)
EndedAt: 2021-01-18 10:18:55 -0500 (Mon, 18 Jan 2021)
EllapsedTime: 68.2 seconds
RetCode: 0
Status:  OK  

Command output

##############################################################################
##############################################################################
###
### Running command:
###
###   C:\cygwin\bin\curl.exe -O http://172.29.0.4/BBS/3.13/data-experiment/src/contrib/Fletcher2013b_1.27.0.tar.gz && rm -rf Fletcher2013b.buildbin-libdir && mkdir Fletcher2013b.buildbin-libdir && D:\biocbuild\bbs-3.13-bioc\R\bin\R.exe CMD INSTALL --merge-multiarch --build --library=Fletcher2013b.buildbin-libdir Fletcher2013b_1.27.0.tar.gz && D:\biocbuild\bbs-3.13-bioc\R\bin\R.exe CMD INSTALL Fletcher2013b_1.27.0.zip && rm Fletcher2013b_1.27.0.tar.gz Fletcher2013b_1.27.0.zip
###
##############################################################################
##############################################################################


  % Total    % Received % Xferd  Average Speed   Time    Time     Time  Current
                                 Dload  Upload   Total   Spent    Left  Speed

  0     0    0     0    0     0      0      0 --:--:-- --:--:-- --:--:--     0
 10  262M   10 27.0M    0     0  33.7M      0  0:00:07 --:--:--  0:00:07 33.7M
 29  262M   29 77.2M    0     0  41.0M      0  0:00:06  0:00:01  0:00:05 40.9M
 51  262M   51  134M    0     0  48.0M      0  0:00:05  0:00:02  0:00:03 48.0M
 84  262M   84  221M    0     0  58.1M      0  0:00:04  0:00:03  0:00:01 58.1M
100  262M  100  262M    0     0  61.1M      0  0:00:04  0:00:04 --:--:-- 61.1M

install for i386

* installing *source* package 'Fletcher2013b' ...
** using staged installation
** R
** data
** inst
** byte-compile and prepare package for lazy loading
** help
*** installing help indices
  converting help for package 'Fletcher2013b'
    finding HTML links ... done
    Fletcher2013b.pipelines                 html  
REDIRECT:topic	 Fletcher2013pipeline.mra1st -> Fletcher2013b.pipelines.html [ SUCCESS ]
REDIRECT:topic	 Fletcher2013pipeline.mra2nd -> Fletcher2013b.pipelines.html [ SUCCESS ]
REDIRECT:topic	 Fletcher2013pipeline.mraNormals -> Fletcher2013b.pipelines.html [ SUCCESS ]
REDIRECT:topic	 Fletcher2013pipeline.mraTALL -> Fletcher2013b.pipelines.html [ SUCCESS ]
REDIRECT:topic	 Fletcher2013pipeline.consensusnet -> Fletcher2013b.pipelines.html [ SUCCESS ]
REDIRECT:topic	 Fletcher2013pipeline.enrichmap -> Fletcher2013b.pipelines.html [ SUCCESS ]
REDIRECT:topic	 Fletcher2013b -> Fletcher2013b.pipelines.html [ SUCCESS ]
REDIRECT:file	 Fletcher2013b.pipelines.html -> Fletcher2013b.pipelines.html [ SUCCESS ]
    miscellaneous                           html  
REDIRECT:topic	 risksites -> miscellaneous.html [ SUCCESS ]
REDIRECT:topic	 randsites -> miscellaneous.html [ SUCCESS ]
REDIRECT:topic	 chromlen -> miscellaneous.html [ SUCCESS ]
REDIRECT:topic	 ESR1bdsites -> miscellaneous.html [ SUCCESS ]
REDIRECT:topic	 FOXA1bdsites -> miscellaneous.html [ SUCCESS ]
REDIRECT:topic	 GATA3bdsites -> miscellaneous.html [ SUCCESS ]
REDIRECT:topic	 SPDEFbdsites -> miscellaneous.html [ SUCCESS ]
REDIRECT:topic	 fimoESR1 -> miscellaneous.html [ SUCCESS ]
REDIRECT:topic	 fimoFOXA1 -> miscellaneous.html [ SUCCESS ]
REDIRECT:topic	 fimoGATA3 -> miscellaneous.html [ SUCCESS ]
REDIRECT:topic	 metaPCNA -> miscellaneous.html [ SUCCESS ]
REDIRECT:topic	 consensus -> miscellaneous.html [ SUCCESS ]
REDIRECT:topic	 tfs -> miscellaneous.html [ SUCCESS ]
REDIRECT:topic	 miscellaneous -> miscellaneous.html [ SUCCESS ]
    rtni.data                               html  
REDIRECT:topic	 rtni1st -> rtni.data.html [ SUCCESS ]
REDIRECT:topic	 rtni2nd -> rtni.data.html [ SUCCESS ]
REDIRECT:topic	 rtniNormals -> rtni.data.html [ SUCCESS ]
REDIRECT:topic	 rtniTALL -> rtni.data.html [ SUCCESS ]
REDIRECT:topic	 rtniIDs -> rtni.data.html [ SUCCESS ]
REDIRECT:file	 rtni.data.html -> rtni.data.html [ SUCCESS ]
    siRNA                                   html  
REDIRECT:topic	 siRNA -> siRNA.html [ SUCCESS ]
** building package indices
** installing vignettes
** testing if installed package can be loaded from temporary location
** testing if installed package can be loaded from final location
** testing if installed package keeps a record of temporary installation path

install for x64

* installing *source* package 'Fletcher2013b' ...
** testing if installed package can be loaded
* MD5 sums
packaged installation of 'Fletcher2013b' as Fletcher2013b_1.27.0.zip
* DONE (Fletcher2013b)
* installing to library 'D:/biocbuild/bbs-3.13-bioc/R/library'
package 'Fletcher2013b' successfully unpacked and MD5 sums checked