Back to Multiple platform build/check report for BioC 3.13 experimental data
ABCDE[F]GHIJKLMNOPQRSTUVWXYZ

BUILD report for Fletcher2013b on riesling1

This page was generated on 2021-01-21 16:01:28 -0500 (Thu, 21 Jan 2021).

TO THE DEVELOPERS/MAINTAINERS OF THE Fletcher2013b PACKAGE: Please make sure to use the following settings in order to reproduce any error or warning you see on this page.
Package 124/386HostnameOS / ArchINSTALLBUILDCHECK
Fletcher2013b 1.27.0
Mauro Castro
Snapshot Date: 2021-01-21 09:00:14 -0500 (Thu, 21 Jan 2021)
URL: https://git.bioconductor.org/packages/Fletcher2013b
Branch: master
Last Commit: bf139f6
Last Changed Date: 2020-10-27 10:05:02 -0500 (Tue, 27 Oct 2020)
malbec2 Linux (Ubuntu 20.04.1 LTS) / x86_64  OK  OK  OK UNNEEDED, same version exists in internal repository
riesling1 Windows Server 2019 Standard / x64  OK [ OK ] OK 

Summary

Package: Fletcher2013b
Version: 1.27.0
Command: chmod a+r Fletcher2013b -R && D:\biocbuild\bbs-3.13-bioc\R\bin\R.exe CMD build --keep-empty-dirs --no-resave-data Fletcher2013b
StartedAt: 2021-01-21 10:38:13 -0500 (Thu, 21 Jan 2021)
EndedAt: 2021-01-21 10:38:56 -0500 (Thu, 21 Jan 2021)
EllapsedTime: 42.9 seconds
RetCode: 0
Status:  OK  
PackageFile: Fletcher2013b_1.27.0.tar.gz
PackageFileSize: 263.4 MiB

Command output

##############################################################################
##############################################################################
###
### Running command:
###
###   chmod a+r Fletcher2013b -R && D:\biocbuild\bbs-3.13-bioc\R\bin\R.exe CMD build --keep-empty-dirs --no-resave-data Fletcher2013b
###
##############################################################################
##############################################################################


* checking for file 'Fletcher2013b/DESCRIPTION' ... OK
* preparing 'Fletcher2013b':
* checking DESCRIPTION meta-information ... OK
* installing the package to build vignettes
* creating vignettes ... OK
* checking for LF line-endings in source and make files and shell scripts
* checking for empty or unneeded directories
* looking to see if a 'data/datalist' file should be added
* building 'Fletcher2013b_1.27.0.tar.gz'