Back to Multiple platform build/check report for BioC 3.13 experimental data
ABCDE[F]GHIJKLMNOPQRSTUVWXYZ

INSTALL report for Fletcher2013a on riesling1

This page was generated on 2021-01-21 16:01:28 -0500 (Thu, 21 Jan 2021).

TO THE DEVELOPERS/MAINTAINERS OF THE Fletcher2013a PACKAGE: Please make sure to use the following settings in order to reproduce any error or warning you see on this page.
Package 123/386HostnameOS / ArchINSTALLBUILDCHECK
Fletcher2013a 1.27.0
Mauro Castro
Snapshot Date: 2021-01-21 09:00:14 -0500 (Thu, 21 Jan 2021)
URL: https://git.bioconductor.org/packages/Fletcher2013a
Branch: master
Last Commit: 7f69c1a
Last Changed Date: 2020-10-27 10:04:57 -0500 (Tue, 27 Oct 2020)
malbec2 Linux (Ubuntu 20.04.1 LTS) / x86_64  OK  OK  OK UNNEEDED, same version exists in internal repository
riesling1 Windows Server 2019 Standard / x64 [ OK ] OK  OK 

Summary

Package: Fletcher2013a
Version: 1.27.0
Command: C:\cygwin\bin\curl.exe -O http://172.29.0.4/BBS/3.13/data-experiment/src/contrib/Fletcher2013a_1.27.0.tar.gz && rm -rf Fletcher2013a.buildbin-libdir && mkdir Fletcher2013a.buildbin-libdir && D:\biocbuild\bbs-3.13-bioc\R\bin\R.exe CMD INSTALL --merge-multiarch --build --library=Fletcher2013a.buildbin-libdir Fletcher2013a_1.27.0.tar.gz && D:\biocbuild\bbs-3.13-bioc\R\bin\R.exe CMD INSTALL Fletcher2013a_1.27.0.zip && rm Fletcher2013a_1.27.0.tar.gz Fletcher2013a_1.27.0.zip
StartedAt: 2021-01-21 10:06:27 -0500 (Thu, 21 Jan 2021)
EndedAt: 2021-01-21 10:06:58 -0500 (Thu, 21 Jan 2021)
EllapsedTime: 31.0 seconds
RetCode: 0
Status:  OK  

Command output

##############################################################################
##############################################################################
###
### Running command:
###
###   C:\cygwin\bin\curl.exe -O http://172.29.0.4/BBS/3.13/data-experiment/src/contrib/Fletcher2013a_1.27.0.tar.gz && rm -rf Fletcher2013a.buildbin-libdir && mkdir Fletcher2013a.buildbin-libdir && D:\biocbuild\bbs-3.13-bioc\R\bin\R.exe CMD INSTALL --merge-multiarch --build --library=Fletcher2013a.buildbin-libdir Fletcher2013a_1.27.0.tar.gz && D:\biocbuild\bbs-3.13-bioc\R\bin\R.exe CMD INSTALL Fletcher2013a_1.27.0.zip && rm Fletcher2013a_1.27.0.tar.gz Fletcher2013a_1.27.0.zip
###
##############################################################################
##############################################################################


  % Total    % Received % Xferd  Average Speed   Time    Time     Time  Current
                                 Dload  Upload   Total   Spent    Left  Speed

  0     0    0     0    0     0      0      0 --:--:-- --:--:-- --:--:--     0
  2 72.8M    2 1576k    0     0  4583k      0  0:00:16 --:--:--  0:00:16 4570k
  9 72.8M    9 7403k    0     0  5448k      0  0:00:13  0:00:01  0:00:12 5444k
 63 72.8M   63 46.2M    0     0  17.4M      0  0:00:04  0:00:02  0:00:02 17.4M
 86 72.8M   86 63.2M    0     0  18.1M      0  0:00:04  0:00:03  0:00:01 18.1M
100 72.8M  100 72.8M    0     0  18.5M      0  0:00:03  0:00:03 --:--:-- 18.5M

install for i386

* installing *source* package 'Fletcher2013a' ...
** using staged installation
** R
** data
** inst
** byte-compile and prepare package for lazy loading
** help
*** installing help indices
  converting help for package 'Fletcher2013a'
    finding HTML links ... done
    Exp1                                    html  
REDIRECT:topic	 Exp1 -> Exp1.html [ SUCCESS ]
REDIRECT:topic	 Exp1limma -> Exp1.html [ SUCCESS ]
REDIRECT:topic	 Fletcher2013a -> Exp1.html [ SUCCESS ]
    Exp2                                    html  
REDIRECT:topic	 Exp2 -> Exp2.html [ SUCCESS ]
REDIRECT:topic	 Exp2limma -> Exp2.html [ SUCCESS ]
    Exp3                                    html  
REDIRECT:topic	 Exp3 -> Exp3.html [ SUCCESS ]
REDIRECT:topic	 Exp3limma -> Exp3.html [ SUCCESS ]
    Fletcher2013a.pipelines                 html  
REDIRECT:topic	 Fletcher2013pipeline.limma -> Fletcher2013a.pipelines.html [ SUCCESS ]
REDIRECT:topic	 Fletcher2013pipeline.pca -> Fletcher2013a.pipelines.html [ SUCCESS ]
REDIRECT:topic	 Fletcher2013pipeline.deg -> Fletcher2013a.pipelines.html [ SUCCESS ]
REDIRECT:topic	 Fletcher2013pipeline.supp -> Fletcher2013a.pipelines.html [ SUCCESS ]
REDIRECT:file	 Fletcher2013a.pipelines.html -> Fletcher2013a.pipelines.html [ SUCCESS ]
    siESR1                                  html  
REDIRECT:topic	 siESR1 -> siESR1.html [ SUCCESS ]
REDIRECT:topic	 siESR1limma -> siESR1.html [ SUCCESS ]
    siOTHERS                                html  
REDIRECT:topic	 siOTHERS -> siOTHERS.html [ SUCCESS ]
REDIRECT:topic	 siOTHERSlimma -> siOTHERS.html [ SUCCESS ]
** building package indices
** installing vignettes
** testing if installed package can be loaded from temporary location
** testing if installed package can be loaded from final location
** testing if installed package keeps a record of temporary installation path

install for x64

* installing *source* package 'Fletcher2013a' ...
** testing if installed package can be loaded
* MD5 sums
packaged installation of 'Fletcher2013a' as Fletcher2013a_1.27.0.zip
* DONE (Fletcher2013a)
* installing to library 'D:/biocbuild/bbs-3.13-bioc/R/library'
package 'Fletcher2013a' successfully unpacked and MD5 sums checked