Back to Multiple platform build/check report for BioC 3.13 experimental data |
|
This page was generated on 2021-01-14 15:59:07 -0500 (Thu, 14 Jan 2021).
TO THE DEVELOPERS/MAINTAINERS OF THE FieldEffectCrc PACKAGE: Please make sure to use the following settings in order to reproduce any error or warning you see on this page. |
Package 120/385 | Hostname | OS / Arch | INSTALL | BUILD | CHECK | ||||||
FieldEffectCrc 1.1.0 Christopher Dampier
| malbec2 | Linux (Ubuntu 20.04.1 LTS) / x86_64 | OK | OK | OK | ![]() | |||||
riesling1 | Windows Server 2019 Standard / x64 | OK | [ OK ] | OK |
Package: FieldEffectCrc |
Version: 1.1.0 |
Command: chmod a+r FieldEffectCrc -R && D:\biocbuild\bbs-3.13-bioc\R\bin\R.exe CMD build --keep-empty-dirs --no-resave-data FieldEffectCrc |
StartedAt: 2021-01-14 10:34:16 -0500 (Thu, 14 Jan 2021) |
EndedAt: 2021-01-14 10:36:59 -0500 (Thu, 14 Jan 2021) |
EllapsedTime: 162.5 seconds |
RetCode: 0 |
Status: OK |
PackageFile: FieldEffectCrc_1.1.0.tar.gz |
PackageFileSize: 241.4 KiB |
############################################################################## ############################################################################## ### ### Running command: ### ### chmod a+r FieldEffectCrc -R && D:\biocbuild\bbs-3.13-bioc\R\bin\R.exe CMD build --keep-empty-dirs --no-resave-data FieldEffectCrc ### ############################################################################## ############################################################################## * checking for file 'FieldEffectCrc/DESCRIPTION' ... OK * preparing 'FieldEffectCrc': * checking DESCRIPTION meta-information ... OK * installing the package to build vignettes * creating vignettes ... OK * checking for LF line-endings in source and make files and shell scripts * checking for empty or unneeded directories * building 'FieldEffectCrc_1.1.0.tar.gz'