Back to Multiple platform build/check report for BioC 3.13 experimental data
ABCDE[F]GHIJKLMNOPQRSTUVWXYZ

INSTALL report for FIs on riesling1

This page was generated on 2021-01-14 15:59:07 -0500 (Thu, 14 Jan 2021).

TO THE DEVELOPERS/MAINTAINERS OF THE FIs PACKAGE: Please make sure to use the following settings in order to reproduce any error or warning you see on this page.
Package 121/385HostnameOS / ArchINSTALLBUILDCHECK
FIs 1.19.0
Herbert Braselmann , Martin Selmansberger
Snapshot Date: 2021-01-14 09:00:13 -0500 (Thu, 14 Jan 2021)
URL: https://git.bioconductor.org/packages/FIs
Branch: master
Last Commit: 204373f
Last Changed Date: 2020-10-27 10:15:32 -0500 (Tue, 27 Oct 2020)
malbec2 Linux (Ubuntu 20.04.1 LTS) / x86_64  OK  OK  OK UNNEEDED, same version exists in internal repository
riesling1 Windows Server 2019 Standard / x64 [ OK ] OK  OK 

Summary

Package: FIs
Version: 1.19.0
Command: C:\cygwin\bin\curl.exe -O http://172.29.0.4/BBS/3.13/data-experiment/src/contrib/FIs_1.19.0.tar.gz && rm -rf FIs.buildbin-libdir && mkdir FIs.buildbin-libdir && D:\biocbuild\bbs-3.13-bioc\R\bin\R.exe CMD INSTALL --merge-multiarch --build --library=FIs.buildbin-libdir FIs_1.19.0.tar.gz && D:\biocbuild\bbs-3.13-bioc\R\bin\R.exe CMD INSTALL FIs_1.19.0.zip && rm FIs_1.19.0.tar.gz FIs_1.19.0.zip
StartedAt: 2021-01-14 10:00:57 -0500 (Thu, 14 Jan 2021)
EndedAt: 2021-01-14 10:01:34 -0500 (Thu, 14 Jan 2021)
EllapsedTime: 36.6 seconds
RetCode: 0
Status:  OK  

Command output

##############################################################################
##############################################################################
###
### Running command:
###
###   C:\cygwin\bin\curl.exe -O http://172.29.0.4/BBS/3.13/data-experiment/src/contrib/FIs_1.19.0.tar.gz && rm -rf FIs.buildbin-libdir && mkdir FIs.buildbin-libdir && D:\biocbuild\bbs-3.13-bioc\R\bin\R.exe CMD INSTALL --merge-multiarch --build --library=FIs.buildbin-libdir FIs_1.19.0.tar.gz && D:\biocbuild\bbs-3.13-bioc\R\bin\R.exe CMD INSTALL FIs_1.19.0.zip && rm FIs_1.19.0.tar.gz FIs_1.19.0.zip
###
##############################################################################
##############################################################################


  % Total    % Received % Xferd  Average Speed   Time    Time     Time  Current
                                 Dload  Upload   Total   Spent    Left  Speed

  0     0    0     0    0     0      0      0 --:--:-- --:--:-- --:--:--     0
100  622k  100  622k    0     0  11.9M      0 --:--:-- --:--:-- --:--:-- 11.9M

install for i386

* installing *source* package 'FIs' ...
** using staged installation
** data
** help
*** installing help indices
  converting help for package 'FIs'
    finding HTML links ... done
    FIs                                     html  
REDIRECT:topic	 FIs -> FIs.html [ SUCCESS ]
** building package indices
** testing if installed package can be loaded from temporary location
** testing if installed package can be loaded from final location
** testing if installed package keeps a record of temporary installation path

install for x64

* installing *source* package 'FIs' ...
** testing if installed package can be loaded
* MD5 sums
packaged installation of 'FIs' as FIs_1.19.0.zip
* DONE (FIs)
* installing to library 'D:/biocbuild/bbs-3.13-bioc/R/library'
package 'FIs' successfully unpacked and MD5 sums checked