Back to Multiple platform build/check report for BioC 3.13 experimental data |
|
This page was generated on 2021-01-14 15:59:07 -0500 (Thu, 14 Jan 2021).
TO THE DEVELOPERS/MAINTAINERS OF THE EatonEtAlChIPseq PACKAGE: Please make sure to use the following settings in order to reproduce any error or warning you see on this page. |
Package 108/385 | Hostname | OS / Arch | INSTALL | BUILD | CHECK | ||||||
EatonEtAlChIPseq 0.29.0 Patrick Aboyoun
| malbec2 | Linux (Ubuntu 20.04.1 LTS) / x86_64 | OK | OK | WARNINGS | ![]() | |||||
riesling1 | Windows Server 2019 Standard / x64 | [ OK ] | OK | WARNINGS |
Package: EatonEtAlChIPseq |
Version: 0.29.0 |
Command: C:\cygwin\bin\curl.exe -O http://172.29.0.4/BBS/3.13/data-experiment/src/contrib/EatonEtAlChIPseq_0.29.0.tar.gz && rm -rf EatonEtAlChIPseq.buildbin-libdir && mkdir EatonEtAlChIPseq.buildbin-libdir && D:\biocbuild\bbs-3.13-bioc\R\bin\R.exe CMD INSTALL --merge-multiarch --build --library=EatonEtAlChIPseq.buildbin-libdir EatonEtAlChIPseq_0.29.0.tar.gz && D:\biocbuild\bbs-3.13-bioc\R\bin\R.exe CMD INSTALL EatonEtAlChIPseq_0.29.0.zip && rm EatonEtAlChIPseq_0.29.0.tar.gz EatonEtAlChIPseq_0.29.0.zip |
StartedAt: 2021-01-14 10:07:59 -0500 (Thu, 14 Jan 2021) |
EndedAt: 2021-01-14 10:08:41 -0500 (Thu, 14 Jan 2021) |
EllapsedTime: 41.6 seconds |
RetCode: 0 |
Status: OK |
############################################################################## ############################################################################## ### ### Running command: ### ### C:\cygwin\bin\curl.exe -O http://172.29.0.4/BBS/3.13/data-experiment/src/contrib/EatonEtAlChIPseq_0.29.0.tar.gz && rm -rf EatonEtAlChIPseq.buildbin-libdir && mkdir EatonEtAlChIPseq.buildbin-libdir && D:\biocbuild\bbs-3.13-bioc\R\bin\R.exe CMD INSTALL --merge-multiarch --build --library=EatonEtAlChIPseq.buildbin-libdir EatonEtAlChIPseq_0.29.0.tar.gz && D:\biocbuild\bbs-3.13-bioc\R\bin\R.exe CMD INSTALL EatonEtAlChIPseq_0.29.0.zip && rm EatonEtAlChIPseq_0.29.0.tar.gz EatonEtAlChIPseq_0.29.0.zip ### ############################################################################## ############################################################################## % Total % Received % Xferd Average Speed Time Time Time Current Dload Upload Total Spent Left Speed 0 0 0 0 0 0 0 0 --:--:-- --:--:-- --:--:-- 0 3 20.5M 3 788k 0 0 869k 0 0:00:24 --:--:-- 0:00:24 869k 100 20.5M 100 20.5M 0 0 16.3M 0 0:00:01 0:00:01 --:--:-- 16.3M install for i386 * installing *source* package 'EatonEtAlChIPseq' ... ** using staged installation ** data ** inst ** help *** installing help indices converting help for package 'EatonEtAlChIPseq' finding HTML links ... done orcAligns html REDIRECT:topic orcAlignsRep1 -> orcAligns.html [ SUCCESS ] REDIRECT:topic orcAlignsRep2 -> orcAligns.html [ SUCCESS ] REDIRECT:file orcAligns.html -> orcAligns.html [ SUCCESS ] orcPeaks html REDIRECT:topic orcPeaksRep1 -> orcPeaks.html [ SUCCESS ] REDIRECT:topic orcPeaksRep2 -> orcPeaks.html [ SUCCESS ] REDIRECT:file orcPeaks.html -> orcPeaks.html [ SUCCESS ] ** building package indices ** testing if installed package can be loaded from temporary location ** testing if installed package can be loaded from final location ** testing if installed package keeps a record of temporary installation path install for x64 * installing *source* package 'EatonEtAlChIPseq' ... ** testing if installed package can be loaded * MD5 sums packaged installation of 'EatonEtAlChIPseq' as EatonEtAlChIPseq_0.29.0.zip * DONE (EatonEtAlChIPseq) * installing to library 'D:/biocbuild/bbs-3.13-bioc/R/library' package 'EatonEtAlChIPseq' successfully unpacked and MD5 sums checked