Back to Multiple platform build/check report for BioC 3.13 experimental data
ABCD[E]FGHIJKLMNOPQRSTUVWXYZ

BUILD report for EatonEtAlChIPseq on riesling1

This page was generated on 2021-01-21 16:01:27 -0500 (Thu, 21 Jan 2021).

TO THE DEVELOPERS/MAINTAINERS OF THE EatonEtAlChIPseq PACKAGE: Please make sure to use the following settings in order to reproduce any error or warning you see on this page.
Package 108/386HostnameOS / ArchINSTALLBUILDCHECK
EatonEtAlChIPseq 0.29.0
Patrick Aboyoun
Snapshot Date: 2021-01-21 09:00:14 -0500 (Thu, 21 Jan 2021)
URL: https://git.bioconductor.org/packages/EatonEtAlChIPseq
Branch: master
Last Commit: 7adbe25
Last Changed Date: 2020-10-27 09:51:54 -0500 (Tue, 27 Oct 2020)
malbec2 Linux (Ubuntu 20.04.1 LTS) / x86_64  OK  OK  WARNINGS UNNEEDED, same version exists in internal repository
riesling1 Windows Server 2019 Standard / x64  OK [ OK ] WARNINGS 

Summary

Package: EatonEtAlChIPseq
Version: 0.29.0
Command: chmod a+r EatonEtAlChIPseq -R && D:\biocbuild\bbs-3.13-bioc\R\bin\R.exe CMD build --keep-empty-dirs --no-resave-data EatonEtAlChIPseq
StartedAt: 2021-01-21 10:37:03 -0500 (Thu, 21 Jan 2021)
EndedAt: 2021-01-21 10:37:11 -0500 (Thu, 21 Jan 2021)
EllapsedTime: 8.6 seconds
RetCode: 0
Status:  OK  
PackageFile: EatonEtAlChIPseq_0.29.0.tar.gz
PackageFileSize: 20.5 MiB

Command output

##############################################################################
##############################################################################
###
### Running command:
###
###   chmod a+r EatonEtAlChIPseq -R && D:\biocbuild\bbs-3.13-bioc\R\bin\R.exe CMD build --keep-empty-dirs --no-resave-data EatonEtAlChIPseq
###
##############################################################################
##############################################################################


* checking for file 'EatonEtAlChIPseq/DESCRIPTION' ... OK
* preparing 'EatonEtAlChIPseq':
* checking DESCRIPTION meta-information ... OK
* checking for LF line-endings in source and make files and shell scripts
* checking for empty or unneeded directories
* looking to see if a 'data/datalist' file should be added
* building 'EatonEtAlChIPseq_0.29.0.tar.gz'