Back to Multiple platform build/check report for BioC 3.13 experimental data
ABCD[E]FGHIJKLMNOPQRSTUVWXYZ

INSTALL report for EGSEAdata on riesling1

This page was generated on 2021-01-14 15:59:07 -0500 (Thu, 14 Jan 2021).

TO THE DEVELOPERS/MAINTAINERS OF THE EGSEAdata PACKAGE: Please make sure to use the following settings in order to reproduce any error or warning you see on this page.
Package 110/385HostnameOS / ArchINSTALLBUILDCHECK
EGSEAdata 1.19.0
Monther Alhamdoosh
Snapshot Date: 2021-01-14 09:00:13 -0500 (Thu, 14 Jan 2021)
URL: https://git.bioconductor.org/packages/EGSEAdata
Branch: master
Last Commit: 88896f2
Last Changed Date: 2020-10-27 10:19:15 -0500 (Tue, 27 Oct 2020)
malbec2 Linux (Ubuntu 20.04.1 LTS) / x86_64  OK  OK  OK UNNEEDED, same version exists in internal repository
riesling1 Windows Server 2019 Standard / x64 [ OK ] OK  OK 

Summary

Package: EGSEAdata
Version: 1.19.0
Command: C:\cygwin\bin\curl.exe -O http://172.29.0.4/BBS/3.13/data-experiment/src/contrib/EGSEAdata_1.19.0.tar.gz && rm -rf EGSEAdata.buildbin-libdir && mkdir EGSEAdata.buildbin-libdir && D:\biocbuild\bbs-3.13-bioc\R\bin\R.exe CMD INSTALL --merge-multiarch --build --library=EGSEAdata.buildbin-libdir EGSEAdata_1.19.0.tar.gz && D:\biocbuild\bbs-3.13-bioc\R\bin\R.exe CMD INSTALL EGSEAdata_1.19.0.zip && rm EGSEAdata_1.19.0.tar.gz EGSEAdata_1.19.0.zip
StartedAt: 2021-01-14 10:04:52 -0500 (Thu, 14 Jan 2021)
EndedAt: 2021-01-14 10:05:25 -0500 (Thu, 14 Jan 2021)
EllapsedTime: 32.5 seconds
RetCode: 0
Status:  OK  

Command output

##############################################################################
##############################################################################
###
### Running command:
###
###   C:\cygwin\bin\curl.exe -O http://172.29.0.4/BBS/3.13/data-experiment/src/contrib/EGSEAdata_1.19.0.tar.gz && rm -rf EGSEAdata.buildbin-libdir && mkdir EGSEAdata.buildbin-libdir && D:\biocbuild\bbs-3.13-bioc\R\bin\R.exe CMD INSTALL --merge-multiarch --build --library=EGSEAdata.buildbin-libdir EGSEAdata_1.19.0.tar.gz && D:\biocbuild\bbs-3.13-bioc\R\bin\R.exe CMD INSTALL EGSEAdata_1.19.0.zip && rm EGSEAdata_1.19.0.tar.gz EGSEAdata_1.19.0.zip
###
##############################################################################
##############################################################################


  % Total    % Received % Xferd  Average Speed   Time    Time     Time  Current
                                 Dload  Upload   Total   Spent    Left  Speed

  0     0    0     0    0     0      0      0 --:--:-- --:--:-- --:--:--     0
 46 66.5M   46 30.6M    0     0  51.5M      0  0:00:01 --:--:--  0:00:01 51.4M
100 66.5M  100 66.5M    0     0  53.0M      0  0:00:01  0:00:01 --:--:-- 53.0M

install for i386

* installing *source* package 'EGSEAdata' ...
** using staged installation
** R
** data
** byte-compile and prepare package for lazy loading
** help
*** installing help indices
  converting help for package 'EGSEAdata'
    finding HTML links ... done
    EGSEAdata-package                       html  
REDIRECT:topic	 EGSEAdata -> EGSEAdata-package.html [ SUCCESS ]
REDIRECT:topic	 EGSEAdata-package -> EGSEAdata-package.html [ SUCCESS ]
    Mm.H                                    html  
REDIRECT:topic	 Mm.H -> Mm.H.html [ SUCCESS ]
    Mm.c2                                   html  
REDIRECT:topic	 Mm.c2 -> Mm.c2.html [ SUCCESS ]
    Mm.c3                                   html  
REDIRECT:topic	 Mm.c3 -> Mm.c3.html [ SUCCESS ]
    Mm.c4                                   html  
REDIRECT:topic	 Mm.c4 -> Mm.c4.html [ SUCCESS ]
    Mm.c5                                   html  
REDIRECT:topic	 Mm.c5 -> Mm.c5.html [ SUCCESS ]
    Mm.c6                                   html  
REDIRECT:topic	 Mm.c6 -> Mm.c6.html [ SUCCESS ]
    Mm.c7                                   html  
REDIRECT:topic	 Mm.c7 -> Mm.c7.html [ SUCCESS ]
    egsea.data                              html  
REDIRECT:topic	 egsea.data -> egsea.data.html [ SUCCESS ]
    gsetdb.human                            html  
REDIRECT:topic	 gsetdb.human -> gsetdb.human.html [ SUCCESS ]
    gsetdb.mouse                            html  
REDIRECT:topic	 gsetdb.mouse -> gsetdb.mouse.html [ SUCCESS ]
    gsetdb.rat                              html  
REDIRECT:topic	 gsetdb.rat -> gsetdb.rat.html [ SUCCESS ]
    il13.data                               html  
REDIRECT:topic	 il13.data -> il13.data.html [ SUCCESS ]
    il13.data.cnt                           html  
REDIRECT:topic	 il13.data.cnt -> il13.data.cnt.html [ SUCCESS ]
    il13.gsa                                html  
REDIRECT:topic	 il13.gsa -> il13.gsa.html [ SUCCESS ]
    kegg.pathways                           html  
REDIRECT:topic	 kegg.pathways -> kegg.pathways.html [ SUCCESS ]
    mam.data                                html  
REDIRECT:topic	 mam.data -> mam.data.html [ SUCCESS ]
    msigdb                                  html  
REDIRECT:topic	 msigdb -> msigdb.html [ SUCCESS ]
** building package indices
** testing if installed package can be loaded from temporary location
** testing if installed package can be loaded from final location
** testing if installed package keeps a record of temporary installation path

install for x64

* installing *source* package 'EGSEAdata' ...
** testing if installed package can be loaded
* MD5 sums
packaged installation of 'EGSEAdata' as EGSEAdata_1.19.0.zip
* DONE (EGSEAdata)
* installing to library 'D:/biocbuild/bbs-3.13-bioc/R/library'
package 'EGSEAdata' successfully unpacked and MD5 sums checked