Back to Multiple platform build/check report for BioC 3.13 experimental data
ABC[D]EFGHIJKLMNOPQRSTUVWXYZ

INSTALL report for DvDdata on riesling1

This page was generated on 2021-01-14 15:59:07 -0500 (Thu, 14 Jan 2021).

TO THE DEVELOPERS/MAINTAINERS OF THE DvDdata PACKAGE: Please make sure to use the following settings in order to reproduce any error or warning you see on this page.
Package 106/385HostnameOS / ArchINSTALLBUILDCHECK
DvDdata 1.27.0
J. Saez-Rodriguez
Snapshot Date: 2021-01-14 09:00:13 -0500 (Thu, 14 Jan 2021)
URL: https://git.bioconductor.org/packages/DvDdata
Branch: master
Last Commit: 18a7380
Last Changed Date: 2020-10-27 10:00:42 -0500 (Tue, 27 Oct 2020)
malbec2 Linux (Ubuntu 20.04.1 LTS) / x86_64  OK  OK  OK UNNEEDED, same version exists in internal repository
riesling1 Windows Server 2019 Standard / x64 [ OK ] OK  OK 

Summary

Package: DvDdata
Version: 1.27.0
Command: C:\cygwin\bin\curl.exe -O http://172.29.0.4/BBS/3.13/data-experiment/src/contrib/DvDdata_1.27.0.tar.gz && rm -rf DvDdata.buildbin-libdir && mkdir DvDdata.buildbin-libdir && D:\biocbuild\bbs-3.13-bioc\R\bin\R.exe CMD INSTALL --merge-multiarch --build --library=DvDdata.buildbin-libdir DvDdata_1.27.0.tar.gz && D:\biocbuild\bbs-3.13-bioc\R\bin\R.exe CMD INSTALL DvDdata_1.27.0.zip && rm DvDdata_1.27.0.tar.gz DvDdata_1.27.0.zip
StartedAt: 2021-01-14 09:48:34 -0500 (Thu, 14 Jan 2021)
EndedAt: 2021-01-14 09:49:07 -0500 (Thu, 14 Jan 2021)
EllapsedTime: 33.3 seconds
RetCode: 0
Status:  OK  

Command output

##############################################################################
##############################################################################
###
### Running command:
###
###   C:\cygwin\bin\curl.exe -O http://172.29.0.4/BBS/3.13/data-experiment/src/contrib/DvDdata_1.27.0.tar.gz && rm -rf DvDdata.buildbin-libdir && mkdir DvDdata.buildbin-libdir && D:\biocbuild\bbs-3.13-bioc\R\bin\R.exe CMD INSTALL --merge-multiarch --build --library=DvDdata.buildbin-libdir DvDdata_1.27.0.tar.gz && D:\biocbuild\bbs-3.13-bioc\R\bin\R.exe CMD INSTALL DvDdata_1.27.0.zip && rm DvDdata_1.27.0.tar.gz DvDdata_1.27.0.zip
###
##############################################################################
##############################################################################


  % Total    % Received % Xferd  Average Speed   Time    Time     Time  Current
                                 Dload  Upload   Total   Spent    Left  Speed

  0     0    0     0    0     0      0      0 --:--:-- --:--:-- --:--:--     0
  2 43.7M    2  955k    0     0  4483k      0  0:00:09 --:--:--  0:00:09 4462k
 12 43.7M   12 5470k    0     0  4401k      0  0:00:10  0:00:01  0:00:09 4397k
 24 43.7M   24 10.6M    0     0  4905k      0  0:00:09  0:00:02  0:00:07 4902k
 32 43.7M   32 14.2M    0     0  4505k      0  0:00:09  0:00:03  0:00:06 4503k
 69 43.7M   69 30.5M    0     0  7428k      0  0:00:06  0:00:04  0:00:02 7426k
100 43.7M  100 43.7M    0     0  8740k      0  0:00:05  0:00:05 --:--:-- 8926k

install for i386

* installing *source* package 'DvDdata' ...
** using staged installation
** data
*** moving datasets to lazyload DB
** help
*** installing help indices
  converting help for package 'DvDdata'
    finding HTML links ... done
    DvDdata-package                         html  
REDIRECT:topic	 DvDdata-package -> DvDdata-package.html [ SUCCESS ]
REDIRECT:topic	 DvDdata -> DvDdata-package.html [ SUCCESS ]
    GEOfactorvalues                         html  
REDIRECT:topic	 GEOfactorvalues -> GEOfactorvalues.html [ SUCCESS ]
    annotationlist                          html  
REDIRECT:topic	 annotationlist -> annotationlist.html [ SUCCESS ]
    cytodisease                             html  
REDIRECT:topic	 cytodisease -> cytodisease.html [ SUCCESS ]
    cytodrug                                html  
REDIRECT:topic	 cytodrug -> cytodrug.html [ SUCCESS ]
    diseaseClusters                         html  
REDIRECT:topic	 diseaseClusters -> diseaseClusters.html [ SUCCESS ]
    diseaseRL                               html  
REDIRECT:topic	 diseaseRL -> diseaseRL.html [ SUCCESS ]
    diseaselabels                           html  
REDIRECT:topic	 diseaselabels -> diseaselabels.html [ SUCCESS ]
    drugClusters                            html  
REDIRECT:topic	 drugClusters -> drugClusters.html [ SUCCESS ]
    drugRL                                  html  
REDIRECT:topic	 drugRL -> drugRL.html [ SUCCESS ]
    druglabels                              html  
REDIRECT:topic	 druglabels -> druglabels.html [ SUCCESS ]
    genelist                                html  
REDIRECT:topic	 genelist -> genelist.html [ SUCCESS ]
** building package indices
** installing vignettes
** testing if installed package can be loaded from temporary location
** testing if installed package can be loaded from final location
** testing if installed package keeps a record of temporary installation path

install for x64

* installing *source* package 'DvDdata' ...
** testing if installed package can be loaded
* MD5 sums
packaged installation of 'DvDdata' as DvDdata_1.27.0.zip
* DONE (DvDdata)
* installing to library 'D:/biocbuild/bbs-3.13-bioc/R/library'
package 'DvDdata' successfully unpacked and MD5 sums checked