Back to Multiple platform build/check report for BioC 3.13 experimental data
ABC[D]EFGHIJKLMNOPQRSTUVWXYZ

BUILD report for DvDdata on riesling1

This page was generated on 2021-01-14 15:59:07 -0500 (Thu, 14 Jan 2021).

TO THE DEVELOPERS/MAINTAINERS OF THE DvDdata PACKAGE: Please make sure to use the following settings in order to reproduce any error or warning you see on this page.
Package 106/385HostnameOS / ArchINSTALLBUILDCHECK
DvDdata 1.27.0
J. Saez-Rodriguez
Snapshot Date: 2021-01-14 09:00:13 -0500 (Thu, 14 Jan 2021)
URL: https://git.bioconductor.org/packages/DvDdata
Branch: master
Last Commit: 18a7380
Last Changed Date: 2020-10-27 10:00:42 -0500 (Tue, 27 Oct 2020)
malbec2 Linux (Ubuntu 20.04.1 LTS) / x86_64  OK  OK  OK UNNEEDED, same version exists in internal repository
riesling1 Windows Server 2019 Standard / x64  OK [ OK ] OK 

Summary

Package: DvDdata
Version: 1.27.0
Command: chmod a+r DvDdata -R && D:\biocbuild\bbs-3.13-bioc\R\bin\R.exe CMD build --keep-empty-dirs --no-resave-data DvDdata
StartedAt: 2021-01-14 10:33:17 -0500 (Thu, 14 Jan 2021)
EndedAt: 2021-01-14 10:33:44 -0500 (Thu, 14 Jan 2021)
EllapsedTime: 27.0 seconds
RetCode: 0
Status:  OK  
PackageFile: DvDdata_1.27.0.tar.gz
PackageFileSize: 43.82 MiB

Command output

##############################################################################
##############################################################################
###
### Running command:
###
###   chmod a+r DvDdata -R && D:\biocbuild\bbs-3.13-bioc\R\bin\R.exe CMD build --keep-empty-dirs --no-resave-data DvDdata
###
##############################################################################
##############################################################################


* checking for file 'DvDdata/DESCRIPTION' ... OK
* preparing 'DvDdata':
* checking DESCRIPTION meta-information ... OK
* installing the package to build vignettes
* creating vignettes ... OK
* checking for LF line-endings in source and make files and shell scripts
* checking for empty or unneeded directories
* building 'DvDdata_1.27.0.tar.gz'