Back to Multiple platform build/check report for BioC 3.13 experimental data |
|
This page was generated on 2021-01-21 16:01:27 -0500 (Thu, 21 Jan 2021).
TO THE DEVELOPERS/MAINTAINERS OF THE DuoClustering2018 PACKAGE: Please make sure to use the following settings in order to reproduce any error or warning you see on this page. |
Package 105/386 | Hostname | OS / Arch | INSTALL | BUILD | CHECK | ||||||
DuoClustering2018 1.9.0 Angelo Duò
| malbec2 | Linux (Ubuntu 20.04.1 LTS) / x86_64 | OK | OK | OK | ![]() | |||||
riesling1 | Windows Server 2019 Standard / x64 | OK | [ OK ] | OK |
Package: DuoClustering2018 |
Version: 1.9.0 |
Command: chmod a+r DuoClustering2018 -R && D:\biocbuild\bbs-3.13-bioc\R\bin\R.exe CMD build --keep-empty-dirs --no-resave-data DuoClustering2018 |
StartedAt: 2021-01-21 10:36:51 -0500 (Thu, 21 Jan 2021) |
EndedAt: 2021-01-21 10:38:31 -0500 (Thu, 21 Jan 2021) |
EllapsedTime: 100.6 seconds |
RetCode: 0 |
Status: OK |
PackageFile: DuoClustering2018_1.9.0.tar.gz |
PackageFileSize: 1.022 MiB |
############################################################################## ############################################################################## ### ### Running command: ### ### chmod a+r DuoClustering2018 -R && D:\biocbuild\bbs-3.13-bioc\R\bin\R.exe CMD build --keep-empty-dirs --no-resave-data DuoClustering2018 ### ############################################################################## ############################################################################## * checking for file 'DuoClustering2018/DESCRIPTION' ... OK * preparing 'DuoClustering2018': * checking DESCRIPTION meta-information ... OK * installing the package to build vignettes * creating vignettes ... OK * checking for LF line-endings in source and make files and shell scripts * checking for empty or unneeded directories * building 'DuoClustering2018_1.9.0.tar.gz'