Back to Multiple platform build/check report for BioC 3.13 experimental data
ABC[D]EFGHIJKLMNOPQRSTUVWXYZ

INSTALL report for DrugVsDiseasedata on riesling1

This page was generated on 2021-01-21 16:01:27 -0500 (Thu, 21 Jan 2021).

TO THE DEVELOPERS/MAINTAINERS OF THE DrugVsDiseasedata PACKAGE: Please make sure to use the following settings in order to reproduce any error or warning you see on this page.
Package 103/386HostnameOS / ArchINSTALLBUILDCHECK
DrugVsDiseasedata 1.27.0
J. Saez-Rodriguez
Snapshot Date: 2021-01-21 09:00:14 -0500 (Thu, 21 Jan 2021)
URL: https://git.bioconductor.org/packages/DrugVsDiseasedata
Branch: master
Last Commit: 3e2ff74
Last Changed Date: 2020-10-27 10:01:18 -0500 (Tue, 27 Oct 2020)
malbec2 Linux (Ubuntu 20.04.1 LTS) / x86_64  OK  OK  OK UNNEEDED, same version exists in internal repository
riesling1 Windows Server 2019 Standard / x64 [ OK ] OK  OK 

Summary

Package: DrugVsDiseasedata
Version: 1.27.0
Command: C:\cygwin\bin\curl.exe -O http://172.29.0.4/BBS/3.13/data-experiment/src/contrib/DrugVsDiseasedata_1.27.0.tar.gz && rm -rf DrugVsDiseasedata.buildbin-libdir && mkdir DrugVsDiseasedata.buildbin-libdir && D:\biocbuild\bbs-3.13-bioc\R\bin\R.exe CMD INSTALL --merge-multiarch --build --library=DrugVsDiseasedata.buildbin-libdir DrugVsDiseasedata_1.27.0.tar.gz && D:\biocbuild\bbs-3.13-bioc\R\bin\R.exe CMD INSTALL DrugVsDiseasedata_1.27.0.zip && rm DrugVsDiseasedata_1.27.0.tar.gz DrugVsDiseasedata_1.27.0.zip
StartedAt: 2021-01-21 09:48:26 -0500 (Thu, 21 Jan 2021)
EndedAt: 2021-01-21 09:48:31 -0500 (Thu, 21 Jan 2021)
EllapsedTime: 4.9 seconds
RetCode: 0
Status:  OK  

Command output

##############################################################################
##############################################################################
###
### Running command:
###
###   C:\cygwin\bin\curl.exe -O http://172.29.0.4/BBS/3.13/data-experiment/src/contrib/DrugVsDiseasedata_1.27.0.tar.gz && rm -rf DrugVsDiseasedata.buildbin-libdir && mkdir DrugVsDiseasedata.buildbin-libdir && D:\biocbuild\bbs-3.13-bioc\R\bin\R.exe CMD INSTALL --merge-multiarch --build --library=DrugVsDiseasedata.buildbin-libdir DrugVsDiseasedata_1.27.0.tar.gz && D:\biocbuild\bbs-3.13-bioc\R\bin\R.exe CMD INSTALL DrugVsDiseasedata_1.27.0.zip && rm DrugVsDiseasedata_1.27.0.tar.gz DrugVsDiseasedata_1.27.0.zip
###
##############################################################################
##############################################################################


  % Total    % Received % Xferd  Average Speed   Time    Time     Time  Current
                                 Dload  Upload   Total   Spent    Left  Speed

  0     0    0     0    0     0      0      0 --:--:-- --:--:-- --:--:--     0
  0     0    0     0    0     0      0      0 --:--:-- --:--:-- --:--:--     0
100 4048k  100 4048k    0     0  4967k      0 --:--:-- --:--:-- --:--:-- 4960k

install for i386

* installing *source* package 'DrugVsDiseasedata' ...
** using staged installation
** data
*** moving datasets to lazyload DB
** help
*** installing help indices
  converting help for package 'DrugVsDiseasedata'
    finding HTML links ... done
    DrugVsDiseasedata-package               html  
REDIRECT:topic	 DrugVsDiseasedata-package -> DrugVsDiseasedata-package.html [ SUCCESS ]
REDIRECT:topic	 DrugVsDiseasedata -> DrugVsDiseasedata-package.html [ SUCCESS ]
    GEOfactorvalues                         html  
REDIRECT:topic	 GEOfactorvalues -> GEOfactorvalues.html [ SUCCESS ]
    annotationlist                          html  
REDIRECT:topic	 annotationlist -> annotationlist.html [ SUCCESS ]
    cytodisease                             html  
REDIRECT:topic	 cytodisease -> cytodisease.html [ SUCCESS ]
    diseaseClusters                         html  
REDIRECT:topic	 diseaseClusters -> diseaseClusters.html [ SUCCESS ]
    diseaseRL                               html  
REDIRECT:topic	 diseaseRL -> diseaseRL.html [ SUCCESS ]
    diseaselabels                           html  
REDIRECT:topic	 diseaselabels -> diseaselabels.html [ SUCCESS ]
    genelist                                html  
REDIRECT:topic	 genelist -> genelist.html [ SUCCESS ]
** building package indices
** installing vignettes
** testing if installed package can be loaded from temporary location
** testing if installed package can be loaded from final location
** testing if installed package keeps a record of temporary installation path

install for x64

* installing *source* package 'DrugVsDiseasedata' ...
** testing if installed package can be loaded
* MD5 sums
packaged installation of 'DrugVsDiseasedata' as DrugVsDiseasedata_1.27.0.zip
* DONE (DrugVsDiseasedata)
* installing to library 'D:/biocbuild/bbs-3.13-bioc/R/library'
package 'DrugVsDiseasedata' successfully unpacked and MD5 sums checked