Back to Multiple platform build/check report for BioC 3.13 experimental data |
|
This page was generated on 2021-01-14 15:59:07 -0500 (Thu, 14 Jan 2021).
TO THE DEVELOPERS/MAINTAINERS OF THE DrugVsDiseasedata PACKAGE: Please make sure to use the following settings in order to reproduce any error or warning you see on this page. |
Package 103/385 | Hostname | OS / Arch | INSTALL | BUILD | CHECK | ||||||
DrugVsDiseasedata 1.27.0 J. Saez-Rodriguez
| malbec2 | Linux (Ubuntu 20.04.1 LTS) / x86_64 | OK | OK | OK | ![]() | |||||
riesling1 | Windows Server 2019 Standard / x64 | OK | [ OK ] | OK |
Package: DrugVsDiseasedata |
Version: 1.27.0 |
Command: chmod a+r DrugVsDiseasedata -R && D:\biocbuild\bbs-3.13-bioc\R\bin\R.exe CMD build --keep-empty-dirs --no-resave-data DrugVsDiseasedata |
StartedAt: 2021-01-14 10:33:08 -0500 (Thu, 14 Jan 2021) |
EndedAt: 2021-01-14 10:33:15 -0500 (Thu, 14 Jan 2021) |
EllapsedTime: 6.6 seconds |
RetCode: 0 |
Status: OK |
PackageFile: DrugVsDiseasedata_1.27.0.tar.gz |
PackageFileSize: 4.037 MiB |
############################################################################## ############################################################################## ### ### Running command: ### ### chmod a+r DrugVsDiseasedata -R && D:\biocbuild\bbs-3.13-bioc\R\bin\R.exe CMD build --keep-empty-dirs --no-resave-data DrugVsDiseasedata ### ############################################################################## ############################################################################## * checking for file 'DrugVsDiseasedata/DESCRIPTION' ... OK * preparing 'DrugVsDiseasedata': * checking DESCRIPTION meta-information ... OK * installing the package to build vignettes * creating vignettes ... OK * checking for LF line-endings in source and make files and shell scripts * checking for empty or unneeded directories * building 'DrugVsDiseasedata_1.27.0.tar.gz'