Back to Multiple platform build/check report for BioC 3.13 experimental data
ABC[D]EFGHIJKLMNOPQRSTUVWXYZ

CHECK report for DropletTestFiles on riesling1

This page was generated on 2021-01-21 16:01:27 -0500 (Thu, 21 Jan 2021).

TO THE DEVELOPERS/MAINTAINERS OF THE DropletTestFiles PACKAGE: Please make sure to use the following settings in order to reproduce any error or warning you see on this page.
Package 102/386HostnameOS / ArchINSTALLBUILDCHECK
DropletTestFiles 1.1.0
Aaron Lun
Snapshot Date: 2021-01-21 09:00:14 -0500 (Thu, 21 Jan 2021)
URL: https://git.bioconductor.org/packages/DropletTestFiles
Branch: master
Last Commit: 0242945
Last Changed Date: 2020-10-27 10:32:28 -0500 (Tue, 27 Oct 2020)
malbec2 Linux (Ubuntu 20.04.1 LTS) / x86_64  OK  OK  OK UNNEEDED, same version exists in internal repository
riesling1 Windows Server 2019 Standard / x64  OK  OK [ OK ]

Summary

Package: DropletTestFiles
Version: 1.1.0
Command: D:\biocbuild\bbs-3.13-bioc\R\bin\R.exe CMD check --force-multiarch --install=check:DropletTestFiles.install-out.txt --library=D:\biocbuild\bbs-3.13-bioc\R\library --no-vignettes --timings DropletTestFiles_1.1.0.tar.gz
StartedAt: 2021-01-21 11:20:34 -0500 (Thu, 21 Jan 2021)
EndedAt: 2021-01-21 11:22:43 -0500 (Thu, 21 Jan 2021)
EllapsedTime: 129.3 seconds
RetCode: 0
Status:  OK  
CheckDir: DropletTestFiles.Rcheck
Warnings: 0

Command output

##############################################################################
##############################################################################
###
### Running command:
###
###   D:\biocbuild\bbs-3.13-bioc\R\bin\R.exe CMD check --force-multiarch --install=check:DropletTestFiles.install-out.txt --library=D:\biocbuild\bbs-3.13-bioc\R\library --no-vignettes --timings DropletTestFiles_1.1.0.tar.gz
###
##############################################################################
##############################################################################


* using log directory 'D:/biocbuild/bbs-3.13-data-experiment/meat/DropletTestFiles.Rcheck'
* using R Under development (unstable) (2020-12-30 r79736)
* using platform: x86_64-w64-mingw32 (64-bit)
* using session charset: ISO8859-1
* using option '--no-vignettes'
* checking for file 'DropletTestFiles/DESCRIPTION' ... OK
* this is package 'DropletTestFiles' version '1.1.0'
* package encoding: UTF-8
* checking package namespace information ... OK
* checking package dependencies ... OK
* checking if this is a source package ... OK
* checking if there is a namespace ... OK
* checking for hidden files and directories ... OK
* checking for portable file names ... OK
* checking whether package 'DropletTestFiles' can be installed ... OK
* checking installed package size ... OK
* checking package directory ... OK
* checking 'build' directory ... OK
* checking DESCRIPTION meta-information ... OK
* checking top-level files ... OK
* checking for left-over files ... OK
* checking index information ... OK
* checking package subdirectories ... OK
* checking R files for non-ASCII characters ... OK
* checking R files for syntax errors ... OK
* loading checks for arch 'i386'
** checking whether the package can be loaded ... OK
** checking whether the package can be loaded with stated dependencies ... OK
** checking whether the package can be unloaded cleanly ... OK
** checking whether the namespace can be loaded with stated dependencies ... OK
** checking whether the namespace can be unloaded cleanly ... OK
* loading checks for arch 'x64'
** checking whether the package can be loaded ... OK
** checking whether the package can be loaded with stated dependencies ... OK
** checking whether the package can be unloaded cleanly ... OK
** checking whether the namespace can be loaded with stated dependencies ... OK
** checking whether the namespace can be unloaded cleanly ... OK
* checking dependencies in R code ... OK
* checking S3 generic/method consistency ... OK
* checking replacement functions ... OK
* checking foreign function calls ... OK
* checking R code for possible problems ... OK
* checking Rd files ... OK
* checking Rd metadata ... OK
* checking Rd cross-references ... OK
* checking for missing documentation entries ... OK
* checking for code/documentation mismatches ... OK
* checking Rd \usage sections ... OK
* checking Rd contents ... OK
* checking for unstated dependencies in examples ... OK
* checking files in 'vignettes' ... OK
* checking examples ...
** running examples for arch 'i386' ... OK
Examples with CPU (user + system) or elapsed time > 5s
              user system elapsed
listTestFiles 6.21      1    9.69
** running examples for arch 'x64' ... OK
Examples with CPU (user + system) or elapsed time > 5s
              user system elapsed
listTestFiles  6.8   0.81    8.97
* checking for unstated dependencies in 'tests' ... OK
* checking tests ...
** running tests for arch 'i386' ...
  Running 'testthat.R'
 OK
** running tests for arch 'x64' ...
  Running 'testthat.R'
 OK
* checking for unstated dependencies in vignettes ... OK
* checking package vignettes in 'inst/doc' ... OK
* checking running R code from vignettes ... SKIPPED
* checking re-building of vignette outputs ... SKIPPED
* checking PDF version of manual ... OK
* DONE

Status: OK


Installation output

DropletTestFiles.Rcheck/00install.out

##############################################################################
##############################################################################
###
### Running command:
###
###   C:\cygwin\bin\curl.exe -O http://172.29.0.4/BBS/3.13/data-experiment/src/contrib/DropletTestFiles_1.1.0.tar.gz && rm -rf DropletTestFiles.buildbin-libdir && mkdir DropletTestFiles.buildbin-libdir && D:\biocbuild\bbs-3.13-bioc\R\bin\R.exe CMD INSTALL --merge-multiarch --build --library=DropletTestFiles.buildbin-libdir DropletTestFiles_1.1.0.tar.gz && D:\biocbuild\bbs-3.13-bioc\R\bin\R.exe CMD INSTALL DropletTestFiles_1.1.0.zip && rm DropletTestFiles_1.1.0.tar.gz DropletTestFiles_1.1.0.zip
###
##############################################################################
##############################################################################


  % Total    % Received % Xferd  Average Speed   Time    Time     Time  Current
                                 Dload  Upload   Total   Spent    Left  Speed

  0     0    0     0    0     0      0      0 --:--:-- --:--:-- --:--:--     0
100 10958  100 10958    0     0   411k      0 --:--:-- --:--:-- --:--:--  428k

install for i386

* installing *source* package 'DropletTestFiles' ...
** using staged installation
** R
** inst
** byte-compile and prepare package for lazy loading
** help
*** installing help indices
  converting help for package 'DropletTestFiles'
    finding HTML links ... done
    DropletTestFiles-package                html  
REDIRECT:topic	 DropletTestFiles -> DropletTestFiles-package.html [ SUCCESS ]
REDIRECT:file	 DropletTestFiles-package.html -> DropletTestFiles-package.html [ SUCCESS ]
    listTestFiles                           html  
REDIRECT:topic	 listTestFiles -> listTestFiles.html [ SUCCESS ]
REDIRECT:topic	 getTestFile -> listTestFiles.html [ SUCCESS ]
    finding level-2 HTML links ... done

** building package indices
** installing vignettes
** testing if installed package can be loaded from temporary location
** testing if installed package can be loaded from final location
** testing if installed package keeps a record of temporary installation path

install for x64

* installing *source* package 'DropletTestFiles' ...
** testing if installed package can be loaded
* MD5 sums
packaged installation of 'DropletTestFiles' as DropletTestFiles_1.1.0.zip
* DONE (DropletTestFiles)
* installing to library 'D:/biocbuild/bbs-3.13-bioc/R/library'
package 'DropletTestFiles' successfully unpacked and MD5 sums checked

Tests output

DropletTestFiles.Rcheck/tests_i386/testthat.Rout


R Under development (unstable) (2020-12-30 r79736) -- "Unsuffered Consequences"
Copyright (C) 2020 The R Foundation for Statistical Computing
Platform: i386-w64-mingw32/i386 (32-bit)

R is free software and comes with ABSOLUTELY NO WARRANTY.
You are welcome to redistribute it under certain conditions.
Type 'license()' or 'licence()' for distribution details.

R is a collaborative project with many contributors.
Type 'contributors()' for more information and
'citation()' on how to cite R or R packages in publications.

Type 'demo()' for some demos, 'help()' for on-line help, or
'help.start()' for an HTML browser interface to help.
Type 'q()' to quit R.

> library(testthat)
> library(DropletTestFiles)
> test_check("DropletTestFiles")
[ FAIL 0 | WARN 0 | SKIP 0 | PASS 9 ]
> 
> proc.time()
   user  system elapsed 
  13.46    1.62   17.71 

DropletTestFiles.Rcheck/tests_x64/testthat.Rout


R Under development (unstable) (2020-12-30 r79736) -- "Unsuffered Consequences"
Copyright (C) 2020 The R Foundation for Statistical Computing
Platform: x86_64-w64-mingw32/x64 (64-bit)

R is free software and comes with ABSOLUTELY NO WARRANTY.
You are welcome to redistribute it under certain conditions.
Type 'license()' or 'licence()' for distribution details.

R is a collaborative project with many contributors.
Type 'contributors()' for more information and
'citation()' on how to cite R or R packages in publications.

Type 'demo()' for some demos, 'help()' for on-line help, or
'help.start()' for an HTML browser interface to help.
Type 'q()' to quit R.

> library(testthat)
> library(DropletTestFiles)
> test_check("DropletTestFiles")
[ FAIL 0 | WARN 0 | SKIP 0 | PASS 9 ]
> 
> proc.time()
   user  system elapsed 
  14.35    1.65   20.18 

Example timings

DropletTestFiles.Rcheck/examples_i386/DropletTestFiles-Ex.timings

nameusersystemelapsed
listTestFiles6.211.009.69

DropletTestFiles.Rcheck/examples_x64/DropletTestFiles-Ex.timings

nameusersystemelapsed
listTestFiles6.800.818.97