Back to Multiple platform build/check report for BioC 3.13 experimental data |
|
This page was generated on 2021-01-21 16:01:27 -0500 (Thu, 21 Jan 2021).
TO THE DEVELOPERS/MAINTAINERS OF THE DonaPLLP2013 PACKAGE: Please make sure to use the following settings in order to reproduce any error or warning you see on this page. |
Package 98/386 | Hostname | OS / Arch | INSTALL | BUILD | CHECK | ||||||
DonaPLLP2013 1.29.0 Joseph D. Barry
| malbec2 | Linux (Ubuntu 20.04.1 LTS) / x86_64 | OK | OK | OK | ![]() | |||||
riesling1 | Windows Server 2019 Standard / x64 | OK | [ OK ] | OK |
Package: DonaPLLP2013 |
Version: 1.29.0 |
Command: chmod a+r DonaPLLP2013 -R && D:\biocbuild\bbs-3.13-bioc\R\bin\R.exe CMD build --keep-empty-dirs --no-resave-data DonaPLLP2013 |
StartedAt: 2021-01-21 10:36:03 -0500 (Thu, 21 Jan 2021) |
EndedAt: 2021-01-21 10:42:51 -0500 (Thu, 21 Jan 2021) |
EllapsedTime: 407.2 seconds |
RetCode: 0 |
Status: OK |
PackageFile: DonaPLLP2013_1.29.0.tar.gz |
PackageFileSize: 93.85 MiB |
############################################################################## ############################################################################## ### ### Running command: ### ### chmod a+r DonaPLLP2013 -R && D:\biocbuild\bbs-3.13-bioc\R\bin\R.exe CMD build --keep-empty-dirs --no-resave-data DonaPLLP2013 ### ############################################################################## ############################################################################## * checking for file 'DonaPLLP2013/DESCRIPTION' ... OK * preparing 'DonaPLLP2013': * checking DESCRIPTION meta-information ... OK * installing the package to build vignettes * creating vignettes ... OK * checking for LF line-endings in source and make files and shell scripts * checking for empty or unneeded directories * looking to see if a 'data/datalist' file should be added * building 'DonaPLLP2013_1.29.0.tar.gz'