Back to Multiple platform build/check report for BioC 3.13 experimental data
ABC[D]EFGHIJKLMNOPQRSTUVWXYZ

BUILD report for DmelSGI on riesling1

This page was generated on 2021-01-21 16:01:27 -0500 (Thu, 21 Jan 2021).

TO THE DEVELOPERS/MAINTAINERS OF THE DmelSGI PACKAGE: Please make sure to use the following settings in order to reproduce any error or warning you see on this page.
Package 96/386HostnameOS / ArchINSTALLBUILDCHECK
DmelSGI 1.23.3
Mike Smith
Snapshot Date: 2021-01-21 09:00:14 -0500 (Thu, 21 Jan 2021)
URL: https://git.bioconductor.org/packages/DmelSGI
Branch: master
Last Commit: 2b6365d
Last Changed Date: 2020-12-22 16:04:18 -0500 (Tue, 22 Dec 2020)
malbec2 Linux (Ubuntu 20.04.1 LTS) / x86_64  OK  OK  OK UNNEEDED, same version exists in internal repository
riesling1 Windows Server 2019 Standard / x64  OK [ OK ] OK 

Summary

Package: DmelSGI
Version: 1.23.3
Command: chmod a+r DmelSGI -R && D:\biocbuild\bbs-3.13-bioc\R\bin\R.exe CMD build --keep-empty-dirs --no-resave-data DmelSGI
StartedAt: 2021-01-21 10:35:55 -0500 (Thu, 21 Jan 2021)
EndedAt: 2021-01-21 10:40:13 -0500 (Thu, 21 Jan 2021)
EllapsedTime: 258.1 seconds
RetCode: 0
Status:  OK  
PackageFile: DmelSGI_1.23.3.tar.gz
PackageFileSize: 173.9 MiB

Command output

##############################################################################
##############################################################################
###
### Running command:
###
###   chmod a+r DmelSGI -R && D:\biocbuild\bbs-3.13-bioc\R\bin\R.exe CMD build --keep-empty-dirs --no-resave-data DmelSGI
###
##############################################################################
##############################################################################


* checking for file 'DmelSGI/DESCRIPTION' ... OK
* preparing 'DmelSGI':
* checking DESCRIPTION meta-information ... OK
* installing the package to build vignettes
* creating vignettes ... OK
* checking for LF line-endings in source and make files and shell scripts
* checking for empty or unneeded directories
* looking to see if a 'data/datalist' file should be added
* building 'DmelSGI_1.23.3.tar.gz'