Back to Multiple platform build/check report for BioC 3.13 experimental data
ABC[D]EFGHIJKLMNOPQRSTUVWXYZ

INSTALL report for DREAM4 on riesling1

This page was generated on 2021-01-21 16:01:27 -0500 (Thu, 21 Jan 2021).

TO THE DEVELOPERS/MAINTAINERS OF THE DREAM4 PACKAGE: Please make sure to use the following settings in order to reproduce any error or warning you see on this page.
Package 100/386HostnameOS / ArchINSTALLBUILDCHECK
DREAM4 1.27.0
Paul Shannon
Snapshot Date: 2021-01-21 09:00:14 -0500 (Thu, 21 Jan 2021)
URL: https://git.bioconductor.org/packages/DREAM4
Branch: master
Last Commit: 2906b37
Last Changed Date: 2020-10-27 10:01:15 -0500 (Tue, 27 Oct 2020)
malbec2 Linux (Ubuntu 20.04.1 LTS) / x86_64  OK  OK  WARNINGS UNNEEDED, same version exists in internal repository
riesling1 Windows Server 2019 Standard / x64 [ OK ] OK  WARNINGS 

Summary

Package: DREAM4
Version: 1.27.0
Command: C:\cygwin\bin\curl.exe -O http://172.29.0.4/BBS/3.13/data-experiment/src/contrib/DREAM4_1.27.0.tar.gz && rm -rf DREAM4.buildbin-libdir && mkdir DREAM4.buildbin-libdir && D:\biocbuild\bbs-3.13-bioc\R\bin\R.exe CMD INSTALL --merge-multiarch --build --library=DREAM4.buildbin-libdir DREAM4_1.27.0.tar.gz && D:\biocbuild\bbs-3.13-bioc\R\bin\R.exe CMD INSTALL DREAM4_1.27.0.zip && rm DREAM4_1.27.0.tar.gz DREAM4_1.27.0.zip
StartedAt: 2021-01-21 10:08:25 -0500 (Thu, 21 Jan 2021)
EndedAt: 2021-01-21 10:08:42 -0500 (Thu, 21 Jan 2021)
EllapsedTime: 17.4 seconds
RetCode: 0
Status:  OK  

Command output

##############################################################################
##############################################################################
###
### Running command:
###
###   C:\cygwin\bin\curl.exe -O http://172.29.0.4/BBS/3.13/data-experiment/src/contrib/DREAM4_1.27.0.tar.gz && rm -rf DREAM4.buildbin-libdir && mkdir DREAM4.buildbin-libdir && D:\biocbuild\bbs-3.13-bioc\R\bin\R.exe CMD INSTALL --merge-multiarch --build --library=DREAM4.buildbin-libdir DREAM4_1.27.0.tar.gz && D:\biocbuild\bbs-3.13-bioc\R\bin\R.exe CMD INSTALL DREAM4_1.27.0.zip && rm DREAM4_1.27.0.tar.gz DREAM4_1.27.0.zip
###
##############################################################################
##############################################################################


  % Total    % Received % Xferd  Average Speed   Time    Time     Time  Current
                                 Dload  Upload   Total   Spent    Left  Speed

  0     0    0     0    0     0      0      0 --:--:-- --:--:-- --:--:--     0
100 3164k  100 3164k    0     0  4626k      0 --:--:-- --:--:-- --:--:-- 4633k

install for i386

* installing *source* package 'DREAM4' ...
** using staged installation
** data
** inst
** help
*** installing help indices
  converting help for package 'DREAM4'
    finding HTML links ... done
    DREAM4                                  html  
REDIRECT:topic	 DREAM4 -> DREAM4.html [ SUCCESS ]
REDIRECT:topic	 dream4_010_01 -> DREAM4.html [ SUCCESS ]
REDIRECT:topic	 dream4_010_02 -> DREAM4.html [ SUCCESS ]
REDIRECT:topic	 dream4_010_03 -> DREAM4.html [ SUCCESS ]
REDIRECT:topic	 dream4_010_04 -> DREAM4.html [ SUCCESS ]
REDIRECT:topic	 dream4_010_05 -> DREAM4.html [ SUCCESS ]
REDIRECT:topic	 dream4_100_01 -> DREAM4.html [ SUCCESS ]
REDIRECT:topic	 dream4_100_02 -> DREAM4.html [ SUCCESS ]
REDIRECT:topic	 dream4_100_03 -> DREAM4.html [ SUCCESS ]
REDIRECT:topic	 dream4_100_04 -> DREAM4.html [ SUCCESS ]
REDIRECT:topic	 dream4_100_05 -> DREAM4.html [ SUCCESS ]
** building package indices
** installing vignettes
   'DREAM4.Rnw' using 'UTF-8' 
** testing if installed package can be loaded from temporary location
** testing if installed package can be loaded from final location
** testing if installed package keeps a record of temporary installation path

install for x64

* installing *source* package 'DREAM4' ...
** testing if installed package can be loaded
* MD5 sums
packaged installation of 'DREAM4' as DREAM4_1.27.0.zip
* DONE (DREAM4)
* installing to library 'D:/biocbuild/bbs-3.13-bioc/R/library'
package 'DREAM4' successfully unpacked and MD5 sums checked