Back to Multiple platform build/check report for BioC 3.13 experimental data
ABC[D]EFGHIJKLMNOPQRSTUVWXYZ

INSTALL report for DMRcatedata on riesling1

This page was generated on 2021-01-18 15:58:47 -0500 (Mon, 18 Jan 2021).

TO THE DEVELOPERS/MAINTAINERS OF THE DMRcatedata PACKAGE: Please make sure to use the following settings in order to reproduce any error or warning you see on this page.
Package 97/385HostnameOS / ArchINSTALLBUILDCHECK
DMRcatedata 2.9.0
Tim Peters
Snapshot Date: 2021-01-18 09:00:15 -0500 (Mon, 18 Jan 2021)
URL: https://git.bioconductor.org/packages/DMRcatedata
Branch: master
Last Commit: 4ef423d
Last Changed Date: 2020-10-27 10:08:17 -0500 (Tue, 27 Oct 2020)
malbec2 Linux (Ubuntu 20.04.1 LTS) / x86_64  OK  OK  OK UNNEEDED, same version exists in internal repository
riesling1 Windows Server 2019 Standard / x64 [ OK ] OK  OK 

Summary

Package: DMRcatedata
Version: 2.9.0
Command: C:\cygwin\bin\curl.exe -O http://172.29.0.4/BBS/3.13/data-experiment/src/contrib/DMRcatedata_2.9.0.tar.gz && rm -rf DMRcatedata.buildbin-libdir && mkdir DMRcatedata.buildbin-libdir && D:\biocbuild\bbs-3.13-bioc\R\bin\R.exe CMD INSTALL --merge-multiarch --build --library=DMRcatedata.buildbin-libdir DMRcatedata_2.9.0.tar.gz && D:\biocbuild\bbs-3.13-bioc\R\bin\R.exe CMD INSTALL DMRcatedata_2.9.0.zip && rm DMRcatedata_2.9.0.tar.gz DMRcatedata_2.9.0.zip
StartedAt: 2021-01-18 10:18:36 -0500 (Mon, 18 Jan 2021)
EndedAt: 2021-01-18 10:19:17 -0500 (Mon, 18 Jan 2021)
EllapsedTime: 40.5 seconds
RetCode: 0
Status:  OK  

Command output

##############################################################################
##############################################################################
###
### Running command:
###
###   C:\cygwin\bin\curl.exe -O http://172.29.0.4/BBS/3.13/data-experiment/src/contrib/DMRcatedata_2.9.0.tar.gz && rm -rf DMRcatedata.buildbin-libdir && mkdir DMRcatedata.buildbin-libdir && D:\biocbuild\bbs-3.13-bioc\R\bin\R.exe CMD INSTALL --merge-multiarch --build --library=DMRcatedata.buildbin-libdir DMRcatedata_2.9.0.tar.gz && D:\biocbuild\bbs-3.13-bioc\R\bin\R.exe CMD INSTALL DMRcatedata_2.9.0.zip && rm DMRcatedata_2.9.0.tar.gz DMRcatedata_2.9.0.zip
###
##############################################################################
##############################################################################


  % Total    % Received % Xferd  Average Speed   Time    Time     Time  Current
                                 Dload  Upload   Total   Spent    Left  Speed

  0     0    0     0    0     0      0      0 --:--:-- --:--:-- --:--:--     0
100  6704  100  6704    0     0   225k      0 --:--:-- --:--:-- --:--:--  225k

install for i386

* installing *source* package 'DMRcatedata' ...
** using staged installation
** inst
** help
*** installing help indices
  converting help for package 'DMRcatedata'
    finding HTML links ... done
    DMRcatedata-package                     html  
REDIRECT:topic	 DMRcatedata-package -> DMRcatedata-package.html [ SUCCESS ]
REDIRECT:topic	 DMRcatedata -> DMRcatedata-package.html [ SUCCESS ]
    XY.probes                               html  
REDIRECT:topic	 XY.probes -> XY.probes.html [ SUCCESS ]
    crosshyb                                html  
REDIRECT:topic	 crosshyb -> crosshyb.html [ SUCCESS ]
    hg19.generanges                         html  
REDIRECT:topic	 hg19.generanges -> hg19.generanges.html [ SUCCESS ]
    hg19.grt                                html  
REDIRECT:topic	 hg19.grt -> hg19.grt.html [ SUCCESS ]
    hg38.generanges                         html  
REDIRECT:topic	 hg38.generanges -> hg38.generanges.html [ SUCCESS ]
    hg38.grt                                html  
REDIRECT:topic	 hg38.grt -> hg38.grt.html [ SUCCESS ]
    mm10.generanges                         html  
REDIRECT:topic	 mm10.generanges -> mm10.generanges.html [ SUCCESS ]
    mm10.grt                                html  
REDIRECT:topic	 mm10.grt -> mm10.grt.html [ SUCCESS ]
    snpsall                                 html  
REDIRECT:topic	 snpsall -> snpsall.html [ SUCCESS ]
** building package indices
** installing vignettes
** testing if installed package can be loaded from temporary location
** testing if installed package can be loaded from final location
** testing if installed package keeps a record of temporary installation path

install for x64

* installing *source* package 'DMRcatedata' ...
** testing if installed package can be loaded
* MD5 sums
packaged installation of 'DMRcatedata' as DMRcatedata_2.9.0.zip
* DONE (DMRcatedata)
* installing to library 'D:/biocbuild/bbs-3.13-bioc/R/library'
package 'DMRcatedata' successfully unpacked and MD5 sums checked