Back to Multiple platform build/check report for BioC 3.13 experimental data
ABC[D]EFGHIJKLMNOPQRSTUVWXYZ

INSTALL report for DLBCL on riesling1

This page was generated on 2021-01-14 15:59:07 -0500 (Thu, 14 Jan 2021).

TO THE DEVELOPERS/MAINTAINERS OF THE DLBCL PACKAGE: Please make sure to use the following settings in order to reproduce any error or warning you see on this page.
Package 95/385HostnameOS / ArchINSTALLBUILDCHECK
DLBCL 1.31.0
Marcus Dittrich
Snapshot Date: 2021-01-14 09:00:13 -0500 (Thu, 14 Jan 2021)
URL: https://git.bioconductor.org/packages/DLBCL
Branch: master
Last Commit: b40e1f0
Last Changed Date: 2020-10-27 09:51:57 -0500 (Tue, 27 Oct 2020)
malbec2 Linux (Ubuntu 20.04.1 LTS) / x86_64  OK  OK  WARNINGS UNNEEDED, same version exists in internal repository
riesling1 Windows Server 2019 Standard / x64 [ OK ] OK  WARNINGS 

Summary

Package: DLBCL
Version: 1.31.0
Command: C:\cygwin\bin\curl.exe -O http://172.29.0.4/BBS/3.13/data-experiment/src/contrib/DLBCL_1.31.0.tar.gz && rm -rf DLBCL.buildbin-libdir && mkdir DLBCL.buildbin-libdir && D:\biocbuild\bbs-3.13-bioc\R\bin\R.exe CMD INSTALL --merge-multiarch --build --library=DLBCL.buildbin-libdir DLBCL_1.31.0.tar.gz && D:\biocbuild\bbs-3.13-bioc\R\bin\R.exe CMD INSTALL DLBCL_1.31.0.zip && rm DLBCL_1.31.0.tar.gz DLBCL_1.31.0.zip
StartedAt: 2021-01-14 10:02:29 -0500 (Thu, 14 Jan 2021)
EndedAt: 2021-01-14 10:02:37 -0500 (Thu, 14 Jan 2021)
EllapsedTime: 7.9 seconds
RetCode: 0
Status:  OK  

Command output

##############################################################################
##############################################################################
###
### Running command:
###
###   C:\cygwin\bin\curl.exe -O http://172.29.0.4/BBS/3.13/data-experiment/src/contrib/DLBCL_1.31.0.tar.gz && rm -rf DLBCL.buildbin-libdir && mkdir DLBCL.buildbin-libdir && D:\biocbuild\bbs-3.13-bioc\R\bin\R.exe CMD INSTALL --merge-multiarch --build --library=DLBCL.buildbin-libdir DLBCL_1.31.0.tar.gz && D:\biocbuild\bbs-3.13-bioc\R\bin\R.exe CMD INSTALL DLBCL_1.31.0.zip && rm DLBCL_1.31.0.tar.gz DLBCL_1.31.0.zip
###
##############################################################################
##############################################################################


  % Total    % Received % Xferd  Average Speed   Time    Time     Time  Current
                                 Dload  Upload   Total   Spent    Left  Speed

  0     0    0     0    0     0      0      0 --:--:-- --:--:-- --:--:--     0
100 5657k  100 5657k    0     0  34.9M      0 --:--:-- --:--:-- --:--:-- 34.9M

install for i386

* installing *source* package 'DLBCL' ...
** using staged installation
** data
** help
*** installing help indices
  converting help for package 'DLBCL'
    finding HTML links ... done
    DLBCL-package                           html  
REDIRECT:topic	 DLBCL-package -> DLBCL-package.html [ SUCCESS ]
REDIRECT:topic	 DLBCL -> DLBCL-package.html [ SUCCESS ]
    dataLym                                 html  
REDIRECT:topic	 dataLym -> dataLym.html [ SUCCESS ]
    exprLym                                 html  
REDIRECT:topic	 exprLym -> exprLym.html [ SUCCESS ]
    interactome                             html  
REDIRECT:topic	 interactome -> interactome.html [ SUCCESS ]
** building package indices
** testing if installed package can be loaded from temporary location
** testing if installed package can be loaded from final location
** testing if installed package keeps a record of temporary installation path

install for x64

* installing *source* package 'DLBCL' ...
** testing if installed package can be loaded
* MD5 sums
packaged installation of 'DLBCL' as DLBCL_1.31.0.zip
* DONE (DLBCL)
* installing to library 'D:/biocbuild/bbs-3.13-bioc/R/library'
package 'DLBCL' successfully unpacked and MD5 sums checked