Back to Multiple platform build/check report for BioC 3.13 experimental data
ABC[D]EFGHIJKLMNOPQRSTUVWXYZ

INSTALL report for DAPARdata on riesling1

This page was generated on 2021-01-14 15:59:07 -0500 (Thu, 14 Jan 2021).

TO THE DEVELOPERS/MAINTAINERS OF THE DAPARdata PACKAGE: Please make sure to use the following settings in order to reproduce any error or warning you see on this page.
Package 88/385HostnameOS / ArchINSTALLBUILDCHECK
DAPARdata 1.21.0
Samuel Wieczorek
Snapshot Date: 2021-01-14 09:00:13 -0500 (Thu, 14 Jan 2021)
URL: https://git.bioconductor.org/packages/DAPARdata
Branch: master
Last Commit: bc1bf19
Last Changed Date: 2020-10-27 10:18:29 -0500 (Tue, 27 Oct 2020)
malbec2 Linux (Ubuntu 20.04.1 LTS) / x86_64  OK  OK  WARNINGS UNNEEDED, same version exists in internal repository
riesling1 Windows Server 2019 Standard / x64 [ OK ] OK  WARNINGS 

Summary

Package: DAPARdata
Version: 1.21.0
Command: C:\cygwin\bin\curl.exe -O http://172.29.0.4/BBS/3.13/data-experiment/src/contrib/DAPARdata_1.21.0.tar.gz && rm -rf DAPARdata.buildbin-libdir && mkdir DAPARdata.buildbin-libdir && D:\biocbuild\bbs-3.13-bioc\R\bin\R.exe CMD INSTALL --merge-multiarch --build --library=DAPARdata.buildbin-libdir DAPARdata_1.21.0.tar.gz && D:\biocbuild\bbs-3.13-bioc\R\bin\R.exe CMD INSTALL DAPARdata_1.21.0.zip && rm DAPARdata_1.21.0.tar.gz DAPARdata_1.21.0.zip
StartedAt: 2021-01-14 10:14:07 -0500 (Thu, 14 Jan 2021)
EndedAt: 2021-01-14 10:14:35 -0500 (Thu, 14 Jan 2021)
EllapsedTime: 27.2 seconds
RetCode: 0
Status:  OK  

Command output

##############################################################################
##############################################################################
###
### Running command:
###
###   C:\cygwin\bin\curl.exe -O http://172.29.0.4/BBS/3.13/data-experiment/src/contrib/DAPARdata_1.21.0.tar.gz && rm -rf DAPARdata.buildbin-libdir && mkdir DAPARdata.buildbin-libdir && D:\biocbuild\bbs-3.13-bioc\R\bin\R.exe CMD INSTALL --merge-multiarch --build --library=DAPARdata.buildbin-libdir DAPARdata_1.21.0.tar.gz && D:\biocbuild\bbs-3.13-bioc\R\bin\R.exe CMD INSTALL DAPARdata_1.21.0.zip && rm DAPARdata_1.21.0.tar.gz DAPARdata_1.21.0.zip
###
##############################################################################
##############################################################################


  % Total    % Received % Xferd  Average Speed   Time    Time     Time  Current
                                 Dload  Upload   Total   Spent    Left  Speed

  0     0    0     0    0     0      0      0 --:--:-- --:--:-- --:--:--     0
100 29.3M  100 29.3M    0     0   106M      0 --:--:-- --:--:-- --:--:--  106M

install for i386

* installing *source* package 'DAPARdata' ...
** using staged installation
** R
** data
** inst
** byte-compile and prepare package for lazy loading
** help
*** installing help indices
  converting help for package 'DAPARdata'
    finding HTML links ... done
    DAPARdata                               html  
REDIRECT:topic	 DAPARdata -> DAPARdata.html [ SUCCESS ]
    Exp1_R25_pept                           html  
REDIRECT:topic	 Exp1_R25_pept -> Exp1_R25_pept.html [ SUCCESS ]
    finding level-2 HTML links ... done

    Exp1_R25_prot                           html  
REDIRECT:topic	 Exp1_R25_prot -> Exp1_R25_prot.html [ SUCCESS ]
    Exp1_R2_pept                            html  
REDIRECT:topic	 Exp1_R2_pept -> Exp1_R2_pept.html [ SUCCESS ]
    Exp1_R2_prot                            html  
REDIRECT:topic	 Exp1_R2_prot -> Exp1_R2_prot.html [ SUCCESS ]
    Exp2_R100_pept                          html  
REDIRECT:topic	 Exp2_R100_pept -> Exp2_R100_pept.html [ SUCCESS ]
    Exp2_R100_prot                          html  
REDIRECT:topic	 Exp2_R100_prot -> Exp2_R100_prot.html [ SUCCESS ]
    Exp2_R10_pept                           html  
REDIRECT:topic	 Exp2_R10_pept -> Exp2_R10_pept.html [ SUCCESS ]
    Exp2_R10_prot                           html  
REDIRECT:topic	 Exp2_R10_prot -> Exp2_R10_prot.html [ SUCCESS ]
    Exp2_R2_pept                            html  
REDIRECT:topic	 Exp2_R2_pept -> Exp2_R2_pept.html [ SUCCESS ]
    Exp2_R2_prot                            html  
REDIRECT:topic	 Exp2_R2_prot -> Exp2_R2_prot.html [ SUCCESS ]
** building package indices
** testing if installed package can be loaded from temporary location
** testing if installed package can be loaded from final location
** testing if installed package keeps a record of temporary installation path

install for x64

* installing *source* package 'DAPARdata' ...
** testing if installed package can be loaded
* MD5 sums
packaged installation of 'DAPARdata' as DAPARdata_1.21.0.zip
* DONE (DAPARdata)
* installing to library 'D:/biocbuild/bbs-3.13-bioc/R/library'
package 'DAPARdata' successfully unpacked and MD5 sums checked