Back to Multiple platform build/check report for BioC 3.13 experimental data
AB[C]DEFGHIJKLMNOPQRSTUVWXYZ

INSTALL report for CopyhelpeR on riesling1

This page was generated on 2021-01-14 15:59:07 -0500 (Thu, 14 Jan 2021).

TO THE DEVELOPERS/MAINTAINERS OF THE CopyhelpeR PACKAGE: Please make sure to use the following settings in order to reproduce any error or warning you see on this page.
Package 75/385HostnameOS / ArchINSTALLBUILDCHECK
CopyhelpeR 1.23.0
Oscar Krijgsman
Snapshot Date: 2021-01-14 09:00:13 -0500 (Thu, 14 Jan 2021)
URL: https://git.bioconductor.org/packages/CopyhelpeR
Branch: master
Last Commit: 995a539
Last Changed Date: 2020-10-27 10:12:43 -0500 (Tue, 27 Oct 2020)
malbec2 Linux (Ubuntu 20.04.1 LTS) / x86_64  OK  OK  OK UNNEEDED, same version exists in internal repository
riesling1 Windows Server 2019 Standard / x64 [ OK ] OK  OK 

Summary

Package: CopyhelpeR
Version: 1.23.0
Command: C:\cygwin\bin\curl.exe -O http://172.29.0.4/BBS/3.13/data-experiment/src/contrib/CopyhelpeR_1.23.0.tar.gz && rm -rf CopyhelpeR.buildbin-libdir && mkdir CopyhelpeR.buildbin-libdir && D:\biocbuild\bbs-3.13-bioc\R\bin\R.exe CMD INSTALL --merge-multiarch --build --library=CopyhelpeR.buildbin-libdir CopyhelpeR_1.23.0.tar.gz && D:\biocbuild\bbs-3.13-bioc\R\bin\R.exe CMD INSTALL CopyhelpeR_1.23.0.zip && rm CopyhelpeR_1.23.0.tar.gz CopyhelpeR_1.23.0.zip
StartedAt: 2021-01-14 09:51:31 -0500 (Thu, 14 Jan 2021)
EndedAt: 2021-01-14 09:51:43 -0500 (Thu, 14 Jan 2021)
EllapsedTime: 11.1 seconds
RetCode: 0
Status:  OK  

Command output

##############################################################################
##############################################################################
###
### Running command:
###
###   C:\cygwin\bin\curl.exe -O http://172.29.0.4/BBS/3.13/data-experiment/src/contrib/CopyhelpeR_1.23.0.tar.gz && rm -rf CopyhelpeR.buildbin-libdir && mkdir CopyhelpeR.buildbin-libdir && D:\biocbuild\bbs-3.13-bioc\R\bin\R.exe CMD INSTALL --merge-multiarch --build --library=CopyhelpeR.buildbin-libdir CopyhelpeR_1.23.0.tar.gz && D:\biocbuild\bbs-3.13-bioc\R\bin\R.exe CMD INSTALL CopyhelpeR_1.23.0.zip && rm CopyhelpeR_1.23.0.tar.gz CopyhelpeR_1.23.0.zip
###
##############################################################################
##############################################################################


  % Total    % Received % Xferd  Average Speed   Time    Time     Time  Current
                                 Dload  Upload   Total   Spent    Left  Speed

  0     0    0     0    0     0      0      0 --:--:-- --:--:-- --:--:--     0
  2 42.8M    2 1144k    0     0  1685k      0  0:00:26 --:--:--  0:00:26 1683k
 75 42.8M   75 32.5M    0     0  20.3M      0  0:00:02  0:00:01  0:00:01 20.3M
 92 42.8M   92 39.4M    0     0  13.6M      0  0:00:03  0:00:02  0:00:01 13.6M
100 42.8M  100 42.8M    0     0  14.2M      0  0:00:02  0:00:02 --:--:-- 14.2M

install for i386

* installing *source* package 'CopyhelpeR' ...
** using staged installation
** R
** inst
** byte-compile and prepare package for lazy loading
** help
*** installing help indices
  converting help for package 'CopyhelpeR'
    finding HTML links ... done
    getPathHelperFiles                      html  
REDIRECT:topic	 getPathHelperFiles -> getPathHelperFiles.html [ SUCCESS ]
REDIRECT:topic	 CopyhelpeR -> getPathHelperFiles.html [ SUCCESS ]
** building package indices
** installing vignettes
** testing if installed package can be loaded from temporary location
** testing if installed package can be loaded from final location
** testing if installed package keeps a record of temporary installation path

install for x64

* installing *source* package 'CopyhelpeR' ...
** testing if installed package can be loaded
* MD5 sums
packaged installation of 'CopyhelpeR' as CopyhelpeR_1.23.0.zip
* DONE (CopyhelpeR)
* installing to library 'D:/biocbuild/bbs-3.13-bioc/R/library'
package 'CopyhelpeR' successfully unpacked and MD5 sums checked